Workbook

Sheet נספח 1 - מצרפי
A1: נספח 1- סך ההוצאות הישירות ששולמו בעד כל סוג של הוצאה ישירה לתקופה המסתיימת ביום 31.12.2025
A3: שם חברת הביטוח: הכשרה חברה לביטוח - משתתפות ברווחים | B3: אלפי ₪
A5: 31.12.2025 נספח 1- סך ההוצאות הישירות ששולמו בעד כל סוג של הוצאה ישירה לתקופה המסתיימת ביום
A7: הוצאות ישירות שאינן מסוג עמלת ניהול חיצוני
A8: 1. סך הכל עמלות קנייה ומכירה של ניירות ערך סחירים | B8: =SUM(B9:B10) -> 10231.248
A9: א. סך עמלות קנייה ומכירה של ניירות ערך סחירים לצדדים קשורים
A10: ב. סך עמלות קנייה ומכירה של ניירות ערך סחירים לצדדים שאינם קשורים | B10: ='קרן ט'!B10+'קרן י'!B10+'הכשרה כללי'!B10+'הכשרה אגח ממשלות'!B10+'הכשרה מניות'!B10+'כספי שקלי'!B10+'הכשרה לבני 50 ומטה'!B10+'הכשרה לבני 50-60'!B10+'הכשרה לבני 60 ומעלה'!B10+'הכשרה מקבלי קצבה'!B10+'הכשרה אשראי ואג"ח'!B10+'הכשרה אשראי ואג"ח עד 25%'!B10+'הכשרה עוקב מדדים גמיש'!B10+'הכשרה משולב סחיר'!B10+'אלשטולר כללי'!B10+'אלשטושלר מניות'!B10+'אלטשולר אג"ח'!B10+'ילין כללי'!B10+'ילין מניות'!B10+'ילין אג"ח'!B10+'מיטב כללי'!B10+'מיטב מניות'!B10+'מיטב אג"ח'!B10+'הכשרה עוקב מדד SP500'!B10+'מור כללי'!B10+'מור מניות'!B10+'מור אג"ח'!B10+'אנליסט כללי'!B10+'אנליסט מניות'!B10+'אנליסט אג"ח'!B10 -> 10231.248
A12: 2. סך הכל דמי שמירה בשל ניירות ערך סחירים וכל עמלה שגובה מי שמבצע את משמרות ניירות הערך עמלות (קסטודיאן) | B12: =SUM(B13:B14) -> 51.661083
A13: א. סך עמלות קסטודיאן לצדדים קשורים
A14: ב. סך עמלות קסטודיאן לצדדים שאינם קשורים | B14: ='קרן ט'!B14+'קרן י'!B14+'הכשרה כללי'!B14+'הכשרה אגח ממשלות'!B14+'הכשרה מניות'!B14+'כספי שקלי'!B14+'הכשרה לבני 50 ומטה'!B14+'הכשרה לבני 50-60'!B14+'הכשרה לבני 60 ומעלה'!B14+'הכשרה מקבלי קצבה'!B14+'הכשרה אשראי ואג"ח'!B14+'הכשרה אשראי ואג"ח עד 25%'!B14+'הכשרה עוקב מדדים גמיש'!B14+'הכשרה משולב סחיר'!B14+'אלשטולר כללי'!B14+'אלשטושלר מניות'!B14+'אלטשולר אג"ח'!B14+'ילין כללי'!B14+'ילין מניות'!B14+'ילין אג"ח'!B14+'מיטב כללי'!B14+'מיטב מניות'!B14+'מיטב אג"ח'!B14+'הכשרה עוקב מדד SP500'!B14+'מור כללי'!B14+'מור מניות'!B14+'מור אג"ח'!B14+'אנליסט כללי'!B14+'אנליסט מניות'!B14+'אנליסט אג"ח'!B14 -> 51.661083
A16: 3. סך הכל הוצאות הנובעות מהשקעות לא סחירות | B16: =SUM(B17:B19) -> 276.11282
A17: א. הוצאה הנובעת מהשקעה בניירות ערך לא סחירים או ממתן הלוואה למי שאינו עמית או מבוטח | B17: ='קרן ט'!B17+'קרן י'!B17+'הכשרה כללי'!B17+'הכשרה אגח ממשלות'!B17+'הכשרה מניות'!B17+'כספי שקלי'!B17+'הכשרה לבני 50 ומטה'!B17+'הכשרה לבני 50-60'!B17+'הכשרה לבני 60 ומעלה'!B17+'הכשרה מקבלי קצבה'!B17+'הכשרה אשראי ואג"ח'!B17+'הכשרה אשראי ואג"ח עד 25%'!B17+'הכשרה עוקב מדדים גמיש'!B17+'הכשרה משולב סחיר'!B17+'אלשטולר כללי'!B17+'אלשטושלר מניות'!B17+'אלטשולר אג"ח'!B17+'ילין כללי'!B17+'ילין מניות'!B17+'ילין אג"ח'!B17+'מיטב כללי'!B17+'מיטב מניות'!B17+'מיטב אג"ח'!B17+'הכשרה עוקב מדד SP500'!B17+'מור כללי'!B17+'מור מניות'!B17+'מור אג"ח'!B17+'אנליסט כללי'!B17+'אנליסט מניות'!B17+'אנליסט אג"ח'!B17 -> 276.11282
A18: ב. הוצאה הנובעת מהשקעה בזכויות במקרקעין | B18: ='קרן ט'!B18+'קרן י'!B18+'הכשרה כללי'!B18+'הכשרה אגח ממשלות'!B18+'הכשרה מניות'!B18+'כספי שקלי'!B18+'הכשרה לבני 50 ומטה'!B18+'הכשרה לבני 50-60'!B18+'הכשרה לבני 60 ומעלה'!B18+'הכשרה מקבלי קצבה'!B18+'הכשרה אשראי ואג"ח'!B18+'הכשרה אשראי ואג"ח עד 25%'!B18+'הכשרה עוקב מדדים גמיש'!B18+'הכשרה משולב סחיר'!B18+'אלשטולר כללי'!B18+'אלשטושלר מניות'!B18+'אלטשולר אג"ח'!B18+'ילין כללי'!B18+'ילין מניות'!B18+'ילין אג"ח'!B18+'מיטב כללי'!B18+'מיטב מניות'!B18+'מיטב אג"ח'!B18+'הכשרה עוקב מדד SP500'!B18+'מור כללי'!B18+'מור מניות'!B18+'מור אג"ח'!B18+'אנליסט כללי'!B18+'אנליסט מניות'!B18+'אנליסט אג"ח'!B18 -> 0
A20: 4. מסים החלים על משקיע מוסדי, על נכסיו, על הכנסותיו ועל עסקאות שנעשו בנכסיו | B20: ='קרן ט'!B20+'קרן י'!B20+'הכשרה כללי'!B20+'הכשרה אגח ממשלות'!B20+'הכשרה מניות'!B20+'כספי שקלי'!B20+'הכשרה לבני 50 ומטה'!B20+'הכשרה לבני 50-60'!B20+'הכשרה לבני 60 ומעלה'!B20+'הכשרה מקבלי קצבה'!B20+'הכשרה אשראי ואג"ח'!B20+'הכשרה אשראי ואג"ח עד 25%'!B20+'הכשרה עוקב מדדים גמיש'!B20+'הכשרה משולב סחיר'!B20+'אלשטולר כללי'!B20+'אלשטושלר מניות'!B20+'אלטשולר אג"ח'!B20+'ילין כללי'!B20+'ילין מניות'!B20+'ילין אג"ח'!B20+'מיטב כללי'!B20+'מיטב מניות'!B20+'מיטב אג"ח'!B20+'הכשרה עוקב מדד SP500'!B20+'מור כללי'!B20+'מור מניות'!B20+'מור אג"ח'!B20+'אנליסט כללי'!B20+'אנליסט מניות'!B20+'אנליסט אג"ח'!B20 -> 8536.7313
A22: 5. סך הוצאות בעד ניהול תביעות | B22: ='קרן ט'!B22+'קרן י'!B22+'הכשרה כללי'!B22+'הכשרה אגח ממשלות'!B22+'הכשרה מניות'!B22+'כספי שקלי'!B22+'הכשרה לבני 50 ומטה'!B22+'הכשרה לבני 50-60'!B22+'הכשרה לבני 60 ומעלה'!B22+'הכשרה מקבלי קצבה'!B22+'הכשרה אשראי ואג"ח'!B22+'הכשרה עוקב מדדים גמיש'!B22+'הכשרה משולב סחיר'!B22+'אלשטולר כללי'!B22+'אלשטושלר מניות'!B22+'אלטשולר אג"ח'!B22+'ילין כללי'!B22+'ילין מניות'!B22+'ילין אג"ח'!B22+'מיטב כללי'!B22+'מיטב מניות'!B22+'מיטב אג"ח'!B22+'הכשרה עוקב מדד SP500'!B22+'מור כללי'!B22+'מור מניות'!B22+'מור אג"ח'!B22+'אנליסט כללי'!B22+'אנליסט מניות'!B22+'אנליסט אג"ח'!B22 -> 0
A24: 6. סך הוצאות בעד מתן משכנתאות | B24: ='קרן ט'!B24+'קרן י'!B24+'הכשרה כללי'!B24+'הכשרה אגח ממשלות'!B24+'הכשרה מניות'!B24+'כספי שקלי'!B24+'הכשרה לבני 50 ומטה'!B24+'הכשרה לבני 50-60'!B24+'הכשרה לבני 60 ומעלה'!B24+'הכשרה מקבלי קצבה'!B24+'הכשרה אשראי ואג"ח'!B24+'הכשרה עוקב מדדים גמיש'!B24+'הכשרה משולב סחיר'!B24+'אלשטולר כללי'!B24+'אלשטושלר מניות'!B24+'אלטשולר אג"ח'!B24+'ילין כללי'!B24+'ילין מניות'!B24+'ילין אג"ח'!B24+'מיטב כללי'!B24+'מיטב מניות'!B24+'מיטב אג"ח'!B24+'הכשרה עוקב מדד SP500'!B24+'מור כללי'!B24+'מור מניות'!B24+'מור אג"ח'!B24+'אנליסט כללי'!B24+'אנליסט מניות'!B24+'אנליסט אג"ח'!B24 -> 0
A26: 7. סך הכל הוצאות ישירות שאינן מסוג עמלת ניהול חיצוני (סכום סעיפים 1 עד 6) | B26: =B8+B12+B16+B20+B22+B24 -> 19095.753
A28: 8. שווי ממוצע של נכסי הקופה או המסלול (ממוצע פשוט של סעיפים8א ו- 8ב) | B28: =(B29+B30)/2 -> 28823303
A29: א. השווי המשוערך של נכסי הקופה או המסלול נכון ליום 31 בדצמבר של שנת הכספים שהסתיימה 2024 | B29: ='קרן ט'!B29+'קרן י'!B29+'הכשרה כללי'!B29+'הכשרה אגח ממשלות'!B29+'הכשרה מניות'!B29+'כספי שקלי'!B29+'הכשרה לבני 50 ומטה'!B29+'הכשרה לבני 50-60'!B29+'הכשרה לבני 60 ומעלה'!B29+'הכשרה מקבלי קצבה'!B29+'הכשרה אשראי ואג"ח'!B29+'הכשרה אשראי ואג"ח עד 25%'!B29+'הכשרה עוקב מדדים גמיש'!B29+'הכשרה משולב סחיר'!B29+'אלשטולר כללי'!B29+'אלשטושלר מניות'!B29+'אלטשולר אג"ח'!B29+'ילין כללי'!B29+'ילין מניות'!B29+'ילין אג"ח'!B29+'מיטב כללי'!B29+'מיטב מניות'!B29+'מיטב אג"ח'!B29+'הכשרה עוקב מדד SP500'!B29+'מור כללי'!B29+'מור מניות'!B29+'מור אג"ח'!B29+'אנליסט כללי'!B29+'אנליסט מניות'!B29+'אנליסט אג"ח'!B29 -> 31902151
A30: ב. השווי המשוערך של נכסי הקופה או המסלול נכון ליום 31 בדצמבר של שנת הכספים שהסתיימה לפני 2023 או לתקופה אחרת לפי העניין | B30: ='קרן ט'!B30+'קרן י'!B30+'הכשרה כללי'!B30+'הכשרה אגח ממשלות'!B30+'הכשרה מניות'!B30+'כספי שקלי'!B30+'הכשרה לבני 50 ומטה'!B30+'הכשרה לבני 50-60'!B30+'הכשרה לבני 60 ומעלה'!B30+'הכשרה מקבלי קצבה'!B30+'הכשרה אשראי ואג"ח'!B30+'הכשרה אשראי ואג"ח עד 25%'!B30+'הכשרה עוקב מדדים גמיש'!B30+'הכשרה משולב סחיר'!B30+'אלשטולר כללי'!B30+'אלשטושלר מניות'!B30+'אלטשולר אג"ח'!B30+'ילין כללי'!B30+'ילין מניות'!B30+'ילין אג"ח'!B30+'מיטב כללי'!B30+'מיטב מניות'!B30+'מיטב אג"ח'!B30+'הכשרה עוקב מדד SP500'!B30+'מור כללי'!B30+'מור מניות'!B30+'מור אג"ח'!B30+'אנליסט כללי'!B30+'אנליסט מניות'!B30+'אנליסט אג"ח'!B30 -> 25744454
A32: 9. שיעור שנתי של הוצאות ישירות שאינן מסוג עמלת ניהול חיצוני (חלוקה של סעיף 7 בסעיף 8) | B32: =B26/B28 -> 0.00066251094
A34: הוצאות ישירות מסוג עמלת ניהול חיצוני
A35: 10 . סך דמי ניהול משתנים – החלק מתשלום עמלת ניהול חיצוני שנגזר מתשואת הנכסים | B35: ='קרן ט'!B35+'קרן י'!B35+'הכשרה כללי'!B35+'הכשרה אגח ממשלות'!B35+'הכשרה מניות'!B35+'כספי שקלי'!B35+'הכשרה לבני 50 ומטה'!B35+'הכשרה לבני 50-60'!B35+'הכשרה לבני 60 ומעלה'!B35+'הכשרה מקבלי קצבה'!B35+'הכשרה אשראי ואג"ח'!B35+'הכשרה עוקב מדדים גמיש'!B35+'הכשרה משולב סחיר'!B35+'אלשטולר כללי'!B35+'אלשטושלר מניות'!B35+'אלטשולר אג"ח'!B35+'ילין כללי'!B35+'ילין מניות'!B35+'ילין אג"ח'!B35+'מיטב כללי'!B35+'מיטב מניות'!B35+'מיטב אג"ח'!B35+'הכשרה עוקב מדד SP500'!B35+'מור כללי'!B35+'מור מניות'!B35+'מור אג"ח'!B35+'אנליסט כללי'!B35+'אנליסט מניות'!B35+'אנליסט אג"ח'!B35 -> 10839.034
A37: 11. סה"כ הוצאות ישירות מסוג "עמלת ניהול חיצוני" (סכום סעיפים 11.א עד11.ט) | B37: =SUM(B38:B46) -> 25160.34
A38: א. סך תשלומים הנובעים מהשקעה בקרנות השקעה בישראל | B38: ='קרן ט'!B38+'קרן י'!B38+'הכשרה כללי'!B38+'הכשרה אגח ממשלות'!B38+'הכשרה מניות'!B38+'כספי שקלי'!B38+'הכשרה לבני 50 ומטה'!B38+'הכשרה לבני 50-60'!B38+'הכשרה לבני 60 ומעלה'!B38+'הכשרה מקבלי קצבה'!B38+'הכשרה אשראי ואג"ח'!B38+'הכשרה אשראי ואג"ח עד 25%'!B38+'הכשרה עוקב מדדים גמיש'!B38+'הכשרה משולב סחיר'!B38+'אלשטולר כללי'!B38+'אלשטושלר מניות'!B38+'אלטשולר אג"ח'!B38+'ילין כללי'!B38+'ילין מניות'!B38+'ילין אג"ח'!B38+'מיטב כללי'!B38+'מיטב מניות'!B38+'מיטב אג"ח'!B38+'הכשרה עוקב מדד SP500'!B38+'מור כללי'!B38+'מור מניות'!B38+'מור אג"ח'!B38+'אנליסט כללי'!B38+'אנליסט מניות'!B38+'אנליסט אג"ח'!B38 -> 11333.702
A39: ב. סך תשלומים הנובעים מהשקעה בקרנות השקעה בחו"ל | B39: ='קרן ט'!B39+'קרן י'!B39+'הכשרה כללי'!B39+'הכשרה אגח ממשלות'!B39+'הכשרה מניות'!B39+'כספי שקלי'!B39+'הכשרה לבני 50 ומטה'!B39+'הכשרה לבני 50-60'!B39+'הכשרה לבני 60 ומעלה'!B39+'הכשרה מקבלי קצבה'!B39+'הכשרה אשראי ואג"ח'!B39+'הכשרה אשראי ואג"ח עד 25%'!B39+'הכשרה עוקב מדדים גמיש'!B39+'הכשרה משולב סחיר'!B39+'אלשטולר כללי'!B39+'אלשטושלר מניות'!B39+'אלטשולר אג"ח'!B39+'ילין כללי'!B39+'ילין מניות'!B39+'ילין אג"ח'!B39+'מיטב כללי'!B39+'מיטב מניות'!B39+'מיטב אג"ח'!B39+'הכשרה עוקב מדד SP500'!B39+'מור כללי'!B39+'מור מניות'!B39+'מור אג"ח'!B39+'אנליסט כללי'!B39+'אנליסט מניות'!B39+'אנליסט אג"ח'!B39 -> 5542.2671
A40: ג. סך תשלומים למנהלי תיקים ישראלים בגין השקעה בחו"ל | B40: ='קרן ט'!B40+'קרן י'!B40+'הכשרה כללי'!B40+'הכשרה אגח ממשלות'!B40+'הכשרה מניות'!B40+'כספי שקלי'!B40+'הכשרה לבני 50 ומטה'!B40+'הכשרה לבני 50-60'!B40+'הכשרה לבני 60 ומעלה'!B40+'הכשרה מקבלי קצבה'!B40+'הכשרה אשראי ואג"ח'!B40+'הכשרה אשראי ואג"ח עד 25%'!B40+'הכשרה עוקב מדדים גמיש'!B40+'הכשרה משולב סחיר'!B40+'אלשטולר כללי'!B40+'אלשטושלר מניות'!B40+'אלטשולר אג"ח'!B40+'ילין כללי'!B40+'ילין מניות'!B40+'ילין אג"ח'!B40+'מיטב כללי'!B40+'מיטב מניות'!B40+'מיטב אג"ח'!B40+'הכשרה עוקב מדד SP500'!B40+'מור כללי'!B40+'מור מניות'!B40+'מור אג"ח'!B40+'אנליסט כללי'!B40+'אנליסט מניות'!B40+'אנליסט אג"ח'!B40 -> 0
A41: ד. סך תשלומים למנהלי תיקים זרים | B41: ='קרן ט'!B41+'קרן י'!B41+'הכשרה כללי'!B41+'הכשרה אגח ממשלות'!B41+'הכשרה מניות'!B41+'כספי שקלי'!B41+'הכשרה לבני 50 ומטה'!B41+'הכשרה לבני 50-60'!B41+'הכשרה לבני 60 ומעלה'!B41+'הכשרה מקבלי קצבה'!B41+'הכשרה אשראי ואג"ח'!B41+'הכשרה אשראי ואג"ח עד 25%'!B41+'הכשרה עוקב מדדים גמיש'!B41+'הכשרה משולב סחיר'!B41+'אלשטולר כללי'!B41+'אלשטושלר מניות'!B41+'אלטשולר אג"ח'!B41+'ילין כללי'!B41+'ילין מניות'!B41+'ילין אג"ח'!B41+'מיטב כללי'!B41+'מיטב מניות'!B41+'מיטב אג"ח'!B41+'הכשרה עוקב מדד SP500'!B41+'מור כללי'!B41+'מור מניות'!B41+'מור אג"ח'!B41+'אנליסט כללי'!B41+'אנליסט מניות'!B41+'אנליסט אג"ח'!B41 -> 0
A42: ה. סך תשלומים בגין השקעה בקרנות סל כאשר 75 אחוזים לפחות מנכסי הקרן הם נכסים שהונפקו במדינת ישראל לפי מדדים שעליהם הורה הממונה ובתנאים שהורה | B42: ='קרן ט'!B42+'קרן י'!B42+'הכשרה כללי'!B42+'הכשרה אגח ממשלות'!B42+'הכשרה מניות'!B42+'כספי שקלי'!B42+'הכשרה לבני 50 ומטה'!B42+'הכשרה לבני 50-60'!B42+'הכשרה לבני 60 ומעלה'!B42+'הכשרה מקבלי קצבה'!B42+'הכשרה אשראי ואג"ח'!B42+'הכשרה אשראי ואג"ח עד 25%'!B42+'הכשרה עוקב מדדים גמיש'!B42+'הכשרה משולב סחיר'!B42+'אלשטולר כללי'!B42+'אלשטושלר מניות'!B42+'אלטשולר אג"ח'!B42+'ילין כללי'!B42+'ילין מניות'!B42+'ילין אג"ח'!B42+'מיטב כללי'!B42+'מיטב מניות'!B42+'מיטב אג"ח'!B42+'הכשרה עוקב מדד SP500'!B42+'מור כללי'!B42+'מור מניות'!B42+'מור אג"ח'!B42+'אנליסט כללי'!B42+'אנליסט מניות'!B42+'אנליסט אג"ח'!B42 -> 105.29756
A43: ו. סך תשלומים בגין השקעה בקרנות סל כאשר 75 אחוזים לפחות מנכסי הקרן הם נכסים שלא הונפקו במדינת ישראל ואינם נסחרים או מוחזקים בה | B43: ='קרן ט'!B43+'קרן י'!B43+'הכשרה כללי'!B43+'הכשרה אגח ממשלות'!B43+'הכשרה מניות'!B43+'כספי שקלי'!B43+'הכשרה לבני 50 ומטה'!B43+'הכשרה לבני 50-60'!B43+'הכשרה לבני 60 ומעלה'!B43+'הכשרה מקבלי קצבה'!B43+'הכשרה אשראי ואג"ח'!B43+'הכשרה אשראי ואג"ח עד 25%'!B43+'הכשרה עוקב מדדים גמיש'!B43+'הכשרה משולב סחיר'!B43+'אלשטולר כללי'!B43+'אלשטושלר מניות'!B43+'אלטשולר אג"ח'!B43+'ילין כללי'!B43+'ילין מניות'!B43+'ילין אג"ח'!B43+'מיטב כללי'!B43+'מיטב מניות'!B43+'מיטב אג"ח'!B43+'הכשרה עוקב מדד SP500'!B43+'מור כללי'!B43+'מור מניות'!B43+'מור אג"ח'!B43+'אנליסט כללי'!B43+'אנליסט מניות'!B43+'אנליסט אג"ח'!B43 -> 5308.2628
A44: ז. סך תשלומים בגין השקעה בקרנות נאמנות ישראליות כאשר 75 אחוזים לפחות מנכסי הקרן מושקעים בנכסים שלא הונפקו במדינת ישראל ואינם נסחרים או מוחזקים בה | B44: ='קרן ט'!B44+'קרן י'!B44+'הכשרה כללי'!B44+'הכשרה אגח ממשלות'!B44+'הכשרה מניות'!B44+'כספי שקלי'!B44+'הכשרה לבני 50 ומטה'!B44+'הכשרה לבני 50-60'!B44+'הכשרה לבני 60 ומעלה'!B44+'הכשרה מקבלי קצבה'!B44+'הכשרה אשראי ואג"ח'!B44+'הכשרה אשראי ואג"ח עד 25%'!B44+'הכשרה עוקב מדדים גמיש'!B44+'הכשרה משולב סחיר'!B44+'אלשטולר כללי'!B44+'אלשטושלר מניות'!B44+'אלטשולר אג"ח'!B44+'ילין כללי'!B44+'ילין מניות'!B44+'ילין אג"ח'!B44+'מיטב כללי'!B44+'מיטב מניות'!B44+'מיטב אג"ח'!B44+'הכשרה עוקב מדד SP500'!B44+'מור כללי'!B44+'מור מניות'!B44+'מור אג"ח'!B44+'אנליסט כללי'!B44+'אנליסט מניות'!B44+'אנליסט אג"ח'!B44 -> 277.21208
A45: ח. סך תשלומים בגין השקעה בקרנות נאמנות זרות כאשר 75 אחוזים לפחות מנכסי הקרן מושקעים בנכסים שלא הונפקו במדינת ישראל ואינם נסחרים או מוחזקים בה | B45: ='קרן ט'!B45+'קרן י'!B45+'הכשרה כללי'!B45+'הכשרה אגח ממשלות'!B45+'הכשרה מניות'!B45+'כספי שקלי'!B45+'הכשרה לבני 50 ומטה'!B45+'הכשרה לבני 50-60'!B45+'הכשרה לבני 60 ומעלה'!B45+'הכשרה מקבלי קצבה'!B45+'הכשרה אשראי ואג"ח'!B45+'הכשרה אשראי ואג"ח עד 25%'!B45+'הכשרה עוקב מדדים גמיש'!B45+'הכשרה משולב סחיר'!B45+'אלשטולר כללי'!B45+'אלשטושלר מניות'!B45+'אלטשולר אג"ח'!B45+'ילין כללי'!B45+'ילין מניות'!B45+'ילין אג"ח'!B45+'מיטב כללי'!B45+'מיטב מניות'!B45+'מיטב אג"ח'!B45+'הכשרה עוקב מדד SP500'!B45+'מור כללי'!B45+'מור מניות'!B45+'מור אג"ח'!B45+'אנליסט כללי'!B45+'אנליסט מניות'!B45+'אנליסט אג"ח'!B45 -> 2582.5724
A46: ט. סך תשלומים בגין השקעה בקרן טכנולוגיה עילית | B46: ='קרן ט'!B46+'קרן י'!B46+'הכשרה כללי'!B46+'הכשרה אגח ממשלות'!B46+'הכשרה מניות'!B46+'כספי שקלי'!B46+'הכשרה לבני 50 ומטה'!B46+'הכשרה לבני 50-60'!B46+'הכשרה לבני 60 ומעלה'!B46+'הכשרה מקבלי קצבה'!B46+'הכשרה אשראי ואג"ח'!B46+'הכשרה אשראי ואג"ח עד 25%'!B46+'הכשרה עוקב מדדים גמיש'!B46+'הכשרה משולב סחיר'!B46+'אלשטולר כללי'!B46+'אלשטושלר מניות'!B46+'אלטשולר אג"ח'!B46+'ילין כללי'!B46+'ילין מניות'!B46+'ילין אג"ח'!B46+'מיטב כללי'!B46+'מיטב מניות'!B46+'מיטב אג"ח'!B46+'הכשרה עוקב מדד SP500'!B46+'מור כללי'!B46+'מור מניות'!B46+'מור אג"ח'!B46+'אנליסט כללי'!B46+'אנליסט מניות'!B46+'אנליסט אג"ח'!B46 -> 11.026271
A48: 12. שיעור עמלת ניהול חיצוני בפועל לפני החזר, ככל שבוצע (חלוקה של סעיף 11 בסעיף 8.ב) | B48: =B37/B30 -> 0.00097731106
A50: 13. שיעור מגבלת עמלת ניהול חיצוני שהמשקיע המוסדי הצהיר עליה עבור שנת הכספים שהסתיימה
A52: 14. ההפרש בין שיעור מגבלת עמלת ניהול חיצוני מוצהרת לבין שיעור עמלת ניהול חיצוני בפועל (סעיף 13 פחות סעיף 12)
A54: 15.א סכום שהוחזר לחוסכים (אם הוחזר) | B54: ='קרן ט'!B54+'קרן י'!B54+'הכשרה כללי'!B54+'הכשרה אגח ממשלות'!B54+'הכשרה מניות'!B54+'כספי שקלי'!B54+'הכשרה לבני 50 ומטה'!B54+'הכשרה לבני 50-60'!B54+'הכשרה לבני 60 ומעלה'!B54+'הכשרה מקבלי קצבה'!B54+'הכשרה אשראי ואג"ח'!B54+'הכשרה עוקב מדדים גמיש'!B54+'הכשרה משולב סחיר'!B54+'אלשטולר כללי'!B54+'אלשטושלר מניות'!B54+'אלטשולר אג"ח'!B54+'ילין כללי'!B54+'ילין מניות'!B54+'ילין אג"ח'!B54+'מיטב כללי'!B54+'מיטב מניות'!B54+'מיטב אג"ח'!B54+'הכשרה עוקב מדד SP500'!B54+'מור כללי'!B54+'מור מניות'!B54+'מור אג"ח'!B54+'אנליסט כללי'!B54+'אנליסט מניות'!B54+'אנליסט אג"ח'!B54 -> 0
A55: 15.ב שיעור עמלת ניהול חיצוני בפועל לאחר החזר, (חלוקה של התוצאה של סעיף 11 בניכוי סעיף 15א, בסעיף 8.ב)
A57: סך הכל הוצאות ישירות בפועל (למעט דמי ניהול משתנים כאמור בסעיף 10)
A59: 16. סך כל הוצאות ישירות (סכום של סעיף 7 וסעיף 1 1בניכוי סעיף 15א) | B59: =B26+B37-B54 -> 44256.093
A61: 17. שיעור סך ההוצאות הישירות מתוך יתרת נכסים ממוצעת (חלוקה של סעיף 16 בסעיף 8) | B61: =B59/B28 -> 0.0015354276
A63: סך הכל הוצאות ישירות (לצורך חישוב שיעור עלות שנתית צפויה)
A64: 18. שיעור מגבלת עמלת ניהול חיצוני שהמשקיע המוסדי הצהיר עליה בהתאם לתקנה 2א לתקנות הוצאות ישירות עבור שנת הכספים הבאה 20XX +1
A65: 19. De: שיעור הוצאות ישירות (סכום של סעיף 9 וסעיף 18)

Sheet קרן ט
A1: נספח 1- סך ההוצאות הישירות ששולמו בעד כל סוג של הוצאה ישירה לתקופה המסתיימת ביום 31.12.2024
A3: שם חברת הביטוח: הכשרה חברה לביטוח - קרן ט | B3: אלפי ₪
A5: 31.12.2024 נספח 1- סך ההוצאות הישירות ששולמו בעד כל סוג של הוצאה ישירה לתקופה המסתיימת ביום
A7: הוצאות ישירות שאינן מסוג עמלת ניהול חיצוני
A8: 1. סך הכל עמלות קנייה ומכירה של ניירות ערך סחירים | B8: 18.392749
A9: א. סך עמלות קנייה ומכירה של ניירות ערך סחירים לצדדים קשורים
A10: ב. סך עמלות קנייה ומכירה של ניירות ערך סחירים לצדדים שאינם קשורים | B10: 18.392749
A12: 2. סך הכל דמי שמירה בשל ניירות ערך סחירים וכל עמלה שגובה מי שמבצע את משמרות ניירות הערך עמלות (קסטודיאן) | B12: 1.726741
A13: א. סך עמלות קסטודיאן לצדדים קשורים
A14: ב. סך עמלות קסטודיאן לצדדים שאינם קשורים | B14: 1.726741
A16: 3. סך הכל הוצאות הנובעות מהשקעות לא סחירות | B16: 3.9601488
A17: א. הוצאה הנובעת מהשקעה בניירות ערך לא סחירים או ממתן הלוואה למי שאינו עמית או מבוטח | B17: 3.9601488
A18: ב. הוצאה הנובעת מהשקעה בזכויות במקרקעין
A20: 4. מסים החלים על משקיע מוסדי, על נכסיו, על הכנסותיו ועל עסקאות שנעשו בנכסיו | B20: 30.31854
A22: 5. סך הוצאות בעד ניהול תביעות | B22: 0
A24: 6. סך הוצאות בעד מתן משכנתאות | B24: 0
A26: 7. סך הכל הוצאות ישירות שאינן מסוג עמלת ניהול חיצוני (סכום סעיפים 1 עד 6) | B26: 54.398178
A28: 8. שווי ממוצע של נכסי הקופה או המסלול (ממוצע פשוט של סעיפים8א ו- 8ב) | B28: 71737.03
A29: א. השווי המשוערך של נכסי הקופה או המסלול נכון ליום 31 בדצמבר של שנת הכספים שהסתיימה 2024 | B29: 76138.7
A30: ב. השווי המשוערך של נכסי הקופה או המסלול נכון ליום 31 בדצמבר של שנת הכספים שהסתיימה לפני 2023 או לתקופה אחרת לפי העניין | B30: 67335.36
A32: 9. שיעור שנתי של הוצאות ישירות שאינן מסוג עמלת ניהול חיצוני (חלוקה של סעיף 7 בסעיף 8) | B32: 0.00075829984
A34: הוצאות ישירות מסוג עמלת ניהול חיצוני
A35: 10 . סך דמי ניהול משתנים – החלק מתשלום עמלת ניהול חיצוני שנגזר מתשואת הנכסים | B35: 86.173822
A37: 11. סה"כ הוצאות ישירות מסוג "עמלת ניהול חיצוני" (סכום סעיפים 11.א עד11.ט) | B37: 96.838979
A38: א. סך תשלומים הנובעים מהשקעה בקרנות השקעה בישראל | B38: 54.670883
A39: ב. סך תשלומים הנובעים מהשקעה בקרנות השקעה בחו"ל | B39: 14.738862
A40: ג. סך תשלומים למנהלי תיקים ישראלים בגין השקעה בחו"ל | B40: 0
A41: ד. סך תשלומים למנהלי תיקים זרים | B41: 0
A42: ה. סך תשלומים בגין השקעה בקרנות סל כאשר 75 אחוזים לפחות מנכסי הקרן הם נכסים שהונפקו במדינת ישראל לפי מדדים שעליהם הורה הממונה ובתנאים שהורה | B42: 0.067618897
A43: ו. סך תשלומים בגין השקעה בקרנות סל כאשר 75 אחוזים לפחות מנכסי הקרן הם נכסים שלא הונפקו במדינת ישראל ואינם נסחרים או מוחזקים בה | B43: 17.363403
A44: ז. סך תשלומים בגין השקעה בקרנות נאמנות ישראליות כאשר 75 אחוזים לפחות מנכסי הקרן מושקעים בנכסים שלא הונפקו במדינת ישראל ואינם נסחרים או מוחזקים בה | B44: 1.219821
A45: ח. סך תשלומים בגין השקעה בקרנות נאמנות זרות כאשר 75 אחוזים לפחות מנכסי הקרן מושקעים בנכסים שלא הונפקו במדינת ישראל ואינם נסחרים או מוחזקים בה | B45: 8.5928725
A46: ט. סך תשלומים בגין השקעה בקרן טכנולוגיה עילית | B46: 0.18551928
A48: 12. שיעור עמלת ניהול חיצוני בפועל לפני החזר, ככל שבוצע (חלוקה של סעיף 11 בסעיף 8.ב) | B48: 0.0014381594
... A55: 15.ב שיעור עמלת ניהול חיצוני בפועל לאחר החזר, (חלוקה של התוצאה של סעיף 11 בניכוי סעיף 15א, בסעיף 8.ב) | B55: 0.0014381594
A57: סך הכל הוצאות ישירות בפועל (למעט דמי ניהול משתנים כאמור בסעיף 10)
A59: 16. סך כל הוצאות ישירות (סכום של סעיף 7 וסעיף 11 בניכוי סעיף 15א) | B59: 151.23716
A61: 17. שיעור סך ההוצאות הישירות מתוך יתרת נכסים ממוצעת (חלוקה של סעיף 16 בסעיף 8) | B61: 0.002108216
A63: סך הכל הוצאות ישירות (לצורך חישוב שיעור עלות שנתית צפויה)
A64: 18. שיעור מגבלת עמלת ניהול חיצוני שהמשקיע המוסדי הצהיר עליה בהתאם לתקנה 2א לתקנות הוצאות ישירות עבור שנת הכספים הבאה | B64: 0.0025
A65: 19. De: שיעור הוצאות ישירות (סכום של סעיף 9 וסעיף 18) | B65: 0.0032582998

Sheet קרן י
A1: נספח 1- סך ההוצאות הישירות ששולמו בעד כל סוג של הוצאה ישירה לתקופה המסתיימת ביום 31.12.2024
A3: שם חברת הביטוח: הכשרה חברה לביטוח - קרן י | B3: אלפי ₪
A5: 31.12.2024 נספח 1- סך ההוצאות הישירות ששולמו בעד כל סוג של הוצאה ישירה לתקופה המסתיימת ביום
A7: הוצאות ישירות שאינן מסוג עמלת ניהול חיצוני
A8: 1. סך הכל עמלות קנייה ומכירה של ניירות ערך סחירים | B8: 471.23027
A9: א. סך עמלות קנייה ומכירה של ניירות ערך סחירים לצדדים קשורים
A10: ב. סך עמלות קנייה ומכירה של ניירות ערך סחירים לצדדים שאינם קשורים | B10: 471.23027
A12: 2. סך הכל דמי שמירה בשל ניירות ערך סחירים וכל עמלה שגובה מי שמבצע את משמרות ניירות הערך עמלות (קסטודיאן) | B12: 5.0956263
A13: א. סך עמלות קסטודיאן לצדדים קשורים
A14: ב. סך עמלות קסטודיאן לצדדים שאינם קשורים | B14: 5.0956263
A16: 3. סך הכל הוצאות הנובעות מהשקעות לא סחירות | B16: 98.448794
A17: א. הוצאה הנובעת מהשקעה בניירות ערך לא סחירים או ממתן הלוואה למי שאינו עמית או מבוטח | B17: 98.448794
A18: ב. הוצאה הנובעת מהשקעה בזכויות במקרקעין | B18: 0
A20: 4. מסים החלים על משקיע מוסדי, על נכסיו, על הכנסותיו ועל עסקאות שנעשו בנכסיו | B20: 573.94359
A22: 5. סך הוצאות בעד ניהול תביעות | B22: 0
A24: 6. סך הוצאות בעד מתן משכנתאות | B24: 0
A26: 7. סך הכל הוצאות ישירות שאינן מסוג עמלת ניהול חיצוני (סכום סעיפים 1 עד 6) | B26: 1148.7183
A28: 8. שווי ממוצע של נכסי הקופה או המסלול (ממוצע פשוט של סעיפים8א ו- 8ב) | B28: 1872315.6
A29: א. השווי המשוערך של נכסי הקופה או המסלול נכון ליום 31 בדצמבר של שנת הכספים שהסתיימה 2024 | B29: 1898178.5
A30: ב. השווי המשוערך של נכסי הקופה או המסלול נכון ליום 31 בדצמבר של שנת הכספים שהסתיימה לפני 2023 או לתקופה אחרת לפי העניין | B30: 1846452.8
A32: 9. שיעור שנתי של הוצאות ישירות שאינן מסוג עמלת ניהול חיצוני (חלוקה של סעיף 7 בסעיף 8) | B32: 0.00061352811
A34: הוצאות ישירות מסוג עמלת ניהול חיצוני
A35: 10 . סך דמי ניהול משתנים – החלק מתשלום עמלת ניהול חיצוני שנגזר מתשואת הנכסים | B35: 3339.864
A37: 11. סה"כ הוצאות ישירות מסוג "עמלת ניהול חיצוני" (סכום סעיפים 11.א עד11.ט) | B37: 4960.5972
A38: א. סך תשלומים הנובעים מהשקעה בקרנות השקעה בישראל | B38: 3134.6181
A39: ב. סך תשלומים הנובעים מהשקעה בקרנות השקעה בחו"ל | B39: 1206.9476
A40: ג. סך תשלומים למנהלי תיקים ישראלים בגין השקעה בחו"ל | B40: 0
A41: ד. סך תשלומים למנהלי תיקים זרים | B41: 0
A42: ה. סך תשלומים בגין השקעה בקרנות סל כאשר 75 אחוזים לפחות מנכסי הקרן הם נכסים שהונפקו במדינת ישראל לפי מדדים שעליהם הורה הממונה ובתנאים שהורה | B42: 1.5018606
A43: ו. סך תשלומים בגין השקעה בקרנות סל כאשר 75 אחוזים לפחות מנכסי הקרן הם נכסים שלא הונפקו במדינת ישראל ואינם נסחרים או מוחזקים בה | B43: 298.89798
A44: ז. סך תשלומים בגין השקעה בקרנות נאמנות ישראליות כאשר 75 אחוזים לפחות מנכסי הקרן מושקעים בנכסים שלא הונפקו במדינת ישראל ואינם נסחרים או מוחזקים בה | B44: 31.546485
A45: ח. סך תשלומים בגין השקעה בקרנות נאמנות זרות כאשר 75 אחוזים לפחות מנכסי הקרן מושקעים בנכסים שלא הונפקו במדינת ישראל ואינם נסחרים או מוחזקים בה | B45: 282.6735
A46: ט. סך תשלומים בגין השקעה בקרן טכנולוגיה עילית | B46: 4.4116814
A48: 12. שיעור עמלת ניהול חיצוני בפועל לפני החזר, ככל שבוצע (חלוקה של סעיף 11 בסעיף 8.ב) | B48: 0.0026865551
... A55: 15.ב שיעור עמלת ניהול חיצוני בפועל לאחר החזר, (חלוקה של התוצאה של סעיף 11 בניכוי סעיף 15א, בסעיף 8.ב) | B55: 0.0026865551
A57: סך הכל הוצאות ישירות בפועל (למעט דמי ניהול משתנים כאמור בסעיף 10)
A59: 16. סך כל הוצאות ישירות (סכום של סעיף 7 וסעיף 11 בניכוי סעיף 15א) | B59: 6109.3155
A61: 17. שיעור סך ההוצאות הישירות מתוך יתרת נכסים ממוצעת (חלוקה של סעיף 16 בסעיף 8) | B61: 0.003262973
A63: סך הכל הוצאות ישירות (לצורך חישוב שיעור עלות שנתית צפויה)
A64: 18. שיעור מגבלת עמלת ניהול חיצוני שהמשקיע המוסדי הצהיר עליה בהתאם לתקנה 2א לתקנות הוצאות ישירות עבור שנת הכספים הבאה | B64: 0.0035
A65: 19. De: שיעור הוצאות ישירות (סכום של סעיף 9 וסעיף 18) | B65: 0.0041135281

Sheet הכשרה כללי
A1: נספח 1- סך ההוצאות הישירות ששולמו בעד כל סוג של הוצאה ישירה לתקופה המסתיימת ביום 31.12.2024
A3: שם חברת הביטוח: הכשרה חברה לביטוח - מסלולית כללית | B3: אלפי ₪
A5: 31.12.2024 נספח 1- סך ההוצאות הישירות ששולמו בעד כל סוג של הוצאה ישירה לתקופה המסתיימת ביום
A7: הוצאות ישירות שאינן מסוג עמלת ניהול חיצוני
A8: 1. סך הכל עמלות קנייה ומכירה של ניירות ערך סחירים | B8: 1285.978
A9: א. סך עמלות קנייה ומכירה של ניירות ערך סחירים לצדדים קשורים
A10: ב. סך עמלות קנייה ומכירה של ניירות ערך סחירים לצדדים שאינם קשורים | B10: 1285.978
A12: 2. סך הכל דמי שמירה בשל ניירות ערך סחירים וכל עמלה שגובה מי שמבצע את משמרות ניירות הערך עמלות (קסטודיאן) | B12: 5.6393451
A13: א. סך עמלות קסטודיאן לצדדים קשורים
A14: ב. סך עמלות קסטודיאן לצדדים שאינם קשורים | B14: 5.6393451
A16: 3. סך הכל הוצאות הנובעות מהשקעות לא סחירות | B16: 127.90305
A17: א. הוצאה הנובעת מהשקעה בניירות ערך לא סחירים או ממתן הלוואה למי שאינו עמית או מבוטח | B17: 127.90305
A18: ב. הוצאה הנובעת מהשקעה בזכויות במקרקעין
A20: 4. מסים החלים על משקיע מוסדי, על נכסיו, על הכנסותיו ועל עסקאות שנעשו בנכסיו | B20: 1447.6994
A22: 5. סך הוצאות בעד ניהול תביעות | B22: 0
A24: 6. סך הוצאות בעד מתן משכנתאות | B24: 0
A26: 7. סך הכל הוצאות ישירות שאינן מסוג עמלת ניהול חיצוני (סכום סעיפים 1 עד 6) | B26: 2867.2198
A28: 8. שווי ממוצע של נכסי הקופה או המסלול (ממוצע פשוט של סעיפים8א ו- 8ב) | B28: 4743508.2
A29: א. השווי המשוערך של נכסי הקופה או המסלול נכון ליום 31 בדצמבר של שנת הכספים שהסתיימה 2024 | B29: 4906460.3
A30: ב. השווי המשוערך של נכסי הקופה או המסלול נכון ליום 31 בדצמבר של שנת הכספים שהסתיימה לפני 2023 או לתקופה אחרת לפי העניין | B30: 4580556.2
A32: 9. שיעור שנתי של הוצאות ישירות שאינן מסוג עמלת ניהול חיצוני (חלוקה של סעיף 7 בסעיף 8) | B32: 0.00060445132
A34: הוצאות ישירות מסוג עמלת ניהול חיצוני
A35: 10 . סך דמי ניהול משתנים – החלק מתשלום עמלת ניהול חיצוני שנגזר מתשואת הנכסים | B35: 5023.1801
A37: 11. סה"כ הוצאות ישירות מסוג "עמלת ניהול חיצוני" (סכום סעיפים 11.א עד11.ט) | B37: 10343.129
A38: א. סך תשלומים הנובעים מהשקעה בקרנות השקעה בישראל | B38: 5895.7281
A39: ב. סך תשלומים הנובעים מהשקעה בקרנות השקעה בחו"ל | B39: 2804.0364
A40: ג. סך תשלומים למנהלי תיקים ישראלים בגין השקעה בחו"ל | B40: 0
A41: ד. סך תשלומים למנהלי תיקים זרים | B41: 0
A42: ה. סך תשלומים בגין השקעה בקרנות סל כאשר 75 אחוזים לפחות מנכסי הקרן הם נכסים שהונפקו במדינת ישראל לפי מדדים שעליהם הורה הממונה ובתנאים שהורה | B42: 50.747327
A43: ו. סך תשלומים בגין השקעה בקרנות סל כאשר 75 אחוזים לפחות מנכסי הקרן הם נכסים שלא הונפקו במדינת ישראל ואינם נסחרים או מוחזקים בה | B43: 870.62024
A44: ז. סך תשלומים בגין השקעה בקרנות נאמנות ישראליות כאשר 75 אחוזים לפחות מנכסי הקרן מושקעים בנכסים שלא הונפקו במדינת ישראל ואינם נסחרים או מוחזקים בה | B44: 77.5107
A45: ח. סך תשלומים בגין השקעה בקרנות נאמנות זרות כאשר 75 אחוזים לפחות מנכסי הקרן מושקעים בנכסים שלא הונפקו במדינת ישראל ואינם נסחרים או מוחזקים בה | B45: 639.42928
A46: ט. סך תשלומים בגין השקעה בקרן טכנולוגיה עילית | B46: 5.056667
A48: 12. שיעור עמלת ניהול חיצוני בפועל לפני החזר, ככל שבוצע (חלוקה של סעיף 11 בסעיף 8.ב) | B48: 0.0022580509
... A52: 14. ההפרש בין שיעור מגבלת עמלת ניהול חיצוני מוצהרת לבין שיעור עמלת ניהול חיצוני בפועל (סעיף 13 פחות סעיף 12) | B52: 0.00024194914
A54: 15.א סכום שהוחזר לחוסכים (אם הוחזר)
A55: 15.ב שיעור עמלת ניהול חיצוני בפועל לאחר החזר, (חלוקה של התוצאה של סעיף 11 בניכוי סעיף 15א, בסעיף 8.ב) | B55: 0.0022580509
A57: סך הכל הוצאות ישירות בפועל (למעט דמי ניהול משתנים כאמור בסעיף 10)
A59: 16. סך כל הוצאות ישירות (סכום של סעיף 7 וסעיף 11 בניכוי סעיף 15א) | B59: 13210.349
A61: 17. שיעור סך ההוצאות הישירות מתוך יתרת נכסים ממוצעת (חלוקה של סעיף 16 בסעיף 8) | B61: 0.0027849322
A63: סך הכל הוצאות ישירות (לצורך חישוב שיעור עלות שנתית צפויה)
A64: 18. שיעור מגבלת עמלת ניהול חיצוני שהמשקיע המוסדי הצהיר עליה בהתאם לתקנה 2א לתקנות הוצאות ישירות עבור שנת הכספים הבאה | B64: 0.0028
A65: 19. De: שיעור הוצאות ישירות (סכום של סעיף 9 וסעיף 18) | B65: 0.0034044513

Sheet הכשרה אגח ממשלות
A1: נספח 1- סך ההוצאות הישירות ששולמו בעד כל סוג של הוצאה ישירה לתקופה המסתיימת ביום 31.12.2024
A3: שם חברת הביטוח: הכשרה חברה לביטוח - מסלולית אג"ח ממשלות | B3: אלפי ₪
A5: 31.12.2024 נספח 1- סך ההוצאות הישירות ששולמו בעד כל סוג של הוצאה ישירה לתקופה המסתיימת ביום
A7: הוצאות ישירות שאינן מסוג עמלת ניהול חיצוני
A8: 1. סך הכל עמלות קנייה ומכירה של ניירות ערך סחירים | B8: 83.235652
A9: א. סך עמלות קנייה ומכירה של ניירות ערך סחירים לצדדים קשורים
A10: ב. סך עמלות קנייה ומכירה של ניירות ערך סחירים לצדדים שאינם קשורים | B10: 83.235652
A12: 2. סך הכל דמי שמירה בשל ניירות ערך סחירים וכל עמלה שגובה מי שמבצע את משמרות ניירות הערך עמלות (קסטודיאן) | B12: 1.6649945
A13: א. סך עמלות קסטודיאן לצדדים קשורים
A14: ב. סך עמלות קסטודיאן לצדדים שאינם קשורים | B14: 1.6649945
A16: 3. סך הכל הוצאות הנובעות מהשקעות לא סחירות | B16: 13.846984
A17: א. הוצאה הנובעת מהשקעה בניירות ערך לא סחירים או ממתן הלוואה למי שאינו עמית או מבוטח | B17: 13.846984
A18: ב. הוצאה הנובעת מהשקעה בזכויות במקרקעין
A20: 4. מסים החלים על משקיע מוסדי, על נכסיו, על הכנסותיו ועל עסקאות שנעשו בנכסיו | B20: 6.6362579
A22: 5. סך הוצאות בעד ניהול תביעות | B22: 0
A24: 6. סך הוצאות בעד מתן משכנתאות | B24: 0
A26: 7. סך הכל הוצאות ישירות שאינן מסוג עמלת ניהול חיצוני (סכום סעיפים 1 עד 6) | B26: 105.38389
A28: 8. שווי ממוצע של נכסי הקופה או המסלול (ממוצע פשוט של סעיפים8א ו- 8ב) | B28: 351191.43
A29: א. השווי המשוערך של נכסי הקופה או המסלול נכון ליום 31 בדצמבר של שנת הכספים שהסתיימה 2024 | B29: 339396.29
A30: ב. השווי המשוערך של נכסי הקופה או המסלול נכון ליום 31 בדצמבר של שנת הכספים שהסתיימה לפני 2023 או לתקופה אחרת לפי העניין | B30: 362986.56
A32: 9. שיעור שנתי של הוצאות ישירות שאינן מסוג עמלת ניהול חיצוני (חלוקה של סעיף 7 בסעיף 8) | B32: 0.00030007534
A34: הוצאות ישירות מסוג עמלת ניהול חיצוני
A35: 10 . סך דמי ניהול משתנים – החלק מתשלום עמלת ניהול חיצוני שנגזר מתשואת הנכסים | B35: 107.71058
A37: 11. סה"כ הוצאות ישירות מסוג "עמלת ניהול חיצוני" (סכום סעיפים 11.א עד11.ט) | B37: 431.01312
A38: א. סך תשלומים הנובעים מהשקעה בקרנות השקעה בישראל | B38: 314.03473
A39: ב. סך תשלומים הנובעים מהשקעה בקרנות השקעה בחו"ל | B39: 76.392918
A40: ג. סך תשלומים למנהלי תיקים ישראלים בגין השקעה בחו"ל | B40: 0
A41: ד. סך תשלומים למנהלי תיקים זרים | B41: 0
A42: ה. סך תשלומים בגין השקעה בקרנות סל כאשר 75 אחוזים לפחות מנכסי הקרן הם נכסים שהונפקו במדינת ישראל לפי מדדים שעליהם הורה הממונה ובתנאים שהורה | B42: 0
A43: ו. סך תשלומים בגין השקעה בקרנות סל כאשר 75 אחוזים לפחות מנכסי הקרן הם נכסים שלא הונפקו במדינת ישראל ואינם נסחרים או מוחזקים בה | B43: 8.5467152
A44: ז. סך תשלומים בגין השקעה בקרנות נאמנות ישראליות כאשר 75 אחוזים לפחות מנכסי הקרן מושקעים בנכסים שלא הונפקו במדינת ישראל ואינם נסחרים או מוחזקים בה | B44: 0
A45: ח. סך תשלומים בגין השקעה בקרנות נאמנות זרות כאשר 75 אחוזים לפחות מנכסי הקרן מושקעים בנכסים שלא הונפקו במדינת ישראל ואינם נסחרים או מוחזקים בה | B45: 31.849859
A46: ט. סך תשלומים בגין השקעה בקרן טכנולוגיה עילית | B46: 0.18889343
A48: 12. שיעור עמלת ניהול חיצוני בפועל לפני החזר, ככל שבוצע (חלוקה של סעיף 11 בסעיף 8.ב) | B48: 0.0011874079
... A55: 15.ב שיעור עמלת ניהול חיצוני בפועל לאחר החזר, (חלוקה של התוצאה של סעיף 11 בניכוי סעיף 15א, בסעיף 8.ב) | B55: 0.0011874079
A57: סך הכל הוצאות ישירות בפועל (למעט דמי ניהול משתנים כאמור בסעיף 10)
A59: 16. סך כל הוצאות ישירות (סכום של סעיף 7 וסעיף 11 בניכוי סעיף 15א) | B59: 536.397
A61: 17. שיעור סך ההוצאות הישירות מתוך יתרת נכסים ממוצעת (חלוקה של סעיף 16 בסעיף 8) | B61: 0.0015273636
A63: סך הכל הוצאות ישירות (לצורך חישוב שיעור עלות שנתית צפויה)
A64: 18. שיעור מגבלת עמלת ניהול חיצוני שהמשקיע המוסדי הצהיר עליה בהתאם לתקנה 2א לתקנות הוצאות ישירות עבור שנת הכספים הבאה | B64: 0.0015
A65: 19. De: שיעור הוצאות ישירות (סכום של סעיף 9 וסעיף 18) | B65: 0.0018000753

Sheet הכשרה מניות
A1: נספח 1- סך ההוצאות הישירות ששולמו בעד כל סוג של הוצאה ישירה לתקופה המסתיימת ביום 31.12.2024
A3: שם חברת הביטוח: הכשרה חברה לביטוח - מסלולית מניות | B3: אלפי ₪
A5: 31.12.2024 נספח 1- סך ההוצאות הישירות ששולמו בעד כל סוג של הוצאה ישירה לתקופה המסתיימת ביום
A7: הוצאות ישירות שאינן מסוג עמלת ניהול חיצוני
A8: 1. סך הכל עמלות קנייה ומכירה של ניירות ערך סחירים | B8: 230.149
A9: א. סך עמלות קנייה ומכירה של ניירות ערך סחירים לצדדים קשורים
A10: ב. סך עמלות קנייה ומכירה של ניירות ערך סחירים לצדדים שאינם קשורים | B10: 230.149
A12: 2. סך הכל דמי שמירה בשל ניירות ערך סחירים וכל עמלה שגובה מי שמבצע את משמרות ניירות הערך עמלות (קסטודיאן) | B12: 3.402676
A13: א. סך עמלות קסטודיאן לצדדים קשורים
A14: ב. סך עמלות קסטודיאן לצדדים שאינם קשורים | B14: 3.402676
A16: 3. סך הכל הוצאות הנובעות מהשקעות לא סחירות | B16: 4.7030668
A17: א. הוצאה הנובעת מהשקעה בניירות ערך לא סחירים או ממתן הלוואה למי שאינו עמית או מבוטח | B17: 4.7030668
A18: ב. הוצאה הנובעת מהשקעה בזכויות במקרקעין
A20: 4. מסים החלים על משקיע מוסדי, על נכסיו, על הכנסותיו ועל עסקאות שנעשו בנכסיו | B20: 374.88327
A22: 5. סך הוצאות בעד ניהול תביעות | B22: 0
A24: 6. סך הוצאות בעד מתן משכנתאות | B24: 0
A26: 7. סך הכל הוצאות ישירות שאינן מסוג עמלת ניהול חיצוני (סכום סעיפים 1 עד 6) | B26: 613.13802
A28: 8. שווי ממוצע של נכסי הקופה או המסלול (ממוצע פשוט של סעיפים8א ו- 8ב) | B28: 592589.92
A29: א. השווי המשוערך של נכסי הקופה או המסלול נכון ליום 31 בדצמבר של שנת הכספים שהסתיימה 2024 | B29: 768480.31
A30: ב. השווי המשוערך של נכסי הקופה או המסלול נכון ליום 31 בדצמבר של שנת הכספים שהסתיימה לפני 2023 או לתקופה אחרת לפי העניין | B30: 416699.53
A32: 9. שיעור שנתי של הוצאות ישירות שאינן מסוג עמלת ניהול חיצוני (חלוקה של סעיף 7 בסעיף 8) | B32: 0.0010346751
A34: הוצאות ישירות מסוג עמלת ניהול חיצוני
A35: 10 . סך דמי ניהול משתנים – החלק מתשלום עמלת ניהול חיצוני שנגזר מתשואת הנכסים | B35: 180.6048
A37: 11. סה"כ הוצאות ישירות מסוג "עמלת ניהול חיצוני" (סכום סעיפים 11.א עד11.ט) | B37: 715.71367
A38: א. סך תשלומים הנובעים מהשקעה בקרנות השקעה בישראל | B38: 289.79102
A39: ב. סך תשלומים הנובעים מהשקעה בקרנות השקעה בחו"ל | B39: 120.78728
A40: ג. סך תשלומים למנהלי תיקים ישראלים בגין השקעה בחו"ל | B40: 0
A41: ד. סך תשלומים למנהלי תיקים זרים | B41: 0
A42: ה. סך תשלומים בגין השקעה בקרנות סל כאשר 75 אחוזים לפחות מנכסי הקרן הם נכסים שהונפקו במדינת ישראל לפי מדדים שעליהם הורה הממונה ובתנאים שהורה | B42: 7.0601717
A43: ו. סך תשלומים בגין השקעה בקרנות סל כאשר 75 אחוזים לפחות מנכסי הקרן הם נכסים שלא הונפקו במדינת ישראל ואינם נסחרים או מוחזקים בה | B43: 222.63236
A44: ז. סך תשלומים בגין השקעה בקרנות נאמנות ישראליות כאשר 75 אחוזים לפחות מנכסי הקרן מושקעים בנכסים שלא הונפקו במדינת ישראל ואינם נסחרים או מוחזקים בה | B44: 8.8518323
A45: ח. סך תשלומים בגין השקעה בקרנות נאמנות זרות כאשר 75 אחוזים לפחות מנכסי הקרן מושקעים בנכסים שלא הונפקו במדינת ישראל ואינם נסחרים או מוחזקים בה | B45: 66.334068
A46: ט. סך תשלומים בגין השקעה בקרן טכנולוגיה עילית | B46: 0.25693562
A48: 12. שיעור עמלת ניהול חיצוני בפועל לפני החזר, ככל שבוצע (חלוקה של סעיף 11 בסעיף 8.ב) | B48: 0.0017175773
... A55: 15.ב שיעור עמלת ניהול חיצוני בפועל לאחר החזר, (חלוקה של התוצאה של סעיף 11 בניכוי סעיף 15א, בסעיף 8.ב) | B55: 0.0017175773
A57: סך הכל הוצאות ישירות בפועל (למעט דמי ניהול משתנים כאמור בסעיף 10)
A59: 16. סך כל הוצאות ישירות (סכום של סעיף 7 וסעיף 11 בניכוי סעיף 15א) | B59: 1328.8517
A61: 17. שיעור סך ההוצאות הישירות מתוך יתרת נכסים ממוצעת (חלוקה של סעיף 16 בסעיף 8) | B61: 0.0022424473
A63: סך הכל הוצאות ישירות (לצורך חישוב שיעור עלות שנתית צפויה)
A64: 18. שיעור מגבלת עמלת ניהול חיצוני שהמשקיע המוסדי הצהיר עליה בהתאם לתקנה 2א לתקנות הוצאות ישירות עבור שנת הכספים הבאה | B64: 0.0025
A65: 19. De: שיעור הוצאות ישירות (סכום של סעיף 9 וסעיף 18) | B65: 0.0035346751

Sheet כספי שקלי
A1: נספח 1- סך ההוצאות הישירות ששולמו בעד כל סוג של הוצאה ישירה לתקופה המסתיימת ביום 31.12.2024
A3: שם חברת הביטוח: הכשרה חברה לביטוח - הכשרה כספי שקלי | B3: אלפי ₪
A5: 31.12.2024 נספח 1- סך ההוצאות הישירות ששולמו בעד כל סוג של הוצאה ישירה לתקופה המסתיימת ביום
A7: הוצאות ישירות שאינן מסוג עמלת ניהול חיצוני
A8: 1. סך הכל עמלות קנייה ומכירה של ניירות ערך סחירים | B8: 35.640959
A9: א. סך עמלות קנייה ומכירה של ניירות ערך סחירים לצדדים קשורים
A10: ב. סך עמלות קנייה ומכירה של ניירות ערך סחירים לצדדים שאינם קשורים | B10: 35.640959
A12: 2. סך הכל דמי שמירה בשל ניירות ערך סחירים וכל עמלה שגובה מי שמבצע את משמרות ניירות הערך עמלות (קסטודיאן) | B12: 0.1915
A13: א. סך עמלות קסטודיאן לצדדים קשורים
A14: ב. סך עמלות קסטודיאן לצדדים שאינם קשורים | B14: 0.1915
A16: 3. סך הכל הוצאות הנובעות מהשקעות לא סחירות | B16: 0
A17: א. הוצאה הנובעת מהשקעה בניירות ערך לא סחירים או ממתן הלוואה למי שאינו עמית או מבוטח | B17: 0
A18: ב. הוצאה הנובעת מהשקעה בזכויות במקרקעין
A20: 4. מסים החלים על משקיע מוסדי, על נכסיו, על הכנסותיו ועל עסקאות שנעשו בנכסיו | B20: 0
A22: 5. סך הוצאות בעד ניהול תביעות | B22: 0
A24: 6. סך הוצאות בעד מתן משכנתאות | B24: 0
A26: 7. סך הכל הוצאות ישירות שאינן מסוג עמלת ניהול חיצוני (סכום סעיפים 1 עד 6) | B26: 35.832459
A28: 8. שווי ממוצע של נכסי הקופה או המסלול (ממוצע פשוט של סעיפים8א ו- 8ב) | B28: 252739.49
A29: א. השווי המשוערך של נכסי הקופה או המסלול נכון ליום 31 בדצמבר של שנת הכספים שהסתיימה 2024 | B29: 239870.16
A30: ב. השווי המשוערך של נכסי הקופה או המסלול נכון ליום 31 בדצמבר של שנת הכספים שהסתיימה לפני 2023 או לתקופה אחרת לפי העניין | B30: 265608.82
A32: 9. שיעור שנתי של הוצאות ישירות שאינן מסוג עמלת ניהול חיצוני (חלוקה של סעיף 7 בסעיף 8) | B32: 0.00014177626
A34: הוצאות ישירות מסוג עמלת ניהול חיצוני
A35: 10 . סך דמי ניהול משתנים – החלק מתשלום עמלת ניהול חיצוני שנגזר מתשואת הנכסים | B35: 0
A37: 11. סה"כ הוצאות ישירות מסוג "עמלת ניהול חיצוני" (סכום סעיפים 11.א עד11.ט) | B37: 0
A38: א. סך תשלומים הנובעים מהשקעה בקרנות השקעה בישראל | B38: 0
A39: ב. סך תשלומים הנובעים מהשקעה בקרנות השקעה בחו"ל | B39: 0
A40: ג. סך תשלומים למנהלי תיקים ישראלים בגין השקעה בחו"ל | B40: 0
A41: ד. סך תשלומים למנהלי תיקים זרים | B41: 0
A42: ה. סך תשלומים בגין השקעה בקרנות סל כאשר 75 אחוזים לפחות מנכסי הקרן הם נכסים שהונפקו במדינת ישראל לפי מדדים שעליהם הורה הממונה ובתנאים שהורה | B42: 0
A43: ו. סך תשלומים בגין השקעה בקרנות סל כאשר 75 אחוזים לפחות מנכסי הקרן הם נכסים שלא הונפקו במדינת ישראל ואינם נסחרים או מוחזקים בה | B43: 0
A44: ז. סך תשלומים בגין השקעה בקרנות נאמנות ישראליות כאשר 75 אחוזים לפחות מנכסי הקרן מושקעים בנכסים שלא הונפקו במדינת ישראל ואינם נסחרים או מוחזקים בה | B44: 0
A45: ח. סך תשלומים בגין השקעה בקרנות נאמנות זרות כאשר 75 אחוזים לפחות מנכסי הקרן מושקעים בנכסים שלא הונפקו במדינת ישראל ואינם נסחרים או מוחזקים בה | B45: 0
A46: ט. סך תשלומים בגין השקעה בקרן טכנולוגיה עילית | B46: 0
A48: 12. שיעור עמלת ניהול חיצוני בפועל לפני החזר, ככל שבוצע (חלוקה של סעיף 11 בסעיף 8.ב) | B48: 0
... A55: 15.ב שיעור עמלת ניהול חיצוני בפועל לאחר החזר, (חלוקה של התוצאה של סעיף 11 בניכוי סעיף 15א, בסעיף 8.ב) | B55: 0
A57: סך הכל הוצאות ישירות בפועל (למעט דמי ניהול משתנים כאמור בסעיף 10)
A59: 16. סך כל הוצאות ישירות (סכום של סעיף 7 וסעיף 11 בניכוי סעיף 15א) | B59: 35.832459
A61: 17. שיעור סך ההוצאות הישירות מתוך יתרת נכסים ממוצעת (חלוקה של סעיף 16 בסעיף 8) | B61: 0.00014177626
A63: סך הכל הוצאות ישירות (לצורך חישוב שיעור עלות שנתית צפויה)
A64: 18. שיעור מגבלת עמלת ניהול חיצוני שהמשקיע המוסדי הצהיר עליה בהתאם לתקנה 2א לתקנות הוצאות ישירות עבור שנת הכספים הבאה | B64: 0.0005
A65: 19. De: שיעור הוצאות ישירות (סכום של סעיף 9 וסעיף 18) | B65: 0.00064177626

Sheet הכשרה לבני 50 ומטה
A1: נספח 1- סך ההוצאות הישירות ששולמו בעד כל סוג של הוצאה ישירה לתקופה המסתיימת ביום 31.12.2024
A3: שם חברת הביטוח: הכשרה חברה לביטוח - הכשרה לבני 50 ומטה | B3: אלפי ₪
A5: 31.12.2024 נספח 1- סך ההוצאות הישירות ששולמו בעד כל סוג של הוצאה ישירה לתקופה המסתיימת ביום
A7: הוצאות ישירות שאינן מסוג עמלת ניהול חיצוני
A8: 1. סך הכל עמלות קנייה ומכירה של ניירות ערך סחירים | B8: 95.22894
A9: א. סך עמלות קנייה ומכירה של ניירות ערך סחירים לצדדים קשורים
A10: ב. סך עמלות קנייה ומכירה של ניירות ערך סחירים לצדדים שאינם קשורים | B10: 95.22894
A12: 2. סך הכל דמי שמירה בשל ניירות ערך סחירים וכל עמלה שגובה מי שמבצע את משמרות ניירות הערך עמלות (קסטודיאן) | B12: 4.6355291
A13: א. סך עמלות קסטודיאן לצדדים קשורים
A14: ב. סך עמלות קסטודיאן לצדדים שאינם קשורים | B14: 4.6355291
A16: 3. סך הכל הוצאות הנובעות מהשקעות לא סחירות | B16: 14.445763
A17: א. הוצאה הנובעת מהשקעה בניירות ערך לא סחירים או ממתן הלוואה למי שאינו עמית או מבוטח | B17: 14.445763
A18: ב. הוצאה הנובעת מהשקעה בזכויות במקרקעין
A20: 4. מסים החלים על משקיע מוסדי, על נכסיו, על הכנסותיו ועל עסקאות שנעשו בנכסיו | B20: 121.7022
A22: 5. סך הוצאות בעד ניהול תביעות | B22: 0
A24: 6. סך הוצאות בעד מתן משכנתאות | B24: 0
A26: 7. סך הכל הוצאות ישירות שאינן מסוג עמלת ניהול חיצוני (סכום סעיפים 1 עד 6) | B26: 236.01244
A28: 8. שווי ממוצע של נכסי הקופה או המסלול (ממוצע פשוט של סעיפים8א ו- 8ב) | B28: 280283.73
A29: א. השווי המשוערך של נכסי הקופה או המסלול נכון ליום 31 בדצמבר של שנת הכספים שהסתיימה 2024 | B29: 256525.06
A30: ב. השווי המשוערך של נכסי הקופה או המסלול נכון ליום 31 בדצמבר של שנת הכספים שהסתיימה לפני 2023 או לתקופה אחרת לפי העניין | B30: 304042.4
A32: 9. שיעור שנתי של הוצאות ישירות שאינן מסוג עמלת ניהול חיצוני (חלוקה של סעיף 7 בסעיף 8) | B32: 0.00084204829
A34: הוצאות ישירות מסוג עמלת ניהול חיצוני
A35: 10 . סך דמי ניהול משתנים – החלק מתשלום עמלת ניהול חיצוני שנגזר מתשואת הנכסים | B35: 411.01523
A37: 11. סה"כ הוצאות ישירות מסוג "עמלת ניהול חיצוני" (סכום סעיפים 11.א עד11.ט) | B37: 776.34723
A38: א. סך תשלומים הנובעים מהשקעה בקרנות השקעה בישראל | B38: 450.13433
A39: ב. סך תשלומים הנובעים מהשקעה בקרנות השקעה בחו"ל | B39: 201.91529
A40: ג. סך תשלומים למנהלי תיקים ישראלים בגין השקעה בחו"ל | B40: 0
A41: ד. סך תשלומים למנהלי תיקים זרים | B41: 0
A42: ה. סך תשלומים בגין השקעה בקרנות סל כאשר 75 אחוזים לפחות מנכסי הקרן הם נכסים שהונפקו במדינת ישראל לפי מדדים שעליהם הורה הממונה ובתנאים שהורה | B42: 1.504912
A43: ו. סך תשלומים בגין השקעה בקרנות סל כאשר 75 אחוזים לפחות מנכסי הקרן הם נכסים שלא הונפקו במדינת ישראל ואינם נסחרים או מוחזקים בה | B43: 74.438717
A44: ז. סך תשלומים בגין השקעה בקרנות נאמנות ישראליות כאשר 75 אחוזים לפחות מנכסי הקרן מושקעים בנכסים שלא הונפקו במדינת ישראל ואינם נסחרים או מוחזקים בה | B44: 5.0523689
A45: ח. סך תשלומים בגין השקעה בקרנות נאמנות זרות כאשר 75 אחוזים לפחות מנכסי הקרן מושקעים בנכסים שלא הונפקו במדינת ישראל ואינם נסחרים או מוחזקים בה | B45: 42.650439
A46: ט. סך תשלומים בגין השקעה בקרן טכנולוגיה עילית | B46: 0.65117051
A48: 12. שיעור עמלת ניהול חיצוני בפועל לפני החזר, ככל שבוצע (חלוקה של סעיף 11 בסעיף 8.ב) | B48: 0.0025534176
... A52: 14. ההפרש בין שיעור מגבלת עמלת ניהול חיצוני מוצהרת לבין שיעור עמלת ניהול חיצוני בפועל (סעיף 13 פחות סעיף 12) | B52: 0.00044658239
A54: 15.א סכום שהוחזר לחוסכים (אם הוחזר)
A55: 15.ב שיעור עמלת ניהול חיצוני בפועל לאחר החזר, (חלוקה של התוצאה של סעיף 11 בניכוי סעיף 15א, בסעיף 8.ב) | B55: 0.0025534176
A57: סך הכל הוצאות ישירות בפועל (למעט דמי ניהול משתנים כאמור בסעיף 10)
A59: 16. סך כל הוצאות ישירות (סכום של סעיף 7 וסעיף 11 בניכוי סעיף 15א) | B59: 1012.3597
A61: 17. שיעור סך ההוצאות הישירות מתוך יתרת נכסים ממוצעת (חלוקה של סעיף 16 בסעיף 8) | B61: 0.0036119102
A63: סך הכל הוצאות ישירות (לצורך חישוב שיעור עלות שנתית צפויה)
A64: 18. שיעור מגבלת עמלת ניהול חיצוני שהמשקיע המוסדי הצהיר עליה בהתאם לתקנה 2א לתקנות הוצאות ישירות עבור שנת הכספים הבאה | B64: 0.0033
A65: 19. De: שיעור הוצאות ישירות (סכום של סעיף 9 וסעיף 18) | B65: 0.0041420483

Sheet הכשרה לבני 50-60
A1: נספח 1- סך ההוצאות הישירות ששולמו בעד כל סוג של הוצאה ישירה לתקופה המסתיימת ביום 31.12.2024
A3: שם חברת הביטוח: הכשרה חברה לביטוח - הכשרה לבני 50-60 | B3: אלפי ₪
A5: 31.12.2024 נספח 1- סך ההוצאות הישירות ששולמו בעד כל סוג של הוצאה ישירה לתקופה המסתיימת ביום
A7: הוצאות ישירות שאינן מסוג עמלת ניהול חיצוני
A8: 1. סך הכל עמלות קנייה ומכירה של ניירות ערך סחירים | B8: 57.183867
A9: א. סך עמלות קנייה ומכירה של ניירות ערך סחירים לצדדים קשורים
A10: ב. סך עמלות קנייה ומכירה של ניירות ערך סחירים לצדדים שאינם קשורים | B10: 57.183867
A12: 2. סך הכל דמי שמירה בשל ניירות ערך סחירים וכל עמלה שגובה מי שמבצע את משמרות ניירות הערך עמלות (קסטודיאן) | B12: 5.7542437
A13: א. סך עמלות קסטודיאן לצדדים קשורים
A14: ב. סך עמלות קסטודיאן לצדדים שאינם קשורים | B14: 5.7542437
A16: 3. סך הכל הוצאות הנובעות מהשקעות לא סחירות | B16: 4.8959952
A17: א. הוצאה הנובעת מהשקעה בניירות ערך לא סחירים או ממתן הלוואה למי שאינו עמית או מבוטח | B17: 4.8959952
A18: ב. הוצאה הנובעת מהשקעה בזכויות במקרקעין
A20: 4. מסים החלים על משקיע מוסדי, על נכסיו, על הכנסותיו ועל עסקאות שנעשו בנכסיו | B20: 111.42752
A22: 5. סך הוצאות בעד ניהול תביעות | B22: 0
A24: 6. סך הוצאות בעד מתן משכנתאות | B24: 0
A26: 7. סך הכל הוצאות ישירות שאינן מסוג עמלת ניהול חיצוני (סכום סעיפים 1 עד 6) | B26: 179.26163
A28: 8. שווי ממוצע של נכסי הקופה או המסלול (ממוצע פשוט של סעיפים8א ו- 8ב) | B28: 229622.74
A29: א. השווי המשוערך של נכסי הקופה או המסלול נכון ליום 31 בדצמבר של שנת הכספים שהסתיימה 2024 | B29: 226609.11
A30: ב. השווי המשוערך של נכסי הקופה או המסלול נכון ליום 31 בדצמבר של שנת הכספים שהסתיימה לפני 2023 או לתקופה אחרת לפי העניין | B30: 232636.38
A32: 9. שיעור שנתי של הוצאות ישירות שאינן מסוג עמלת ניהול חיצוני (חלוקה של סעיף 7 בסעיף 8) | B32: 0.0007806789
A34: הוצאות ישירות מסוג עמלת ניהול חיצוני
A35: 10 . סך דמי ניהול משתנים – החלק מתשלום עמלת ניהול חיצוני שנגזר מתשואת הנכסים | B35: 155.63201
A37: 11. סה"כ הוצאות ישירות מסוג "עמלת ניהול חיצוני" (סכום סעיפים 11.א עד11.ט) | B37: 360.90603
A38: א. סך תשלומים הנובעים מהשקעה בקרנות השקעה בישראל | B38: 175.63247
A39: ב. סך תשלומים הנובעים מהשקעה בקרנות השקעה בחו"ל | B39: 91.343339
A40: ג. סך תשלומים למנהלי תיקים ישראלים בגין השקעה בחו"ל | B40: 0
A41: ד. סך תשלומים למנהלי תיקים זרים | B41: 0
A42: ה. סך תשלומים בגין השקעה בקרנות סל כאשר 75 אחוזים לפחות מנכסי הקרן הם נכסים שהונפקו במדינת ישראל לפי מדדים שעליהם הורה הממונה ובתנאים שהורה | B42: 1.6985019
A43: ו. סך תשלומים בגין השקעה בקרנות סל כאשר 75 אחוזים לפחות מנכסי הקרן הם נכסים שלא הונפקו במדינת ישראל ואינם נסחרים או מוחזקים בה | B43: 59.691203
A44: ז. סך תשלומים בגין השקעה בקרנות נאמנות ישראליות כאשר 75 אחוזים לפחות מנכסי הקרן מושקעים בנכסים שלא הונפקו במדינת ישראל ואינם נסחרים או מוחזקים בה | B44: 2.9718517
A45: ח. סך תשלומים בגין השקעה בקרנות נאמנות זרות כאשר 75 אחוזים לפחות מנכסי הקרן מושקעים בנכסים שלא הונפקו במדינת ישראל ואינם נסחרים או מוחזקים בה | B45: 29.384611
A46: ט. סך תשלומים בגין השקעה בקרן טכנולוגיה עילית | B46: 0.18404744
A48: 12. שיעור עמלת ניהול חיצוני בפועל לפני החזר, ככל שבוצע (חלוקה של סעיף 11 בסעיף 8.ב) | B48: 0.001551374
... A52: 14. ההפרש בין שיעור מגבלת עמלת ניהול חיצוני מוצהרת לבין שיעור עמלת ניהול חיצוני בפועל (סעיף 13 פחות סעיף 12) | B52: 0.00094862599
A54: 15.א סכום שהוחזר לחוסכים (אם הוחזר)
A55: 15.ב שיעור עמלת ניהול חיצוני בפועל לאחר החזר, (חלוקה של התוצאה של סעיף 11 בניכוי סעיף 15א, בסעיף 8.ב) | B55: 0.001551374
A57: סך הכל הוצאות ישירות בפועל (למעט דמי ניהול משתנים כאמור בסעיף 10)
A59: 16. סך כל הוצאות ישירות (סכום של סעיף 7 וסעיף 11 בניכוי סעיף 15א) | B59: 540.16765
A61: 17. שיעור סך ההוצאות הישירות מתוך יתרת נכסים ממוצעת (חלוקה של סעיף 16 בסעיף 8) | B61: 0.0023524136
A63: סך הכל הוצאות ישירות (לצורך חישוב שיעור עלות שנתית צפויה)
A64: 18. שיעור מגבלת עמלת ניהול חיצוני שהמשקיע המוסדי הצהיר עליה בהתאם לתקנה 2א לתקנות הוצאות ישירות עבור שנת הכספים הבאה | B64: 0.0025
A65: 19. De: שיעור הוצאות ישירות (סכום של סעיף 9 וסעיף 18) | B65: 0.0032806789

Sheet הכשרה לבני 60 ומעלה
A1: נספח 1- סך ההוצאות הישירות ששולמו בעד כל סוג של הוצאה ישירה לתקופה המסתיימת ביום 31.12.2024
A3: שם חברת הביטוח: הכשרה חברה לביטוח - הכשרה לבני 60 ומעלה | B3: אלפי ₪
A5: 31.12.2024 נספח 1- סך ההוצאות הישירות ששולמו בעד כל סוג של הוצאה ישירה לתקופה המסתיימת ביום
A7: הוצאות ישירות שאינן מסוג עמלת ניהול חיצוני
A8: 1. סך הכל עמלות קנייה ומכירה של ניירות ערך סחירים | B8: 39.351783
A9: א. סך עמלות קנייה ומכירה של ניירות ערך סחירים לצדדים קשורים
A10: ב. סך עמלות קנייה ומכירה של ניירות ערך סחירים לצדדים שאינם קשורים | B10: 39.351783
A12: 2. סך הכל דמי שמירה בשל ניירות ערך סחירים וכל עמלה שגובה מי שמבצע את משמרות ניירות הערך עמלות (קסטודיאן) | B12: 4.6428563
A13: א. סך עמלות קסטודיאן לצדדים קשורים
A14: ב. סך עמלות קסטודיאן לצדדים שאינם קשורים | B14: 4.6428563
A16: 3. סך הכל הוצאות הנובעות מהשקעות לא סחירות | B16: 3.9829878
A17: א. הוצאה הנובעת מהשקעה בניירות ערך לא סחירים או ממתן הלוואה למי שאינו עמית או מבוטח | B17: 3.9829878
A18: ב. הוצאה הנובעת מהשקעה בזכויות במקרקעין
A20: 4. מסים החלים על משקיע מוסדי, על נכסיו, על הכנסותיו ועל עסקאות שנעשו בנכסיו | B20: 81.074949
A22: 5. סך הוצאות בעד ניהול תביעות | B22: 0
A24: 6. סך הוצאות בעד מתן משכנתאות | B24: 0
A26: 7. סך הכל הוצאות ישירות שאינן מסוג עמלת ניהול חיצוני (סכום סעיפים 1 עד 6) | B26: 129.05258
A28: 8. שווי ממוצע של נכסי הקופה או המסלול (ממוצע פשוט של סעיפים8א ו- 8ב) | B28: 192774.58
A29: א. השווי המשוערך של נכסי הקופה או המסלול נכון ליום 31 בדצמבר של שנת הכספים שהסתיימה 2024 | B29: 195930.35
A30: ב. השווי המשוערך של נכסי הקופה או המסלול נכון ליום 31 בדצמבר של שנת הכספים שהסתיימה לפני 2023 או לתקופה אחרת לפי העניין | B30: 189618.82
A32: 9. שיעור שנתי של הוצאות ישירות שאינן מסוג עמלת ניהול חיצוני (חלוקה של סעיף 7 בסעיף 8) | B32: 0.00066944808
A34: הוצאות ישירות מסוג עמלת ניהול חיצוני
A35: 10 . סך דמי ניהול משתנים – החלק מתשלום עמלת ניהול חיצוני שנגזר מתשואת הנכסים | B35: 122.33785
A37: 11. סה"כ הוצאות ישירות מסוג "עמלת ניהול חיצוני" (סכום סעיפים 11.א עד11.ט) | B37: 252.14407
A38: א. סך תשלומים הנובעים מהשקעה בקרנות השקעה בישראל | B38: 127.82364
A39: ב. סך תשלומים הנובעים מהשקעה בקרנות השקעה בחו"ל | B39: 67.947532
A40: ג. סך תשלומים למנהלי תיקים ישראלים בגין השקעה בחו"ל | B40: 0
A41: ד. סך תשלומים למנהלי תיקים זרים | B41: 0
A42: ה. סך תשלומים בגין השקעה בקרנות סל כאשר 75 אחוזים לפחות מנכסי הקרן הם נכסים שהונפקו במדינת ישראל לפי מדדים שעליהם הורה הממונה ובתנאים שהורה | B42: 0.14988413
A43: ו. סך תשלומים בגין השקעה בקרנות סל כאשר 75 אחוזים לפחות מנכסי הקרן הם נכסים שלא הונפקו במדינת ישראל ואינם נסחרים או מוחזקים בה | B43: 35.039004
A44: ז. סך תשלומים בגין השקעה בקרנות נאמנות ישראליות כאשר 75 אחוזים לפחות מנכסי הקרן מושקעים בנכסים שלא הונפקו במדינת ישראל ואינם נסחרים או מוחזקים בה | B44: 1.8403145
A45: ח. סך תשלומים בגין השקעה בקרנות נאמנות זרות כאשר 75 אחוזים לפחות מנכסי הקרן מושקעים בנכסים שלא הונפקו במדינת ישראל ואינם נסחרים או מוחזקים בה | B45: 19.264491
A46: ט. סך תשלומים בגין השקעה בקרן טכנולוגיה עילית | B46: 0.079202388
A48: 12. שיעור עמלת ניהול חיצוני בפועל לפני החזר, ככל שבוצע (חלוקה של סעיף 11 בסעיף 8.ב) | B48: 0.0013297418
... A55: 15.ב שיעור עמלת ניהול חיצוני בפועל לאחר החזר, (חלוקה של התוצאה של סעיף 11 בניכוי סעיף 15א, בסעיף 8.ב) | B55: 0.0013297418
A57: סך הכל הוצאות ישירות בפועל (למעט דמי ניהול משתנים כאמור בסעיף 10)
A59: 16. סך כל הוצאות ישירות (סכום של סעיף 7 וסעיף 11 בניכוי סעיף 15א) | B59: 381.19665
A61: 17. שיעור סך ההוצאות הישירות מתוך יתרת נכסים ממוצעת (חלוקה של סעיף 16 בסעיף 8) | B61: 0.0019774217
A63: סך הכל הוצאות ישירות (לצורך חישוב שיעור עלות שנתית צפויה)
A64: 18. שיעור מגבלת עמלת ניהול חיצוני שהמשקיע המוסדי הצהיר עליה בהתאם לתקנה 2א לתקנות הוצאות ישירות עבור שנת הכספים הבאה | B64: 0.0025
A65: 19. De: שיעור הוצאות ישירות (סכום של סעיף 9 וסעיף 18) | B65: 0.0031694481

Sheet הכשרה מקבלי קצבה
A1: נספח 1- סך ההוצאות הישירות ששולמו בעד כל סוג של הוצאה ישירה לתקופה המסתיימת ביום 31.12.2024
A3: שם חברת הביטוח: הכשרה חברה לביטוח - הכשרה מקבלי קצבה | B3: אלפי ₪
A5: 31.12.2024 נספח 1- סך ההוצאות הישירות ששולמו בעד כל סוג של הוצאה ישירה לתקופה המסתיימת ביום
A7: הוצאות ישירות שאינן מסוג עמלת ניהול חיצוני
A8: 1. סך הכל עמלות קנייה ומכירה של ניירות ערך סחירים | B8: 80.523723
A9: א. סך עמלות קנייה ומכירה של ניירות ערך סחירים לצדדים קשורים
A10: ב. סך עמלות קנייה ומכירה של ניירות ערך סחירים לצדדים שאינם קשורים | B10: 80.523723
A12: 2. סך הכל דמי שמירה בשל ניירות ערך סחירים וכל עמלה שגובה מי שמבצע את משמרות ניירות הערך עמלות (קסטודיאן) | B12: 4.5896291
A13: א. סך עמלות קסטודיאן לצדדים קשורים
A14: ב. סך עמלות קסטודיאן לצדדים שאינם קשורים | B14: 4.5896291
A16: 3. סך הכל הוצאות הנובעות מהשקעות לא סחירות | B16: 2.537032
A17: א. הוצאה הנובעת מהשקעה בניירות ערך לא סחירים או ממתן הלוואה למי שאינו עמית או מבוטח | B17: 2.537032
A18: ב. הוצאה הנובעת מהשקעה בזכויות במקרקעין
A20: 4. מסים החלים על משקיע מוסדי, על נכסיו, על הכנסותיו ועל עסקאות שנעשו בנכסיו | B20: 71.049965
A22: 5. סך הוצאות בעד ניהול תביעות | B22: 0
A24: 6. סך הוצאות בעד מתן משכנתאות | B24: 0
A26: 7. סך הכל הוצאות ישירות שאינן מסוג עמלת ניהול חיצוני (סכום סעיפים 1 עד 6) | B26: 158.70035
A28: 8. שווי ממוצע של נכסי הקופה או המסלול (ממוצע פשוט של סעיפים8א ו- 8ב) | B28: 317328.32
A29: א. השווי המשוערך של נכסי הקופה או המסלול נכון ליום 31 בדצמבר של שנת הכספים שהסתיימה 2024 | B29: 348795.78
A30: ב. השווי המשוערך של נכסי הקופה או המסלול נכון ליום 31 בדצמבר של שנת הכספים שהסתיימה לפני 2023 או לתקופה אחרת לפי העניין | B30: 285860.85
A32: 9. שיעור שנתי של הוצאות ישירות שאינן מסוג עמלת ניהול חיצוני (חלוקה של סעיף 7 בסעיף 8) | B32: 0.00050011405
A34: הוצאות ישירות מסוג עמלת ניהול חיצוני
A35: 10 . סך דמי ניהול משתנים – החלק מתשלום עמלת ניהול חיצוני שנגזר מתשואת הנכסים | B35: 139.07824
A37: 11. סה"כ הוצאות ישירות מסוג "עמלת ניהול חיצוני" (סכום סעיפים 11.א עד11.ט) | B37: 459.02595
A38: א. סך תשלומים הנובעים מהשקעה בקרנות השקעה בישראל | B38: 234.31889
A39: ב. סך תשלומים הנובעים מהשקעה בקרנות השקעה בחו"ל | B39: 133.19236
A40: ג. סך תשלומים למנהלי תיקים ישראלים בגין השקעה בחו"ל | B40: 0
A41: ד. סך תשלומים למנהלי תיקים זרים | B41: 0
A42: ה. סך תשלומים בגין השקעה בקרנות סל כאשר 75 אחוזים לפחות מנכסי הקרן הם נכסים שהונפקו במדינת ישראל לפי מדדים שעליהם הורה הממונה ובתנאים שהורה | B42: 2.8419176
A43: ו. סך תשלומים בגין השקעה בקרנות סל כאשר 75 אחוזים לפחות מנכסי הקרן הם נכסים שלא הונפקו במדינת ישראל ואינם נסחרים או מוחזקים בה | B43: 50.60813
A44: ז. סך תשלומים בגין השקעה בקרנות נאמנות ישראליות כאשר 75 אחוזים לפחות מנכסי הקרן מושקעים בנכסים שלא הונפקו במדינת ישראל ואינם נסחרים או מוחזקים בה | B44: 3.9670634
A45: ח. סך תשלומים בגין השקעה בקרנות נאמנות זרות כאשר 75 אחוזים לפחות מנכסי הקרן מושקעים בנכסים שלא הונפקו במדינת ישראל ואינם נסחרים או מוחזקים בה | B45: 34.085443
A46: ט. סך תשלומים בגין השקעה בקרן טכנולוגיה עילית | B46: 0.012154226
A48: 12. שיעור עמלת ניהול חיצוני בפועל לפני החזר, ככל שבוצע (חלוקה של סעיף 11 בסעיף 8.ב) | B48: 0.0016057671
... A55: 15.ב שיעור עמלת ניהול חיצוני בפועל לאחר החזר, (חלוקה של התוצאה של סעיף 11 בניכוי סעיף 15א, בסעיף 8.ב) | B55: 0.0016057671
A57: סך הכל הוצאות ישירות בפועל (למעט דמי ניהול משתנים כאמור בסעיף 10)
A59: 16. סך כל הוצאות ישירות (סכום של סעיף 7 וסעיף 11 בניכוי סעיף 15א) | B59: 617.7263
A61: 17. שיעור סך ההוצאות הישירות מתוך יתרת נכסים ממוצעת (חלוקה של סעיף 16 בסעיף 8) | B61: 0.0019466473
A63: סך הכל הוצאות ישירות (לצורך חישוב שיעור עלות שנתית צפויה)
A64: 18. שיעור מגבלת עמלת ניהול חיצוני שהמשקיע המוסדי הצהיר עליה בהתאם לתקנה 2א לתקנות הוצאות ישירות עבור שנת הכספים הבאה | B64: 0.0025
A65: 19. De: שיעור הוצאות ישירות (סכום של סעיף 9 וסעיף 18) | B65: 0.0030001141

Sheet הכשרה אשראי ואג"ח
A1: נספח 1- סך ההוצאות הישירות ששולמו בעד כל סוג של הוצאה ישירה לתקופה המסתיימת ביום 31.12.2024
A3: שם חברת הביטוח: הכשרה חברה לביטוח - הכשרה אג"ח | B3: אלפי ₪
A5: 31.12.2024 נספח 1- סך ההוצאות הישירות ששולמו בעד כל סוג של הוצאה ישירה לתקופה המסתיימת ביום
A7: הוצאות ישירות שאינן מסוג עמלת ניהול חיצוני
A8: 1. סך הכל עמלות קנייה ומכירה של ניירות ערך סחירים | B8: 127.80061
A9: א. סך עמלות קנייה ומכירה של ניירות ערך סחירים לצדדים קשורים
A10: ב. סך עמלות קנייה ומכירה של ניירות ערך סחירים לצדדים שאינם קשורים | B10: 127.80061
A12: 2. סך הכל דמי שמירה בשל ניירות ערך סחירים וכל עמלה שגובה מי שמבצע את משמרות ניירות הערך עמלות (קסטודיאן) | B12: 1.4482946
A13: א. סך עמלות קסטודיאן לצדדים קשורים
A14: ב. סך עמלות קסטודיאן לצדדים שאינם קשורים | B14: 1.4482946
A16: 3. סך הכל הוצאות הנובעות מהשקעות לא סחירות | B16: 1.157
A17: א. הוצאה הנובעת מהשקעה בניירות ערך לא סחירים או ממתן הלוואה למי שאינו עמית או מבוטח | B17: 1.157
A18: ב. הוצאה הנובעת מהשקעה בזכויות במקרקעין
A20: 4. מסים החלים על משקיע מוסדי, על נכסיו, על הכנסותיו ועל עסקאות שנעשו בנכסיו | B20: 14.093804
A22: 5. סך הוצאות בעד ניהול תביעות | B22: 0
A24: 6. סך הוצאות בעד מתן משכנתאות | B24: 0
A26: 7. סך הכל הוצאות ישירות שאינן מסוג עמלת ניהול חיצוני (סכום סעיפים 1 עד 6) | B26: 144.49971
A28: 8. שווי ממוצע של נכסי הקופה או המסלול (ממוצע פשוט של סעיפים8א ו- 8ב) | B28: 458302.61
A29: א. השווי המשוערך של נכסי הקופה או המסלול נכון ליום 31 בדצמבר של שנת הכספים שהסתיימה 2024 | B29: 508641.7
A30: ב. השווי המשוערך של נכסי הקופה או המסלול נכון ליום 31 בדצמבר של שנת הכספים שהסתיימה לפני 2023 או לתקופה אחרת לפי העניין | B30: 407963.52
A32: 9. שיעור שנתי של הוצאות ישירות שאינן מסוג עמלת ניהול חיצוני (חלוקה של סעיף 7 בסעיף 8) | B32: 0.00031529322
A34: הוצאות ישירות מסוג עמלת ניהול חיצוני
A35: 10 . סך דמי ניהול משתנים – החלק מתשלום עמלת ניהול חיצוני שנגזר מתשואת הנכסים | B35: 1273.4371
A37: 11. סה"כ הוצאות ישירות מסוג "עמלת ניהול חיצוני" (סכום סעיפים 11.א עד11.ט) | B37: 1755.107
A38: א. סך תשלומים הנובעים מהשקעה בקרנות השקעה בישראל | B38: 275.66147
A39: ב. סך תשלומים הנובעים מהשקעה בקרנות השקעה בחו"ל | B39: 664.41971
A40: ג. סך תשלומים למנהלי תיקים ישראלים בגין השקעה בחו"ל | B40: 0
A41: ד. סך תשלומים למנהלי תיקים זרים | B41: 0
A42: ה. סך תשלומים בגין השקעה בקרנות סל כאשר 75 אחוזים לפחות מנכסי הקרן הם נכסים שהונפקו במדינת ישראל לפי מדדים שעליהם הורה הממונה ובתנאים שהורה | B42: 0
A43: ו. סך תשלומים בגין השקעה בקרנות סל כאשר 75 אחוזים לפחות מנכסי הקרן הם נכסים שלא הונפקו במדינת ישראל ואינם נסחרים או מוחזקים בה | B43: 10.890327
A44: ז. סך תשלומים בגין השקעה בקרנות נאמנות ישראליות כאשר 75 אחוזים לפחות מנכסי הקרן מושקעים בנכסים שלא הונפקו במדינת ישראל ואינם נסחרים או מוחזקים בה | B44: 0
A45: ח. סך תשלומים בגין השקעה בקרנות נאמנות זרות כאשר 75 אחוזים לפחות מנכסי הקרן מושקעים בנכסים שלא הונפקו במדינת ישראל ואינם נסחרים או מוחזקים בה | B45: 804.1355
A46: ט. סך תשלומים בגין השקעה בקרן טכנולוגיה עילית | B46: 0
A48: 12. שיעור עמלת ניהול חיצוני בפועל לפני החזר, ככל שבוצע (חלוקה של סעיף 11 בסעיף 8.ב) | B48: 0.0043021175
... A55: 15.ב שיעור עמלת ניהול חיצוני בפועל לאחר החזר, (חלוקה של התוצאה של סעיף 11 בניכוי סעיף 15א, בסעיף 8.ב) | B55: 0.0043021175
A57: סך הכל הוצאות ישירות בפועל (למעט דמי ניהול משתנים כאמור בסעיף 10)
A59: 16. סך כל הוצאות ישירות (סכום של סעיף 7 וסעיף 11 בניכוי סעיף 15א) | B59: 1899.6067
A61: 17. שיעור סך ההוצאות הישירות מתוך יתרת נכסים ממוצעת (חלוקה של סעיף 16 בסעיף 8) | B61: 0.0041448743
A63: סך הכל הוצאות ישירות (לצורך חישוב שיעור עלות שנתית צפויה)
A64: 18. שיעור מגבלת עמלת ניהול חיצוני שהמשקיע המוסדי הצהיר עליה בהתאם לתקנה 2א לתקנות הוצאות ישירות עבור שנת הכספים הבאה | B64: 0.005
A65: 19. De: שיעור הוצאות ישירות (סכום של סעיף 9 וסעיף 18) | B65: 0.0053152932

Sheet הכשרה אשראי ואג"ח עד 25%
A1: נספח 1- סך ההוצאות הישירות ששולמו בעד כל סוג של הוצאה ישירה לתקופה המסתיימת ביום 31.12.2024
A3: שם חברת הביטוח: הכשרה חברה לביטוח - הכשרה אשראי ואג"ח עד 25% | B3: אלפי ₪
A5: 31.12.2024 נספח 1- סך ההוצאות הישירות ששולמו בעד כל סוג של הוצאה ישירה לתקופה המסתיימת ביום
A7: הוצאות ישירות שאינן מסוג עמלת ניהול חיצוני
A8: 1. סך הכל עמלות קנייה ומכירה של ניירות ערך סחירים | B8: 35.836753
A9: א. סך עמלות קנייה ומכירה של ניירות ערך סחירים לצדדים קשורים
A10: ב. סך עמלות קנייה ומכירה של ניירות ערך סחירים לצדדים שאינם קשורים | B10: 35.836753
A12: 2. סך הכל דמי שמירה בשל ניירות ערך סחירים וכל עמלה שגובה מי שמבצע את משמרות ניירות הערך עמלות (קסטודיאן) | B12: 0.14089592
A13: א. סך עמלות קסטודיאן לצדדים קשורים
A14: ב. סך עמלות קסטודיאן לצדדים שאינם קשורים | B14: 0.14089592
A16: 3. סך הכל הוצאות הנובעות מהשקעות לא סחירות | B16: 0.232
A17: א. הוצאה הנובעת מהשקעה בניירות ערך לא סחירים או ממתן הלוואה למי שאינו עמית או מבוטח | B17: 0.232
A18: ב. הוצאה הנובעת מהשקעה בזכויות במקרקעין
A20: 4. מסים החלים על משקיע מוסדי, על נכסיו, על הכנסותיו ועל עסקאות שנעשו בנכסיו | B20: 3.3446895
A22: 5. סך הוצאות בעד ניהול תביעות | B22: 0
A24: 6. סך הוצאות בעד מתן משכנתאות | B24: 0
A26: 7. סך הכל הוצאות ישירות שאינן מסוג עמלת ניהול חיצוני (סכום סעיפים 1 עד 6) | B26: 39.554339
A28: 8. שווי ממוצע של נכסי הקופה או המסלול (ממוצע פשוט של סעיפים8א ו- 8ב) | B28: 100886.07
A29: א. השווי המשוערך של נכסי הקופה או המסלול נכון ליום 31 בדצמבר של שנת הכספים שהסתיימה 2024 | B29: 123465.26
A30: ב. השווי המשוערך של נכסי הקופה או המסלול נכון ליום 31 בדצמבר של שנת הכספים שהסתיימה לפני 2023 או לתקופה אחרת לפי העניין | B30: 78306.884
A32: 9. שיעור שנתי של הוצאות ישירות שאינן מסוג עמלת ניהול חיצוני (חלוקה של סעיף 7 בסעיף 8) | B32: 0.00039206937
A34: הוצאות ישירות מסוג עמלת ניהול חיצוני
A35: 10 . סך דמי ניהול משתנים – החלק מתשלום עמלת ניהול חיצוני שנגזר מתשואת הנכסים | B35: 0
A37: 11. סה"כ הוצאות ישירות מסוג "עמלת ניהול חיצוני" (סכום סעיפים 11.א עד11.ט) | B37: 36.596709
A38: א. סך תשלומים הנובעים מהשקעה בקרנות השקעה בישראל | B38: 0
A39: ב. סך תשלומים הנובעים מהשקעה בקרנות השקעה בחו"ל | B39: 0.723
A40: ג. סך תשלומים למנהלי תיקים ישראלים בגין השקעה בחו"ל | B40: 0
A41: ד. סך תשלומים למנהלי תיקים זרים | B41: 0
A42: ה. סך תשלומים בגין השקעה בקרנות סל כאשר 75 אחוזים לפחות מנכסי הקרן הם נכסים שהונפקו במדינת ישראל לפי מדדים שעליהם הורה הממונה ובתנאים שהורה | B42: 0.037279169
A43: ו. סך תשלומים בגין השקעה בקרנות סל כאשר 75 אחוזים לפחות מנכסי הקרן הם נכסים שלא הונפקו במדינת ישראל ואינם נסחרים או מוחזקים בה | B43: 3.1083427
A44: ז. סך תשלומים בגין השקעה בקרנות נאמנות ישראליות כאשר 75 אחוזים לפחות מנכסי הקרן מושקעים בנכסים שלא הונפקו במדינת ישראל ואינם נסחרים או מוחזקים בה | B44: 0
A45: ח. סך תשלומים בגין השקעה בקרנות נאמנות זרות כאשר 75 אחוזים לפחות מנכסי הקרן מושקעים בנכסים שלא הונפקו במדינת ישראל ואינם נסחרים או מוחזקים בה | B45: 32.728087
A46: ט. סך תשלומים בגין השקעה בקרן טכנולוגיה עילית | B46: 0
A48: 12. שיעור עמלת ניהול חיצוני בפועל לפני החזר, ככל שבוצע (חלוקה של סעיף 11 בסעיף 8.ב) | B48: 0.00046734983
... A55: 15.ב שיעור עמלת ניהול חיצוני בפועל לאחר החזר, (חלוקה של התוצאה של סעיף 11 בניכוי סעיף 15א, בסעיף 8.ב) | B55: 0.00046734983
A57: סך הכל הוצאות ישירות בפועל (למעט דמי ניהול משתנים כאמור בסעיף 10)
A59: 16. סך כל הוצאות ישירות (סכום של סעיף 7 וסעיף 11 בניכוי סעיף 15א) | B59: 76.151048
A61: 17. שיעור סך ההוצאות הישירות מתוך יתרת נכסים ממוצעת (חלוקה של סעיף 16 בסעיף 8) | B61: 0.00075482221
A63: סך הכל הוצאות ישירות (לצורך חישוב שיעור עלות שנתית צפויה)
A64: 18. שיעור מגבלת עמלת ניהול חיצוני שהמשקיע המוסדי הצהיר עליה בהתאם לתקנה 2א לתקנות הוצאות ישירות עבור שנת הכספים הבאה | B64: 0.0015
A65: 19. De: שיעור הוצאות ישירות (סכום של סעיף 9 וסעיף 18) | B65: 0.0018920694

Sheet הכשרה עוקב מדדים גמיש
A1: נספח 1- סך ההוצאות הישירות ששולמו בעד כל סוג של הוצאה ישירה לתקופה המסתיימת ביום 31.12.2024
A3: שם חברת הביטוח: הכשרה חברה לביטוח - הכשרה עוקב מדדים גמיש | B3: אלפי ₪
A5: 31.12.2024 נספח 1- סך ההוצאות הישירות ששולמו בעד כל סוג של הוצאה ישירה לתקופה המסתיימת ביום
A7: הוצאות ישירות שאינן מסוג עמלת ניהול חיצוני
A8: 1. סך הכל עמלות קנייה ומכירה של ניירות ערך סחירים | B8: 6.2779132
A9: א. סך עמלות קנייה ומכירה של ניירות ערך סחירים לצדדים קשורים
A10: ב. סך עמלות קנייה ומכירה של ניירות ערך סחירים לצדדים שאינם קשורים | B10: 6.2779132
A12: 2. סך הכל דמי שמירה בשל ניירות ערך סחירים וכל עמלה שגובה מי שמבצע את משמרות ניירות הערך עמלות (קסטודיאן) | B12: 0
A13: א. סך עמלות קסטודיאן לצדדים קשורים
A14: ב. סך עמלות קסטודיאן לצדדים שאינם קשורים | B14: 0
A16: 3. סך הכל הוצאות הנובעות מהשקעות לא סחירות | B16: 0
A17: א. הוצאה הנובעת מהשקעה בניירות ערך לא סחירים או ממתן הלוואה למי שאינו עמית או מבוטח | B17: 0
A18: ב. הוצאה הנובעת מהשקעה בזכויות במקרקעין
A20: 4. מסים החלים על משקיע מוסדי, על נכסיו, על הכנסותיו ועל עסקאות שנעשו בנכסיו | B20: 10.028616
A22: 5. סך הוצאות בעד ניהול תביעות | B22: 0
A24: 6. סך הוצאות בעד מתן משכנתאות | B24: 0
A26: 7. סך הכל הוצאות ישירות שאינן מסוג עמלת ניהול חיצוני (סכום סעיפים 1 עד 6) | B26: 16.306529
A28: 8. שווי ממוצע של נכסי הקופה או המסלול (ממוצע פשוט של סעיפים8א ו- 8ב) | B28: 33500.312
A29: א. השווי המשוערך של נכסי הקופה או המסלול נכון ליום 31 בדצמבר של שנת הכספים שהסתיימה 2024 | B29: 41158.325
A30: ב. השווי המשוערך של נכסי הקופה או המסלול נכון ליום 31 בדצמבר של שנת הכספים שהסתיימה לפני 2023 או לתקופה אחרת לפי העניין | B30: 25842.298
A32: 9. שיעור שנתי של הוצאות ישירות שאינן מסוג עמלת ניהול חיצוני (חלוקה של סעיף 7 בסעיף 8) | B32: 0.00048675754
A34: הוצאות ישירות מסוג עמלת ניהול חיצוני
A35: 10 . סך דמי ניהול משתנים – החלק מתשלום עמלת ניהול חיצוני שנגזר מתשואת הנכסים | B35: 0
A37: 11. סה"כ הוצאות ישירות מסוג "עמלת ניהול חיצוני" (סכום סעיפים 11.א עד11.ט) | B37: 4.3714839
A38: א. סך תשלומים הנובעים מהשקעה בקרנות השקעה בישראל | B38: 0
A39: ב. סך תשלומים הנובעים מהשקעה בקרנות השקעה בחו"ל | B39: 0
A40: ג. סך תשלומים למנהלי תיקים ישראלים בגין השקעה בחו"ל | B40: 0
A41: ד. סך תשלומים למנהלי תיקים זרים | B41: 0
A42: ה. סך תשלומים בגין השקעה בקרנות סל כאשר 75 אחוזים לפחות מנכסי הקרן הם נכסים שהונפקו במדינת ישראל לפי מדדים שעליהם הורה הממונה ובתנאים שהורה | B42: 0.021291857
A43: ו. סך תשלומים בגין השקעה בקרנות סל כאשר 75 אחוזים לפחות מנכסי הקרן הם נכסים שלא הונפקו במדינת ישראל ואינם נסחרים או מוחזקים בה | B43: 4.350192
A44: ז. סך תשלומים בגין השקעה בקרנות נאמנות ישראליות כאשר 75 אחוזים לפחות מנכסי הקרן מושקעים בנכסים שלא הונפקו במדינת ישראל ואינם נסחרים או מוחזקים בה | B44: 0
A45: ח. סך תשלומים בגין השקעה בקרנות נאמנות זרות כאשר 75 אחוזים לפחות מנכסי הקרן מושקעים בנכסים שלא הונפקו במדינת ישראל ואינם נסחרים או מוחזקים בה | B45: 0
A46: ט. סך תשלומים בגין השקעה בקרן טכנולוגיה עילית | B46: 0
A48: 12. שיעור עמלת ניהול חיצוני בפועל לפני החזר, ככל שבוצע (חלוקה של סעיף 11 בסעיף 8.ב) | B48: 0.00016916003
... A55: 15.ב שיעור עמלת ניהול חיצוני בפועל לאחר החזר, (חלוקה של התוצאה של סעיף 11 בניכוי סעיף 15א, בסעיף 8.ב) | B55: 0.00016916003
A57: סך הכל הוצאות ישירות בפועל (למעט דמי ניהול משתנים כאמור בסעיף 10)
A59: 16. סך כל הוצאות ישירות (סכום של סעיף 7 וסעיף 11 בניכוי סעיף 15א) | B59: 20.678013
A61: 17. שיעור סך ההוצאות הישירות מתוך יתרת נכסים ממוצעת (חלוקה של סעיף 16 בסעיף 8) | B61: 0.00061724838
A63: סך הכל הוצאות ישירות (לצורך חישוב שיעור עלות שנתית צפויה)
A64: 18. שיעור מגבלת עמלת ניהול חיצוני שהמשקיע המוסדי הצהיר עליה בהתאם לתקנה 2א לתקנות הוצאות ישירות עבור שנת הכספים הבאה | B64: 0.0015
A65: 19. De: שיעור הוצאות ישירות (סכום של סעיף 9 וסעיף 18) | B65: 0.0019867575

Sheet הכשרה משולב סחיר
A1: נספח 1- סך ההוצאות הישירות ששולמו בעד כל סוג של הוצאה ישירה לתקופה המסתיימת ביום 31.12.2024
A3: שם חברת הביטוח: הכשרה חברה לביטוח - הכשרה משולב סחיר | B3: אלפי ₪
A5: 31.12.2024 נספח 1- סך ההוצאות הישירות ששולמו בעד כל סוג של הוצאה ישירה לתקופה המסתיימת ביום
A7: הוצאות ישירות שאינן מסוג עמלת ניהול חיצוני
A8: 1. סך הכל עמלות קנייה ומכירה של ניירות ערך סחירים | B8: 31.014115
A9: א. סך עמלות קנייה ומכירה של ניירות ערך סחירים לצדדים קשורים
A10: ב. סך עמלות קנייה ומכירה של ניירות ערך סחירים לצדדים שאינם קשורים | B10: 31.014115
A12: 2. סך הכל דמי שמירה בשל ניירות ערך סחירים וכל עמלה שגובה מי שמבצע את משמרות ניירות הערך עמלות (קסטודיאן) | B12: 0
A13: א. סך עמלות קסטודיאן לצדדים קשורים
A14: ב. סך עמלות קסטודיאן לצדדים שאינם קשורים | B14: 0
A16: 3. סך הכל הוצאות הנובעות מהשקעות לא סחירות | B16: 0
A17: א. הוצאה הנובעת מהשקעה בניירות ערך לא סחירים או ממתן הלוואה למי שאינו עמית או מבוטח | B17: 0
A18: ב. הוצאה הנובעת מהשקעה בזכויות במקרקעין
A20: 4. מסים החלים על משקיע מוסדי, על נכסיו, על הכנסותיו ועל עסקאות שנעשו בנכסיו | B20: 0.35655646
A22: 5. סך הוצאות בעד ניהול תביעות | B22: 0
A24: 6. סך הוצאות בעד מתן משכנתאות | B24: 0
A26: 7. סך הכל הוצאות ישירות שאינן מסוג עמלת ניהול חיצוני (סכום סעיפים 1 עד 6) | B26: 31.370672
A28: 8. שווי ממוצע של נכסי הקופה או המסלול (ממוצע פשוט של סעיפים8א ו- 8ב) | B28: 66564.826
A29: א. השווי המשוערך של נכסי הקופה או המסלול נכון ליום 31 בדצמבר של שנת הכספים שהסתיימה 2024 | B29: 128683.87
A30: ב. השווי המשוערך של נכסי הקופה או המסלול נכון ליום 31 בדצמבר של שנת הכספים שהסתיימה לפני 2023 או לתקופה אחרת לפי העניין | B30: 4445.7788
A32: 9. שיעור שנתי של הוצאות ישירות שאינן מסוג עמלת ניהול חיצוני (חלוקה של סעיף 7 בסעיף 8) | B32: 0.00047128001
A34: הוצאות ישירות מסוג עמלת ניהול חיצוני
A35: 10 . סך דמי ניהול משתנים – החלק מתשלום עמלת ניהול חיצוני שנגזר מתשואת הנכסים | B35: 0
A37: 11. סה"כ הוצאות ישירות מסוג "עמלת ניהול חיצוני" (סכום סעיפים 11.א עד11.ט) | B37: 0.33965146
A38: א. סך תשלומים הנובעים מהשקעה בקרנות השקעה בישראל | B38: 0
A39: ב. סך תשלומים הנובעים מהשקעה בקרנות השקעה בחו"ל | B39: 0
A40: ג. סך תשלומים למנהלי תיקים ישראלים בגין השקעה בחו"ל | B40: 0
A41: ד. סך תשלומים למנהלי תיקים זרים | B41: 0
A42: ה. סך תשלומים בגין השקעה בקרנות סל כאשר 75 אחוזים לפחות מנכסי הקרן הם נכסים שהונפקו במדינת ישראל לפי מדדים שעליהם הורה הממונה ובתנאים שהורה | B42: 0.076031822
A43: ו. סך תשלומים בגין השקעה בקרנות סל כאשר 75 אחוזים לפחות מנכסי הקרן הם נכסים שלא הונפקו במדינת ישראל ואינם נסחרים או מוחזקים בה | B43: 0.26361964
A44: ז. סך תשלומים בגין השקעה בקרנות נאמנות ישראליות כאשר 75 אחוזים לפחות מנכסי הקרן מושקעים בנכסים שלא הונפקו במדינת ישראל ואינם נסחרים או מוחזקים בה | B44: 0
A45: ח. סך תשלומים בגין השקעה בקרנות נאמנות זרות כאשר 75 אחוזים לפחות מנכסי הקרן מושקעים בנכסים שלא הונפקו במדינת ישראל ואינם נסחרים או מוחזקים בה | B45: 0
A46: ט. סך תשלומים בגין השקעה בקרן טכנולוגיה עילית | B46: 0
A48: 12. שיעור עמלת ניהול חיצוני בפועל לפני החזר, ככל שבוצע (חלוקה של סעיף 11 בסעיף 8.ב) | B48: 7.6398641e-05
... A55: 15.ב שיעור עמלת ניהול חיצוני בפועל לאחר החזר, (חלוקה של התוצאה של סעיף 11 בניכוי סעיף 15א, בסעיף 8.ב) | B55: 7.6398641e-05
A57: סך הכל הוצאות ישירות בפועל (למעט דמי ניהול משתנים כאמור בסעיף 10)
A59: 16. סך כל הוצאות ישירות (סכום של סעיף 7 וסעיף 11 בניכוי סעיף 15א) | B59: 31.710323
A61: 17. שיעור סך ההוצאות הישירות מתוך יתרת נכסים ממוצעת (חלוקה של סעיף 16 בסעיף 8) | B61: 0.00047638257
A63: סך הכל הוצאות ישירות (לצורך חישוב שיעור עלות שנתית צפויה)
A64: 18. שיעור מגבלת עמלת ניהול חיצוני שהמשקיע המוסדי הצהיר עליה בהתאם לתקנה 2א לתקנות הוצאות ישירות עבור שנת הכספים הבאה | B64: 0.001
A65: 19. De: שיעור הוצאות ישירות (סכום של סעיף 9 וסעיף 18) | B65: 0.00147128

Sheet אלשטולר כללי
A1: נספח 1- סך ההוצאות הישירות ששולמו בעד כל סוג של הוצאה ישירה לתקופה המסתיימת ביום 31.12.2024
A3: שם חברת הביטוח: הכשרה חברה לביטוח - בסט אינווסט אלטשולר שחם כללי | B3: אלפי ₪
A5: 31.12.2024 נספח 1- סך ההוצאות הישירות ששולמו בעד כל סוג של הוצאה ישירה לתקופה המסתיימת ביום
A7: הוצאות ישירות שאינן מסוג עמלת ניהול חיצוני
A8: 1. סך הכל עמלות קנייה ומכירה של ניירות ערך סחירים | B8: 1640.5006
A9: א. סך עמלות קנייה ומכירה של ניירות ערך סחירים לצדדים קשורים
A10: ב. סך עמלות קנייה ומכירה של ניירות ערך סחירים לצדדים שאינם קשורים | B10: 1640.5006
A12: 2. סך הכל דמי שמירה בשל ניירות ערך סחירים וכל עמלה שגובה מי שמבצע את משמרות ניירות הערך עמלות (קסטודיאן) | B12: 0.96492005
A13: א. סך עמלות קסטודיאן לצדדים קשורים
A14: ב. סך עמלות קסטודיאן לצדדים שאינם קשורים | B14: 0.96492005
A16: 3. סך הכל הוצאות הנובעות מהשקעות לא סחירות | B16: 0
A17: א. הוצאה הנובעת מהשקעה בניירות ערך לא סחירים או ממתן הלוואה למי שאינו עמית או מבוטח | B17: 0
A18: ב. הוצאה הנובעת מהשקעה בזכויות במקרקעין
A20: 4. מסים החלים על משקיע מוסדי, על נכסיו, על הכנסותיו ועל עסקאות שנעשו בנכסיו | B20: 1628.2526
A22: 5. סך הוצאות בעד ניהול תביעות | B22: 0
A24: 6. סך הוצאות בעד מתן משכנתאות | B24: 0
A26: 7. סך הכל הוצאות ישירות שאינן מסוג עמלת ניהול חיצוני (סכום סעיפים 1 עד 6) | B26: 3269.7181
A28: 8. שווי ממוצע של נכסי הקופה או המסלול (ממוצע פשוט של סעיפים8א ו- 8ב) | B28: 2878076.7
A29: א. השווי המשוערך של נכסי הקופה או המסלול נכון ליום 31 בדצמבר של שנת הכספים שהסתיימה 2024 | B29: 2828537.6
A30: ב. השווי המשוערך של נכסי הקופה או המסלול נכון ליום 31 בדצמבר של שנת הכספים שהסתיימה לפני 2023 או לתקופה אחרת לפי העניין | B30: 2927615.8
A32: 9. שיעור שנתי של הוצאות ישירות שאינן מסוג עמלת ניהול חיצוני (חלוקה של סעיף 7 בסעיף 8) | B32: 0.0011360775
A34: הוצאות ישירות מסוג עמלת ניהול חיצוני
A35: 10 . סך דמי ניהול משתנים – החלק מתשלום עמלת ניהול חיצוני שנגזר מתשואת הנכסים | B35: 0
A37: 11. סה"כ הוצאות ישירות מסוג "עמלת ניהול חיצוני" (סכום סעיפים 11.א עד11.ט) | B37: 1165.1319
A38: א. סך תשלומים הנובעים מהשקעה בקרנות השקעה בישראל | B38: 0
A39: ב. סך תשלומים הנובעים מהשקעה בקרנות השקעה בחו"ל | B39: 0
A40: ג. סך תשלומים למנהלי תיקים ישראלים בגין השקעה בחו"ל | B40: 0
A41: ד. סך תשלומים למנהלי תיקים זרים | B41: 0
A42: ה. סך תשלומים בגין השקעה בקרנות סל כאשר 75 אחוזים לפחות מנכסי הקרן הם נכסים שהונפקו במדינת ישראל לפי מדדים שעליהם הורה הממונה ובתנאים שהורה | B42: 0
A43: ו. סך תשלומים בגין השקעה בקרנות סל כאשר 75 אחוזים לפחות מנכסי הקרן הם נכסים שלא הונפקו במדינת ישראל ואינם נסחרים או מוחזקים בה | B43: 749.8966
A44: ז. סך תשלומים בגין השקעה בקרנות נאמנות ישראליות כאשר 75 אחוזים לפחות מנכסי הקרן מושקעים בנכסים שלא הונפקו במדינת ישראל ואינם נסחרים או מוחזקים בה | B44: 11.540629
A45: ח. סך תשלומים בגין השקעה בקרנות נאמנות זרות כאשר 75 אחוזים לפחות מנכסי הקרן מושקעים בנכסים שלא הונפקו במדינת ישראל ואינם נסחרים או מוחזקים בה | B45: 403.69467
A46: ט. סך תשלומים בגין השקעה בקרן טכנולוגיה עילית | B46: 0
A48: 12. שיעור עמלת ניהול חיצוני בפועל לפני החזר, ככל שבוצע (חלוקה של סעיף 11 בסעיף 8.ב) | B48: 0.00039797978
... A55: 15.ב שיעור עמלת ניהול חיצוני בפועל לאחר החזר, (חלוקה של התוצאה של סעיף 11 בניכוי סעיף 15א, בסעיף 8.ב) | B55: 0.00039797978
A57: סך הכל הוצאות ישירות בפועל (למעט דמי ניהול משתנים כאמור בסעיף 10)
A59: 16. סך כל הוצאות ישירות (סכום של סעיף 7 וסעיף 11 בניכוי סעיף 15א) | B59: 4434.85
A61: 17. שיעור סך ההוצאות הישירות מתוך יתרת נכסים ממוצעת (חלוקה של סעיף 16 בסעיף 8) | B61: 0.0015409075
A63: סך הכל הוצאות ישירות (לצורך חישוב שיעור עלות שנתית צפויה)
A64: 18. שיעור מגבלת עמלת ניהול חיצוני שהמשקיע המוסדי הצהיר עליה בהתאם לתקנה 2א לתקנות הוצאות ישירות עבור שנת הכספים הבאה | B64: 0.001
A65: 19. De: שיעור הוצאות ישירות (סכום של סעיף 9 וסעיף 18) | B65: 0.0021360775

Sheet אלשטושלר מניות
A1: נספח 1- סך ההוצאות הישירות ששולמו בעד כל סוג של הוצאה ישירה לתקופה המסתיימת ביום 31.12.2024
A3: שם חברת הביטוח: הכשרה חברה לביטוח - בסט אינווסט אלטשולר שחם מניות | B3: אלפי ₪
A5: 31.12.2024 נספח 1- סך ההוצאות הישירות ששולמו בעד כל סוג של הוצאה ישירה לתקופה המסתיימת ביום
A7: הוצאות ישירות שאינן מסוג עמלת ניהול חיצוני
A8: 1. סך הכל עמלות קנייה ומכירה של ניירות ערך סחירים | B8: 694.43349
A9: א. סך עמלות קנייה ומכירה של ניירות ערך סחירים לצדדים קשורים
A10: ב. סך עמלות קנייה ומכירה של ניירות ערך סחירים לצדדים שאינם קשורים | B10: 694.43349
A12: 2. סך הכל דמי שמירה בשל ניירות ערך סחירים וכל עמלה שגובה מי שמבצע את משמרות ניירות הערך עמלות (קסטודיאן) | B12: 0.46777
A13: א. סך עמלות קסטודיאן לצדדים קשורים
A14: ב. סך עמלות קסטודיאן לצדדים שאינם קשורים | B14: 0.46777
A16: 3. סך הכל הוצאות הנובעות מהשקעות לא סחירות | B16: 0
A17: א. הוצאה הנובעת מהשקעה בניירות ערך לא סחירים או ממתן הלוואה למי שאינו עמית או מבוטח | B17: 0
A18: ב. הוצאה הנובעת מהשקעה בזכויות במקרקעין
A20: 4. מסים החלים על משקיע מוסדי, על נכסיו, על הכנסותיו ועל עסקאות שנעשו בנכסיו | B20: 764.25791
A22: 5. סך הוצאות בעד ניהול תביעות | B22: 0
A24: 6. סך הוצאות בעד מתן משכנתאות | B24: 0
A26: 7. סך הכל הוצאות ישירות שאינן מסוג עמלת ניהול חיצוני (סכום סעיפים 1 עד 6) | B26: 1459.1592
A28: 8. שווי ממוצע של נכסי הקופה או המסלול (ממוצע פשוט של סעיפים8א ו- 8ב) | B28: 672852.79
A29: א. השווי המשוערך של נכסי הקופה או המסלול נכון ליום 31 בדצמבר של שנת הכספים שהסתיימה 2024 | B29: 666725.03
A30: ב. השווי המשוערך של נכסי הקופה או המסלול נכון ליום 31 בדצמבר של שנת הכספים שהסתיימה לפני 2023 או לתקופה אחרת לפי העניין | B30: 678980.55
A32: 9. שיעור שנתי של הוצאות ישירות שאינן מסוג עמלת ניהול חיצוני (חלוקה של סעיף 7 בסעיף 8) | B32: 0.0021686158
A34: הוצאות ישירות מסוג עמלת ניהול חיצוני
A35: 10 . סך דמי ניהול משתנים – החלק מתשלום עמלת ניהול חיצוני שנגזר מתשואת הנכסים | B35: 0
A37: 11. סה"כ הוצאות ישירות מסוג "עמלת ניהול חיצוני" (סכום סעיפים 11.א עד11.ט) | B37: 618.79938
A38: א. סך תשלומים הנובעים מהשקעה בקרנות השקעה בישראל | B38: 0
A39: ב. סך תשלומים הנובעים מהשקעה בקרנות השקעה בחו"ל | B39: 0
A40: ג. סך תשלומים למנהלי תיקים ישראלים בגין השקעה בחו"ל | B40: 0
A41: ד. סך תשלומים למנהלי תיקים זרים | B41: 0
A42: ה. סך תשלומים בגין השקעה בקרנות סל כאשר 75 אחוזים לפחות מנכסי הקרן הם נכסים שהונפקו במדינת ישראל לפי מדדים שעליהם הורה הממונה ובתנאים שהורה | B42: 0
A43: ו. סך תשלומים בגין השקעה בקרנות סל כאשר 75 אחוזים לפחות מנכסי הקרן הם נכסים שלא הונפקו במדינת ישראל ואינם נסחרים או מוחזקים בה | B43: 442.31332
A44: ז. סך תשלומים בגין השקעה בקרנות נאמנות ישראליות כאשר 75 אחוזים לפחות מנכסי הקרן מושקעים בנכסים שלא הונפקו במדינת ישראל ואינם נסחרים או מוחזקים בה | B44: 4.5376609
A45: ח. סך תשלומים בגין השקעה בקרנות נאמנות זרות כאשר 75 אחוזים לפחות מנכסי הקרן מושקעים בנכסים שלא הונפקו במדינת ישראל ואינם נסחרים או מוחזקים בה | B45: 171.94841
A46: ט. סך תשלומים בגין השקעה בקרן טכנולוגיה עילית | B46: 0
A48: 12. שיעור עמלת ניהול חיצוני בפועל לפני החזר, ככל שבוצע (חלוקה של סעיף 11 בסעיף 8.ב) | B48: 0.0009113654
... A55: 15.ב שיעור עמלת ניהול חיצוני בפועל לאחר החזר, (חלוקה של התוצאה של סעיף 11 בניכוי סעיף 15א, בסעיף 8.ב) | B55: 0.0009113654
A57: סך הכל הוצאות ישירות בפועל (למעט דמי ניהול משתנים כאמור בסעיף 10)
A59: 16. סך כל הוצאות ישירות (סכום של סעיף 7 וסעיף 11 בניכוי סעיף 15א) | B59: 2077.9586
A61: 17. שיעור סך ההוצאות הישירות מתוך יתרת נכסים ממוצעת (חלוקה של סעיף 16 בסעיף 8) | B61: 0.0030882811
A63: סך הכל הוצאות ישירות (לצורך חישוב שיעור עלות שנתית צפויה)
A64: 18. שיעור מגבלת עמלת ניהול חיצוני שהמשקיע המוסדי הצהיר עליה בהתאם לתקנה 2א לתקנות הוצאות ישירות עבור שנת הכספים הבאה | B64: 0.0025
A65: 19. De: שיעור הוצאות ישירות (סכום של סעיף 9 וסעיף 18) | B65: 0.0046686158

Sheet אלטשולר אג"ח
A1: נספח 1- סך ההוצאות הישירות ששולמו בעד כל סוג של הוצאה ישירה לתקופה המסתיימת ביום 31.12.2024
A3: שם חברת הביטוח: הכשרה חברה לביטוח - בסט אינווסט אלטשולר שחם אג"ח ממשלות | B3: אלפי ₪
A5: 31.12.2024 נספח 1- סך ההוצאות הישירות ששולמו בעד כל סוג של הוצאה ישירה לתקופה המסתיימת ביום
A7: הוצאות ישירות שאינן מסוג עמלת ניהול חיצוני
A8: 1. סך הכל עמלות קנייה ומכירה של ניירות ערך סחירים | B8: 64.916845
A9: א. סך עמלות קנייה ומכירה של ניירות ערך סחירים לצדדים קשורים
A10: ב. סך עמלות קנייה ומכירה של ניירות ערך סחירים לצדדים שאינם קשורים | B10: 64.916845
A12: 2. סך הכל דמי שמירה בשל ניירות ערך סחירים וכל עמלה שגובה מי שמבצע את משמרות ניירות הערך עמלות (קסטודיאן) | B12: 0.00337
A13: א. סך עמלות קסטודיאן לצדדים קשורים
A14: ב. סך עמלות קסטודיאן לצדדים שאינם קשורים | B14: 0.00337
A16: 3. סך הכל הוצאות הנובעות מהשקעות לא סחירות | B16: 0
A17: א. הוצאה הנובעת מהשקעה בניירות ערך לא סחירים או ממתן הלוואה למי שאינו עמית או מבוטח | B17: 0
A18: ב. הוצאה הנובעת מהשקעה בזכויות במקרקעין
A20: 4. מסים החלים על משקיע מוסדי, על נכסיו, על הכנסותיו ועל עסקאות שנעשו בנכסיו | B20: 0
A22: 5. סך הוצאות בעד ניהול תביעות | B22: 0
A24: 6. סך הוצאות בעד מתן משכנתאות | B24: 0
A26: 7. סך הכל הוצאות ישירות שאינן מסוג עמלת ניהול חיצוני (סכום סעיפים 1 עד 6) | B26: 64.920215
A28: 8. שווי ממוצע של נכסי הקופה או המסלול (ממוצע פשוט של סעיפים8א ו- 8ב) | B28: 333265.56
A29: א. השווי המשוערך של נכסי הקופה או המסלול נכון ליום 31 בדצמבר של שנת הכספים שהסתיימה 2024 | B29: 337528.11
A30: ב. השווי המשוערך של נכסי הקופה או המסלול נכון ליום 31 בדצמבר של שנת הכספים שהסתיימה לפני 2023 או לתקופה אחרת לפי העניין | B30: 329003.02
A32: 9. שיעור שנתי של הוצאות ישירות שאינן מסוג עמלת ניהול חיצוני (חלוקה של סעיף 7 בסעיף 8) | B32: 0.00019480025
A34: הוצאות ישירות מסוג עמלת ניהול חיצוני
A35: 10 . סך דמי ניהול משתנים – החלק מתשלום עמלת ניהול חיצוני שנגזר מתשואת הנכסים | B35: 0
A37: 11. סה"כ הוצאות ישירות מסוג "עמלת ניהול חיצוני" (סכום סעיפים 11.א עד11.ט) | B37: 0.11340012
A38: א. סך תשלומים הנובעים מהשקעה בקרנות השקעה בישראל | B38: 0
A39: ב. סך תשלומים הנובעים מהשקעה בקרנות השקעה בחו"ל | B39: 0
A40: ג. סך תשלומים למנהלי תיקים ישראלים בגין השקעה בחו"ל | B40: 0
A41: ד. סך תשלומים למנהלי תיקים זרים | B41: 0
A42: ה. סך תשלומים בגין השקעה בקרנות סל כאשר 75 אחוזים לפחות מנכסי הקרן הם נכסים שהונפקו במדינת ישראל לפי מדדים שעליהם הורה הממונה ובתנאים שהורה | B42: 0
A43: ו. סך תשלומים בגין השקעה בקרנות סל כאשר 75 אחוזים לפחות מנכסי הקרן הם נכסים שלא הונפקו במדינת ישראל ואינם נסחרים או מוחזקים בה | B43: 0
A44: ז. סך תשלומים בגין השקעה בקרנות נאמנות ישראליות כאשר 75 אחוזים לפחות מנכסי הקרן מושקעים בנכסים שלא הונפקו במדינת ישראל ואינם נסחרים או מוחזקים בה | B44: 0
A45: ח. סך תשלומים בגין השקעה בקרנות נאמנות זרות כאשר 75 אחוזים לפחות מנכסי הקרן מושקעים בנכסים שלא הונפקו במדינת ישראל ואינם נסחרים או מוחזקים בה | B45: 0.11340012
A46: ט. סך תשלומים בגין השקעה בקרן טכנולוגיה עילית | B46: 0
A48: 12. שיעור עמלת ניהול חיצוני בפועל לפני החזר, ככל שבוצע (חלוקה של סעיף 11 בסעיף 8.ב) | B48: 3.4467806e-07
... A55: 15.ב שיעור עמלת ניהול חיצוני בפועל לאחר החזר, (חלוקה של התוצאה של סעיף 11 בניכוי סעיף 15א, בסעיף 8.ב) | B55: 3.4467806e-07
A57: סך הכל הוצאות ישירות בפועל (למעט דמי ניהול משתנים כאמור בסעיף 10)
A59: 16. סך כל הוצאות ישירות (סכום של סעיף 7 וסעיף 11 בניכוי סעיף 15א) | B59: 65.033615
A61: 17. שיעור סך ההוצאות הישירות מתוך יתרת נכסים ממוצעת (חלוקה של סעיף 16 בסעיף 8) | B61: 0.00019514052
A63: סך הכל הוצאות ישירות (לצורך חישוב שיעור עלות שנתית צפויה)
A64: 18. שיעור מגבלת עמלת ניהול חיצוני שהמשקיע המוסדי הצהיר עליה בהתאם לתקנה 2א לתקנות הוצאות ישירות עבור שנת הכספים הבאה | B64: 0.001
A65: 19. De: שיעור הוצאות ישירות (סכום של סעיף 9 וסעיף 18) | B65: 0.0011948002

Sheet ילין כללי
A1: נספח 1- סך ההוצאות הישירות ששולמו בעד כל סוג של הוצאה ישירה לתקופה המסתיימת ביום 31.12.2024
A3: שם חברת הביטוח: הכשרה חברה לביטוח - בסט אינווסט ילין לפידות כללי | B3: אלפי ₪
A5: 31.12.2024 נספח 1- סך ההוצאות הישירות ששולמו בעד כל סוג של הוצאה ישירה לתקופה המסתיימת ביום
A7: הוצאות ישירות שאינן מסוג עמלת ניהול חיצוני
A8: 1. סך הכל עמלות קנייה ומכירה של ניירות ערך סחירים | B8: 645.0738
A9: א. סך עמלות קנייה ומכירה של ניירות ערך סחירים לצדדים קשורים
A10: ב. סך עמלות קנייה ומכירה של ניירות ערך סחירים לצדדים שאינם קשורים | B10: 645.0738
A12: 2. סך הכל דמי שמירה בשל ניירות ערך סחירים וכל עמלה שגובה מי שמבצע את משמרות ניירות הערך עמלות (קסטודיאן) | B12: 0.31198
A13: א. סך עמלות קסטודיאן לצדדים קשורים
A14: ב. סך עמלות קסטודיאן לצדדים שאינם קשורים | B14: 0.31198
A16: 3. סך הכל הוצאות הנובעות מהשקעות לא סחירות | B16: 0
A17: א. הוצאה הנובעת מהשקעה בניירות ערך לא סחירים או ממתן הלוואה למי שאינו עמית או מבוטח | B17: 0
A18: ב. הוצאה הנובעת מהשקעה בזכויות במקרקעין
A20: 4. מסים החלים על משקיע מוסדי, על נכסיו, על הכנסותיו ועל עסקאות שנעשו בנכסיו | B20: 480.25448
A22: 5. סך הוצאות בעד ניהול תביעות | B22: 0
A24: 6. סך הוצאות בעד מתן משכנתאות | B24: 0
A26: 7. סך הכל הוצאות ישירות שאינן מסוג עמלת ניהול חיצוני (סכום סעיפים 1 עד 6) | B26: 1125.6403
A28: 8. שווי ממוצע של נכסי הקופה או המסלול (ממוצע פשוט של סעיפים8א ו- 8ב) | B28: 3700125.9
A29: א. השווי המשוערך של נכסי הקופה או המסלול נכון ליום 31 בדצמבר של שנת הכספים שהסתיימה 2024 | B29: 3829604.8
A30: ב. השווי המשוערך של נכסי הקופה או המסלול נכון ליום 31 בדצמבר של שנת הכספים שהסתיימה לפני 2023 או לתקופה אחרת לפי העניין | B30: 3570646.9
A32: 9. שיעור שנתי של הוצאות ישירות שאינן מסוג עמלת ניהול חיצוני (חלוקה של סעיף 7 בסעיף 8) | B32: 0.00030421675
A34: הוצאות ישירות מסוג עמלת ניהול חיצוני
A35: 10 . סך דמי ניהול משתנים – החלק מתשלום עמלת ניהול חיצוני שנגזר מתשואת הנכסים | B35: 0
A37: 11. סה"כ הוצאות ישירות מסוג "עמלת ניהול חיצוני" (סכום סעיפים 11.א עד11.ט) | B37: 727.05888
A38: א. סך תשלומים הנובעים מהשקעה בקרנות השקעה בישראל | B38: 178.717
A39: ב. סך תשלומים הנובעים מהשקעה בקרנות השקעה בחו"ל | B39: 0
A40: ג. סך תשלומים למנהלי תיקים ישראלים בגין השקעה בחו"ל | B40: 0
A41: ד. סך תשלומים למנהלי תיקים זרים | B41: 0
A42: ה. סך תשלומים בגין השקעה בקרנות סל כאשר 75 אחוזים לפחות מנכסי הקרן הם נכסים שהונפקו במדינת ישראל לפי מדדים שעליהם הורה הממונה ובתנאים שהורה | B42: 0
A43: ו. סך תשלומים בגין השקעה בקרנות סל כאשר 75 אחוזים לפחות מנכסי הקרן הם נכסים שלא הונפקו במדינת ישראל ואינם נסחרים או מוחזקים בה | B43: 548.34188
A44: ז. סך תשלומים בגין השקעה בקרנות נאמנות ישראליות כאשר 75 אחוזים לפחות מנכסי הקרן מושקעים בנכסים שלא הונפקו במדינת ישראל ואינם נסחרים או מוחזקים בה | B44: 0
A45: ח. סך תשלומים בגין השקעה בקרנות נאמנות זרות כאשר 75 אחוזים לפחות מנכסי הקרן מושקעים בנכסים שלא הונפקו במדינת ישראל ואינם נסחרים או מוחזקים בה | B45: 0
A46: ט. סך תשלומים בגין השקעה בקרן טכנולוגיה עילית | B46: 0
A48: 12. שיעור עמלת ניהול חיצוני בפועל לפני החזר, ככל שבוצע (חלוקה של סעיף 11 בסעיף 8.ב) | B48: 0.00020362105
... A55: 15.ב שיעור עמלת ניהול חיצוני בפועל לאחר החזר, (חלוקה של התוצאה של סעיף 11 בניכוי סעיף 15א, בסעיף 8.ב) | B55: 0.00020362105
A57: סך הכל הוצאות ישירות בפועל (למעט דמי ניהול משתנים כאמור בסעיף 10)
A59: 16. סך כל הוצאות ישירות (סכום של סעיף 7 וסעיף 11 בניכוי סעיף 15א) | B59: 1852.6991
A61: 17. שיעור סך ההוצאות הישירות מתוך יתרת נכסים ממוצעת (חלוקה של סעיף 16 בסעיף 8) | B61: 0.00050071247
A63: סך הכל הוצאות ישירות (לצורך חישוב שיעור עלות שנתית צפויה)
A64: 18. שיעור מגבלת עמלת ניהול חיצוני שהמשקיע המוסדי הצהיר עליה בהתאם לתקנה 2א לתקנות הוצאות ישירות עבור שנת הכספים הבאה | B64: 0.001
A65: 19. De: שיעור הוצאות ישירות (סכום של סעיף 9 וסעיף 18) | B65: 0.0013042167

Sheet ילין מניות
A1: נספח 1- סך ההוצאות הישירות ששולמו בעד כל סוג של הוצאה ישירה לתקופה המסתיימת ביום 31.12.2024
A3: שם חברת הביטוח: הכשרה חברה לביטוח - בסט אינווסט ילין לפידות מניות | B3: אלפי ₪
A5: 31.12.2024 נספח 1- סך ההוצאות הישירות ששולמו בעד כל סוג של הוצאה ישירה לתקופה המסתיימת ביום
A7: הוצאות ישירות שאינן מסוג עמלת ניהול חיצוני
A8: 1. סך הכל עמלות קנייה ומכירה של ניירות ערך סחירים | B8: 172.54307
A9: א. סך עמלות קנייה ומכירה של ניירות ערך סחירים לצדדים קשורים
A10: ב. סך עמלות קנייה ומכירה של ניירות ערך סחירים לצדדים שאינם קשורים | B10: 172.54307
A12: 2. סך הכל דמי שמירה בשל ניירות ערך סחירים וכל עמלה שגובה מי שמבצע את משמרות ניירות הערך עמלות (קסטודיאן) | B12: 0.28819625
A13: א. סך עמלות קסטודיאן לצדדים קשורים
A14: ב. סך עמלות קסטודיאן לצדדים שאינם קשורים | B14: 0.28819625
A16: 3. סך הכל הוצאות הנובעות מהשקעות לא סחירות | B16: 0
A17: א. הוצאה הנובעת מהשקעה בניירות ערך לא סחירים או ממתן הלוואה למי שאינו עמית או מבוטח | B17: 0
A18: ב. הוצאה הנובעת מהשקעה בזכויות במקרקעין
A20: 4. מסים החלים על משקיע מוסדי, על נכסיו, על הכנסותיו ועל עסקאות שנעשו בנכסיו | B20: 188.37795
A22: 5. סך הוצאות בעד ניהול תביעות | B22: 0
A24: 6. סך הוצאות בעד מתן משכנתאות | B24: 0
A26: 7. סך הכל הוצאות ישירות שאינן מסוג עמלת ניהול חיצוני (סכום סעיפים 1 עד 6) | B26: 361.20921
A28: 8. שווי ממוצע של נכסי הקופה או המסלול (ממוצע פשוט של סעיפים8א ו- 8ב) | B28: 938054.51
A29: א. השווי המשוערך של נכסי הקופה או המסלול נכון ליום 31 בדצמבר של שנת הכספים שהסתיימה 2024 | B29: 1032757.2
A30: ב. השווי המשוערך של נכסי הקופה או המסלול נכון ליום 31 בדצמבר של שנת הכספים שהסתיימה לפני 2023 או לתקופה אחרת לפי העניין | B30: 843351.77
A32: 9. שיעור שנתי של הוצאות ישירות שאינן מסוג עמלת ניהול חיצוני (חלוקה של סעיף 7 בסעיף 8) | B32: 0.00038506207
A34: הוצאות ישירות מסוג עמלת ניהול חיצוני
A35: 10 . סך דמי ניהול משתנים – החלק מתשלום עמלת ניהול חיצוני שנגזר מתשואת הנכסים | B35: 0
A37: 11. סה"כ הוצאות ישירות מסוג "עמלת ניהול חיצוני" (סכום סעיפים 11.א עד11.ט) | B37: 296.7249
A38: א. סך תשלומים הנובעים מהשקעה בקרנות השקעה בישראל | B38: 0
A39: ב. סך תשלומים הנובעים מהשקעה בקרנות השקעה בחו"ל | B39: 0
A40: ג. סך תשלומים למנהלי תיקים ישראלים בגין השקעה בחו"ל | B40: 0
A41: ד. סך תשלומים למנהלי תיקים זרים | B41: 0
A42: ה. סך תשלומים בגין השקעה בקרנות סל כאשר 75 אחוזים לפחות מנכסי הקרן הם נכסים שהונפקו במדינת ישראל לפי מדדים שעליהם הורה הממונה ובתנאים שהורה | B42: 0
A43: ו. סך תשלומים בגין השקעה בקרנות סל כאשר 75 אחוזים לפחות מנכסי הקרן הם נכסים שלא הונפקו במדינת ישראל ואינם נסחרים או מוחזקים בה | B43: 296.7249
A44: ז. סך תשלומים בגין השקעה בקרנות נאמנות ישראליות כאשר 75 אחוזים לפחות מנכסי הקרן מושקעים בנכסים שלא הונפקו במדינת ישראל ואינם נסחרים או מוחזקים בה | B44: 0
A45: ח. סך תשלומים בגין השקעה בקרנות נאמנות זרות כאשר 75 אחוזים לפחות מנכסי הקרן מושקעים בנכסים שלא הונפקו במדינת ישראל ואינם נסחרים או מוחזקים בה | B45: 0
A46: ט. סך תשלומים בגין השקעה בקרן טכנולוגיה עילית | B46: 0
A48: 12. שיעור עמלת ניהול חיצוני בפועל לפני החזר, ככל שבוצע (חלוקה של סעיף 11 בסעיף 8.ב) | B48: 0.00035184002
... A55: 15.ב שיעור עמלת ניהול חיצוני בפועל לאחר החזר, (חלוקה של התוצאה של סעיף 11 בניכוי סעיף 15א, בסעיף 8.ב) | B55: 0.00035184002
A57: סך הכל הוצאות ישירות בפועל (למעט דמי ניהול משתנים כאמור בסעיף 10)
A59: 16. סך כל הוצאות ישירות (סכום של סעיף 7 וסעיף 11 בניכוי סעיף 15א) | B59: 657.93412
A61: 17. שיעור סך ההוצאות הישירות מתוך יתרת נכסים ממוצעת (חלוקה של סעיף 16 בסעיף 8) | B61: 0.00070138154
A63: סך הכל הוצאות ישירות (לצורך חישוב שיעור עלות שנתית צפויה)
A64: 18. שיעור מגבלת עמלת ניהול חיצוני שהמשקיע המוסדי הצהיר עליה בהתאם לתקנה 2א לתקנות הוצאות ישירות עבור שנת הכספים הבאה | B64: 0.0025
A65: 19. De: שיעור הוצאות ישירות (סכום של סעיף 9 וסעיף 18) | B65: 0.0028850621

Sheet ילין אג"ח
A1: נספח 1- סך ההוצאות הישירות ששולמו בעד כל סוג של הוצאה ישירה לתקופה המסתיימת ביום 31.12.2024
A3: שם חברת הביטוח: הכשרה חברה לביטוח - בסט אינווסט ילין לפידות אג"ח ממשלות | B3: אלפי ₪
A5: 31.12.2024 נספח 1- סך ההוצאות הישירות ששולמו בעד כל סוג של הוצאה ישירה לתקופה המסתיימת ביום
A7: הוצאות ישירות שאינן מסוג עמלת ניהול חיצוני
A8: 1. סך הכל עמלות קנייה ומכירה של ניירות ערך סחירים | B8: 32.589136
A9: א. סך עמלות קנייה ומכירה של ניירות ערך סחירים לצדדים קשורים
A10: ב. סך עמלות קנייה ומכירה של ניירות ערך סחירים לצדדים שאינם קשורים | B10: 32.589136
A12: 2. סך הכל דמי שמירה בשל ניירות ערך סחירים וכל עמלה שגובה מי שמבצע את משמרות ניירות הערך עמלות (קסטודיאן) | B12: 0.13647
A13: א. סך עמלות קסטודיאן לצדדים קשורים
A14: ב. סך עמלות קסטודיאן לצדדים שאינם קשורים | B14: 0.13647
A16: 3. סך הכל הוצאות הנובעות מהשקעות לא סחירות | B16: 0
A17: א. הוצאה הנובעת מהשקעה בניירות ערך לא סחירים או ממתן הלוואה למי שאינו עמית או מבוטח | B17: 0
A18: ב. הוצאה הנובעת מהשקעה בזכויות במקרקעין
A20: 4. מסים החלים על משקיע מוסדי, על נכסיו, על הכנסותיו ועל עסקאות שנעשו בנכסיו | B20: 0
A22: 5. סך הוצאות בעד ניהול תביעות | B22: 0
A24: 6. סך הוצאות בעד מתן משכנתאות | B24: 0
A26: 7. סך הכל הוצאות ישירות שאינן מסוג עמלת ניהול חיצוני (סכום סעיפים 1 עד 6) | B26: 32.725606
A28: 8. שווי ממוצע של נכסי הקופה או המסלול (ממוצע פשוט של סעיפים8א ו- 8ב) | B28: 280243.36
A29: א. השווי המשוערך של נכסי הקופה או המסלול נכון ליום 31 בדצמבר של שנת הכספים שהסתיימה 2024 | B29: 264620.89
A30: ב. השווי המשוערך של נכסי הקופה או המסלול נכון ליום 31 בדצמבר של שנת הכספים שהסתיימה לפני 2023 או לתקופה אחרת לפי העניין | B30: 295865.83
A32: 9. שיעור שנתי של הוצאות ישירות שאינן מסוג עמלת ניהול חיצוני (חלוקה של סעיף 7 בסעיף 8) | B32: 0.00011677567
A34: הוצאות ישירות מסוג עמלת ניהול חיצוני
A35: 10 . סך דמי ניהול משתנים – החלק מתשלום עמלת ניהול חיצוני שנגזר מתשואת הנכסים | B35: 0
A37: 11. סה"כ הוצאות ישירות מסוג "עמלת ניהול חיצוני" (סכום סעיפים 11.א עד11.ט) | B37: 18.175
A38: א. סך תשלומים הנובעים מהשקעה בקרנות השקעה בישראל | B38: 18.175
A39: ב. סך תשלומים הנובעים מהשקעה בקרנות השקעה בחו"ל | B39: 0
A40: ג. סך תשלומים למנהלי תיקים ישראלים בגין השקעה בחו"ל | B40: 0
A41: ד. סך תשלומים למנהלי תיקים זרים | B41: 0
A42: ה. סך תשלומים בגין השקעה בקרנות סל כאשר 75 אחוזים לפחות מנכסי הקרן הם נכסים שהונפקו במדינת ישראל לפי מדדים שעליהם הורה הממונה ובתנאים שהורה | B42: 0
A43: ו. סך תשלומים בגין השקעה בקרנות סל כאשר 75 אחוזים לפחות מנכסי הקרן הם נכסים שלא הונפקו במדינת ישראל ואינם נסחרים או מוחזקים בה | B43: 0
A44: ז. סך תשלומים בגין השקעה בקרנות נאמנות ישראליות כאשר 75 אחוזים לפחות מנכסי הקרן מושקעים בנכסים שלא הונפקו במדינת ישראל ואינם נסחרים או מוחזקים בה | B44: 0
A45: ח. סך תשלומים בגין השקעה בקרנות נאמנות זרות כאשר 75 אחוזים לפחות מנכסי הקרן מושקעים בנכסים שלא הונפקו במדינת ישראל ואינם נסחרים או מוחזקים בה | B45: 0
A46: ט. סך תשלומים בגין השקעה בקרן טכנולוגיה עילית | B46: 0
A48: 12. שיעור עמלת ניהול חיצוני בפועל לפני החזר, ככל שבוצע (חלוקה של סעיף 11 בסעיף 8.ב) | B48: 6.1429872e-05
... A55: 15.ב שיעור עמלת ניהול חיצוני בפועל לאחר החזר, (חלוקה של התוצאה של סעיף 11 בניכוי סעיף 15א, בסעיף 8.ב) | B55: 6.1429872e-05
A57: סך הכל הוצאות ישירות בפועל (למעט דמי ניהול משתנים כאמור בסעיף 10)
A59: 16. סך כל הוצאות ישירות (סכום של סעיף 7 וסעיף 11 בניכוי סעיף 15א) | B59: 50.900606
A61: 17. שיעור סך ההוצאות הישירות מתוך יתרת נכסים ממוצעת (חלוקה של סעיף 16 בסעיף 8) | B61: 0.00018163001
A63: סך הכל הוצאות ישירות (לצורך חישוב שיעור עלות שנתית צפויה)
A64: 18. שיעור מגבלת עמלת ניהול חיצוני שהמשקיע המוסדי הצהיר עליה בהתאם לתקנה 2א לתקנות הוצאות ישירות עבור שנת הכספים הבאה | B64: 0.001
A65: 19. De: שיעור הוצאות ישירות (סכום של סעיף 9 וסעיף 18) | B65: 0.0011167757

Sheet מיטב כללי
A1: נספח 1- סך ההוצאות הישירות ששולמו בעד כל סוג של הוצאה ישירה לתקופה המסתיימת ביום 31.12.2024
A3: שם חברת הביטוח: הכשרה חברה לביטוח - בסט אינווסט מיטב דש כללי | B3: אלפי ₪
A5: 31.12.2024 נספח 1- סך ההוצאות הישירות ששולמו בעד כל סוג של הוצאה ישירה לתקופה המסתיימת ביום
A7: הוצאות ישירות שאינן מסוג עמלת ניהול חיצוני
A8: 1. סך הכל עמלות קנייה ומכירה של ניירות ערך סחירים | B8: 1179.466
A9: א. סך עמלות קנייה ומכירה של ניירות ערך סחירים לצדדים קשורים
A10: ב. סך עמלות קנייה ומכירה של ניירות ערך סחירים לצדדים שאינם קשורים | B10: 1179.466
A12: 2. סך הכל דמי שמירה בשל ניירות ערך סחירים וכל עמלה שגובה מי שמבצע את משמרות ניירות הערך עמלות (קסטודיאן) | B12: 0.3603
A13: א. סך עמלות קסטודיאן לצדדים קשורים
A14: ב. סך עמלות קסטודיאן לצדדים שאינם קשורים | B14: 0.3603
A16: 3. סך הכל הוצאות הנובעות מהשקעות לא סחירות | B16: 0
A17: א. הוצאה הנובעת מהשקעה בניירות ערך לא סחירים או ממתן הלוואה למי שאינו עמית או מבוטח | B17: 0
A18: ב. הוצאה הנובעת מהשקעה בזכויות במקרקעין
A20: 4. מסים החלים על משקיע מוסדי, על נכסיו, על הכנסותיו ועל עסקאות שנעשו בנכסיו | B20: 653.95481
A22: 5. סך הוצאות בעד ניהול תביעות | B22: 0
A24: 6. סך הוצאות בעד מתן משכנתאות | B24: 0
A26: 7. סך הכל הוצאות ישירות שאינן מסוג עמלת ניהול חיצוני (סכום סעיפים 1 עד 6) | B26: 1833.7811
A28: 8. שווי ממוצע של נכסי הקופה או המסלול (ממוצע פשוט של סעיפים8א ו- 8ב) | B28: 4220504.7
A29: א. השווי המשוערך של נכסי הקופה או המסלול נכון ליום 31 בדצמבר של שנת הכספים שהסתיימה 2024 | B29: 5213515.6
A30: ב. השווי המשוערך של נכסי הקופה או המסלול נכון ליום 31 בדצמבר של שנת הכספים שהסתיימה לפני 2023 או לתקופה אחרת לפי העניין | B30: 3227493.7
A32: 9. שיעור שנתי של הוצאות ישירות שאינן מסוג עמלת ניהול חיצוני (חלוקה של סעיף 7 בסעיף 8) | B32: 0.00043449332
A34: הוצאות ישירות מסוג עמלת ניהול חיצוני
A35: 10 . סך דמי ניהול משתנים – החלק מתשלום עמלת ניהול חיצוני שנגזר מתשואת הנכסים | B35: 0
A37: 11. סה"כ הוצאות ישירות מסוג "עמלת ניהול חיצוני" (סכום סעיפים 11.א עד11.ט) | B37: 517.54479
A38: א. סך תשלומים הנובעים מהשקעה בקרנות השקעה בישראל | B38: 0
A39: ב. סך תשלומים הנובעים מהשקעה בקרנות השקעה בחו"ל | B39: 0
A40: ג. סך תשלומים למנהלי תיקים ישראלים בגין השקעה בחו"ל | B40: 0
A41: ד. סך תשלומים למנהלי תיקים זרים | B41: 0
A42: ה. סך תשלומים בגין השקעה בקרנות סל כאשר 75 אחוזים לפחות מנכסי הקרן הם נכסים שהונפקו במדינת ישראל לפי מדדים שעליהם הורה הממונה ובתנאים שהורה | B42: 0
A43: ו. סך תשלומים בגין השקעה בקרנות סל כאשר 75 אחוזים לפחות מנכסי הקרן הם נכסים שלא הונפקו במדינת ישראל ואינם נסחרים או מוחזקים בה | B43: 517.54479
A44: ז. סך תשלומים בגין השקעה בקרנות נאמנות ישראליות כאשר 75 אחוזים לפחות מנכסי הקרן מושקעים בנכסים שלא הונפקו במדינת ישראל ואינם נסחרים או מוחזקים בה | B44: 0
A45: ח. סך תשלומים בגין השקעה בקרנות נאמנות זרות כאשר 75 אחוזים לפחות מנכסי הקרן מושקעים בנכסים שלא הונפקו במדינת ישראל ואינם נסחרים או מוחזקים בה | B45: 0
A46: ט. סך תשלומים בגין השקעה בקרן טכנולוגיה עילית | B46: 0
A48: 12. שיעור עמלת ניהול חיצוני בפועל לפני החזר, ככל שבוצע (חלוקה של סעיף 11 בסעיף 8.ב) | B48: 0.00016035501
... A55: 15.ב שיעור עמלת ניהול חיצוני בפועל לאחר החזר, (חלוקה של התוצאה של סעיף 11 בניכוי סעיף 15א, בסעיף 8.ב) | B55: 0.00016035501
A57: סך הכל הוצאות ישירות בפועל (למעט דמי ניהול משתנים כאמור בסעיף 10)
A59: 16. סך כל הוצאות ישירות (סכום של סעיף 7 וסעיף 11 בניכוי סעיף 15א) | B59: 2351.3259
A61: 17. שיעור סך ההוצאות הישירות מתוך יתרת נכסים ממוצעת (חלוקה של סעיף 16 בסעיף 8) | B61: 0.00055711961
A63: סך הכל הוצאות ישירות (לצורך חישוב שיעור עלות שנתית צפויה)
A64: 18. שיעור מגבלת עמלת ניהול חיצוני שהמשקיע המוסדי הצהיר עליה בהתאם לתקנה 2א לתקנות הוצאות ישירות עבור שנת הכספים הבאה | B64: 0.001
A65: 19. De: שיעור הוצאות ישירות (סכום של סעיף 9 וסעיף 18) | B65: 0.0014344933

Sheet מיטב מניות
A1: נספח 1- סך ההוצאות הישירות ששולמו בעד כל סוג של הוצאה ישירה לתקופה המסתיימת ביום 31.12.2024
A3: שם חברת הביטוח: הכשרה חברה לביטוח - בסט אינווסט מיטב דש מניות | B3: אלפי ₪
A5: 31.12.2024 נספח 1- סך ההוצאות הישירות ששולמו בעד כל סוג של הוצאה ישירה לתקופה המסתיימת ביום
A7: הוצאות ישירות שאינן מסוג עמלת ניהול חיצוני
A8: 1. סך הכל עמלות קנייה ומכירה של ניירות ערך סחירים | B8: 1760.4142
A9: א. סך עמלות קנייה ומכירה של ניירות ערך סחירים לצדדים קשורים
A10: ב. סך עמלות קנייה ומכירה של ניירות ערך סחירים לצדדים שאינם קשורים | B10: 1760.4142
A12: 2. סך הכל דמי שמירה בשל ניירות ערך סחירים וכל עמלה שגובה מי שמבצע את משמרות ניירות הערך עמלות (קסטודיאן) | B12: 1.0482743
A13: א. סך עמלות קסטודיאן לצדדים קשורים
A14: ב. סך עמלות קסטודיאן לצדדים שאינם קשורים | B14: 1.0482743
A16: 3. סך הכל הוצאות הנובעות מהשקעות לא סחירות | B16: 0
A17: א. הוצאה הנובעת מהשקעה בניירות ערך לא סחירים או ממתן הלוואה למי שאינו עמית או מבוטח | B17: 0
A18: ב. הוצאה הנובעת מהשקעה בזכויות במקרקעין
A20: 4. מסים החלים על משקיע מוסדי, על נכסיו, על הכנסותיו ועל עסקאות שנעשו בנכסיו | B20: 894.98445
A22: 5. סך הוצאות בעד ניהול תביעות | B22: 0
A24: 6. סך הוצאות בעד מתן משכנתאות | B24: 0
A26: 7. סך הכל הוצאות ישירות שאינן מסוג עמלת ניהול חיצוני (סכום סעיפים 1 עד 6) | B26: 2656.447
A28: 8. שווי ממוצע של נכסי הקופה או המסלול (ממוצע פשוט של סעיפים8א ו- 8ב) | B28: 1365760.7
A29: א. השווי המשוערך של נכסי הקופה או המסלול נכון ליום 31 בדצמבר של שנת הכספים שהסתיימה 2024 | B29: 1660982.5
A30: ב. השווי המשוערך של נכסי הקופה או המסלול נכון ליום 31 בדצמבר של שנת הכספים שהסתיימה לפני 2023 או לתקופה אחרת לפי העניין | B30: 1070539
A32: 9. שיעור שנתי של הוצאות ישירות שאינן מסוג עמלת ניהול חיצוני (חלוקה של סעיף 7 בסעיף 8) | B32: 0.001945031
A34: הוצאות ישירות מסוג עמלת ניהול חיצוני
A35: 10 . סך דמי ניהול משתנים – החלק מתשלום עמלת ניהול חיצוני שנגזר מתשואת הנכסים | B35: 0
A37: 11. סה"כ הוצאות ישירות מסוג "עמלת ניהול חיצוני" (סכום סעיפים 11.א עד11.ט) | B37: 391.96769
A38: א. סך תשלומים הנובעים מהשקעה בקרנות השקעה בישראל | B38: 0
A39: ב. סך תשלומים הנובעים מהשקעה בקרנות השקעה בחו"ל | B39: 0
A40: ג. סך תשלומים למנהלי תיקים ישראלים בגין השקעה בחו"ל | B40: 0
A41: ד. סך תשלומים למנהלי תיקים זרים | B41: 0
A42: ה. סך תשלומים בגין השקעה בקרנות סל כאשר 75 אחוזים לפחות מנכסי הקרן הם נכסים שהונפקו במדינת ישראל לפי מדדים שעליהם הורה הממונה ובתנאים שהורה | B42: 0.053851635
A43: ו. סך תשלומים בגין השקעה בקרנות סל כאשר 75 אחוזים לפחות מנכסי הקרן הם נכסים שלא הונפקו במדינת ישראל ואינם נסחרים או מוחזקים בה | B43: 391.91383
A44: ז. סך תשלומים בגין השקעה בקרנות נאמנות ישראליות כאשר 75 אחוזים לפחות מנכסי הקרן מושקעים בנכסים שלא הונפקו במדינת ישראל ואינם נסחרים או מוחזקים בה | B44: 0
A45: ח. סך תשלומים בגין השקעה בקרנות נאמנות זרות כאשר 75 אחוזים לפחות מנכסי הקרן מושקעים בנכסים שלא הונפקו במדינת ישראל ואינם נסחרים או מוחזקים בה | B45: 0
A46: ט. סך תשלומים בגין השקעה בקרן טכנולוגיה עילית | B46: 0
A48: 12. שיעור עמלת ניהול חיצוני בפועל לפני החזר, ככל שבוצע (חלוקה של סעיף 11 בסעיף 8.ב) | B48: 0.00036614049
... A55: 15.ב שיעור עמלת ניהול חיצוני בפועל לאחר החזר, (חלוקה של התוצאה של סעיף 11 בניכוי סעיף 15א, בסעיף 8.ב) | B55: 0.00036614049
A57: סך הכל הוצאות ישירות בפועל (למעט דמי ניהול משתנים כאמור בסעיף 10)
A59: 16. סך כל הוצאות ישירות (סכום של סעיף 7 וסעיף 11 בניכוי סעיף 15א) | B59: 3048.4147
A61: 17. שיעור סך ההוצאות הישירות מתוך יתרת נכסים ממוצעת (חלוקה של סעיף 16 בסעיף 8) | B61: 0.0022320269
A63: סך הכל הוצאות ישירות (לצורך חישוב שיעור עלות שנתית צפויה)
A64: 18. שיעור מגבלת עמלת ניהול חיצוני שהמשקיע המוסדי הצהיר עליה בהתאם לתקנה 2א לתקנות הוצאות ישירות עבור שנת הכספים הבאה | B64: 0.0025
A65: 19. De: שיעור הוצאות ישירות (סכום של סעיף 9 וסעיף 18) | B65: 0.004445031

Sheet מיטב אג"ח
A1: נספח 1- סך ההוצאות הישירות ששולמו בעד כל סוג של הוצאה ישירה לתקופה המסתיימת ביום 31.12.2024
A3: שם חברת הביטוח: הכשרה חברה לביטוח - בסט אינווסט מיטב דש אג"ח ממשלות | B3: אלפי ₪
A5: 31.12.2024 נספח 1- סך ההוצאות הישירות ששולמו בעד כל סוג של הוצאה ישירה לתקופה המסתיימת ביום
A7: הוצאות ישירות שאינן מסוג עמלת ניהול חיצוני
A8: 1. סך הכל עמלות קנייה ומכירה של ניירות ערך סחירים | B8: 18.761316
A9: א. סך עמלות קנייה ומכירה של ניירות ערך סחירים לצדדים קשורים
A10: ב. סך עמלות קנייה ומכירה של ניירות ערך סחירים לצדדים שאינם קשורים | B10: 18.761316
A12: 2. סך הכל דמי שמירה בשל ניירות ערך סחירים וכל עמלה שגובה מי שמבצע את משמרות ניירות הערך עמלות (קסטודיאן) | B12: 0.02748
A13: א. סך עמלות קסטודיאן לצדדים קשורים
A14: ב. סך עמלות קסטודיאן לצדדים שאינם קשורים | B14: 0.02748
A16: 3. סך הכל הוצאות הנובעות מהשקעות לא סחירות | B16: 0
A17: א. הוצאה הנובעת מהשקעה בניירות ערך לא סחירים או ממתן הלוואה למי שאינו עמית או מבוטח | B17: 0
A18: ב. הוצאה הנובעת מהשקעה בזכויות במקרקעין
A20: 4. מסים החלים על משקיע מוסדי, על נכסיו, על הכנסותיו ועל עסקאות שנעשו בנכסיו | B20: 4.4745244
A22: 5. סך הוצאות בעד ניהול תביעות | B22: 0
A24: 6. סך הוצאות בעד מתן משכנתאות | B24: 0
A26: 7. סך הכל הוצאות ישירות שאינן מסוג עמלת ניהול חיצוני (סכום סעיפים 1 עד 6) | B26: 23.26332
A28: 8. שווי ממוצע של נכסי הקופה או המסלול (ממוצע פשוט של סעיפים8א ו- 8ב) | B28: 193081.49
A29: א. השווי המשוערך של נכסי הקופה או המסלול נכון ליום 31 בדצמבר של שנת הכספים שהסתיימה 2024 | B29: 200457.79
A30: ב. השווי המשוערך של נכסי הקופה או המסלול נכון ליום 31 בדצמבר של שנת הכספים שהסתיימה לפני 2023 או לתקופה אחרת לפי העניין | B30: 185705.2
A32: 9. שיעור שנתי של הוצאות ישירות שאינן מסוג עמלת ניהול חיצוני (חלוקה של סעיף 7 בסעיף 8) | B32: 0.00012048447
A34: הוצאות ישירות מסוג עמלת ניהול חיצוני
A35: 10 . סך דמי ניהול משתנים – החלק מתשלום עמלת ניהול חיצוני שנגזר מתשואת הנכסים | B35: 0
A37: 11. סה"כ הוצאות ישירות מסוג "עמלת ניהול חיצוני" (סכום סעיפים 11.א עד11.ט) | B37: 2.5844895
A38: א. סך תשלומים הנובעים מהשקעה בקרנות השקעה בישראל | B38: 0
A39: ב. סך תשלומים הנובעים מהשקעה בקרנות השקעה בחו"ל | B39: 0
A40: ג. סך תשלומים למנהלי תיקים ישראלים בגין השקעה בחו"ל | B40: 0
A41: ד. סך תשלומים למנהלי תיקים זרים | B41: 0
A42: ה. סך תשלומים בגין השקעה בקרנות סל כאשר 75 אחוזים לפחות מנכסי הקרן הם נכסים שהונפקו במדינת ישראל לפי מדדים שעליהם הורה הממונה ובתנאים שהורה | B42: 0
A43: ו. סך תשלומים בגין השקעה בקרנות סל כאשר 75 אחוזים לפחות מנכסי הקרן הם נכסים שלא הונפקו במדינת ישראל ואינם נסחרים או מוחזקים בה | B43: 2.5844895
A44: ז. סך תשלומים בגין השקעה בקרנות נאמנות ישראליות כאשר 75 אחוזים לפחות מנכסי הקרן מושקעים בנכסים שלא הונפקו במדינת ישראל ואינם נסחרים או מוחזקים בה | B44: 0
A45: ח. סך תשלומים בגין השקעה בקרנות נאמנות זרות כאשר 75 אחוזים לפחות מנכסי הקרן מושקעים בנכסים שלא הונפקו במדינת ישראל ואינם נסחרים או מוחזקים בה | B45: 0
A46: ט. סך תשלומים בגין השקעה בקרן טכנולוגיה עילית | B46: 0
A48: 12. שיעור עמלת ניהול חיצוני בפועל לפני החזר, ככל שבוצע (חלוקה של סעיף 11 בסעיף 8.ב) | B48: 1.3917163e-05
... A55: 15.ב שיעור עמלת ניהול חיצוני בפועל לאחר החזר, (חלוקה של התוצאה של סעיף 11 בניכוי סעיף 15א, בסעיף 8.ב) | B55: 1.3917163e-05
A57: סך הכל הוצאות ישירות בפועל (למעט דמי ניהול משתנים כאמור בסעיף 10)
A59: 16. סך כל הוצאות ישירות (סכום של סעיף 7 וסעיף 11 בניכוי סעיף 15א) | B59: 25.84781
A61: 17. שיעור סך ההוצאות הישירות מתוך יתרת נכסים ממוצעת (חלוקה של סעיף 16 בסעיף 8) | B61: 0.00013386995
A63: סך הכל הוצאות ישירות (לצורך חישוב שיעור עלות שנתית צפויה)
A64: 18. שיעור מגבלת עמלת ניהול חיצוני שהמשקיע המוסדי הצהיר עליה בהתאם לתקנה 2א לתקנות הוצאות ישירות עבור שנת הכספים הבאה | B64: 0.001
A65: 19. De: שיעור הוצאות ישירות (סכום של סעיף 9 וסעיף 18) | B65: 0.0011204845

Sheet הכשרה עוקב מדד SP500
A1: נספח 1- סך ההוצאות הישירות ששולמו בעד כל סוג של הוצאה ישירה לתקופה המסתיימת ביום 31.12.2024
A3: שם חברת הביטוח: הכשרה חברה לביטוח - הכשרה עוקב מדד SP500 | B3: אלפי ₪
A5: 31.12.2024 נספח 1- סך ההוצאות הישירות ששולמו בעד כל סוג של הוצאה ישירה לתקופה המסתיימת ביום
A7: הוצאות ישירות שאינן מסוג עמלת ניהול חיצוני
A8: 1. סך הכל עמלות קנייה ומכירה של ניירות ערך סחירים | B8: 115.91397
A9: א. סך עמלות קנייה ומכירה של ניירות ערך סחירים לצדדים קשורים
A10: ב. סך עמלות קנייה ומכירה של ניירות ערך סחירים לצדדים שאינם קשורים | B10: 115.91397
A12: 2. סך הכל דמי שמירה בשל ניירות ערך סחירים וכל עמלה שגובה מי שמבצע את משמרות ניירות הערך עמלות (קסטודיאן) | B12: 4.4045307
A13: א. סך עמלות קסטודיאן לצדדים קשורים
A14: ב. סך עמלות קסטודיאן לצדדים שאינם קשורים | B14: 4.4045307
A16: 3. סך הכל הוצאות הנובעות מהשקעות לא סחירות | B16: 0
A17: א. הוצאה הנובעת מהשקעה בניירות ערך לא סחירים או ממתן הלוואה למי שאינו עמית או מבוטח | B17: 0
A18: ב. הוצאה הנובעת מהשקעה בזכויות במקרקעין
A20: 4. מסים החלים על משקיע מוסדי, על נכסיו, על הכנסותיו ועל עסקאות שנעשו בנכסיו | B20: 0
A22: 5. סך הוצאות בעד ניהול תביעות | B22: 0
A24: 6. סך הוצאות בעד מתן משכנתאות | B24: 0
A26: 7. סך הכל הוצאות ישירות שאינן מסוג עמלת ניהול חיצוני (סכום סעיפים 1 עד 6) | B26: 120.3185
A28: 8. שווי ממוצע של נכסי הקופה או המסלול (ממוצע פשוט של סעיפים8א ו- 8ב) | B28: 514056.89
A29: א. השווי המשוערך של נכסי הקופה או המסלול נכון ליום 31 בדצמבר של שנת הכספים שהסתיימה 2024 | B29: 465469.05
A30: ב. השווי המשוערך של נכסי הקופה או המסלול נכון ליום 31 בדצמבר של שנת הכספים שהסתיימה לפני 2023 או לתקופה אחרת לפי העניין | B30: 562644.72
A32: 9. שיעור שנתי של הוצאות ישירות שאינן מסוג עמלת ניהול חיצוני (חלוקה של סעיף 7 בסעיף 8) | B32: 0.00023405677
A34: הוצאות ישירות מסוג עמלת ניהול חיצוני
A35: 10 . סך דמי ניהול משתנים – החלק מתשלום עמלת ניהול חיצוני שנגזר מתשואת הנכסים | B35: 0
A37: 11. סה"כ הוצאות ישירות מסוג "עמלת ניהול חיצוני" (סכום סעיפים 11.א עד11.ט) | B37: 127.69401
A38: א. סך תשלומים הנובעים מהשקעה בקרנות השקעה בישראל | B38: 0
A39: ב. סך תשלומים הנובעים מהשקעה בקרנות השקעה בחו"ל | B39: 0
A40: ג. סך תשלומים למנהלי תיקים ישראלים בגין השקעה בחו"ל | B40: 0
A41: ד. סך תשלומים למנהלי תיקים זרים | B41: 0
A42: ה. סך תשלומים בגין השקעה בקרנות סל כאשר 75 אחוזים לפחות מנכסי הקרן הם נכסים שהונפקו במדינת ישראל לפי מדדים שעליהם הורה הממונה ובתנאים שהורה | B42: 0
A43: ו. סך תשלומים בגין השקעה בקרנות סל כאשר 75 אחוזים לפחות מנכסי הקרן הם נכסים שלא הונפקו במדינת ישראל ואינם נסחרים או מוחזקים בה | B43: 127.69401
A44: ז. סך תשלומים בגין השקעה בקרנות נאמנות ישראליות כאשר 75 אחוזים לפחות מנכסי הקרן מושקעים בנכסים שלא הונפקו במדינת ישראל ואינם נסחרים או מוחזקים בה | B44: 0
A45: ח. סך תשלומים בגין השקעה בקרנות נאמנות זרות כאשר 75 אחוזים לפחות מנכסי הקרן מושקעים בנכסים שלא הונפקו במדינת ישראל ואינם נסחרים או מוחזקים בה | B45: 0
A46: ט. סך תשלומים בגין השקעה בקרן טכנולוגיה עילית | B46: 0
A48: 12. שיעור עמלת ניהול חיצוני בפועל לפני החזר, ככל שבוצע (חלוקה של סעיף 11 בסעיף 8.ב) | B48: 0.00022695318
... A55: 15.ב שיעור עמלת ניהול חיצוני בפועל לאחר החזר, (חלוקה של התוצאה של סעיף 11 בניכוי סעיף 15א, בסעיף 8.ב) | B55: 0.00022695318
A57: סך הכל הוצאות ישירות בפועל (למעט דמי ניהול משתנים כאמור בסעיף 10)
A59: 16. סך כל הוצאות ישירות (סכום של סעיף 7 וסעיף 11 בניכוי סעיף 15א) | B59: 248.01251
A61: 17. שיעור סך ההוצאות הישירות מתוך יתרת נכסים ממוצעת (חלוקה של סעיף 16 בסעיף 8) | B61: 0.00048246121
A63: סך הכל הוצאות ישירות (לצורך חישוב שיעור עלות שנתית צפויה)
A64: 18. שיעור מגבלת עמלת ניהול חיצוני שהמשקיע המוסדי הצהיר עליה בהתאם לתקנה 2א לתקנות הוצאות ישירות עבור שנת הכספים הבאה | B64: 0.001
A65: 19. De: שיעור הוצאות ישירות (סכום של סעיף 9 וסעיף 18) | B65: 0.0012340568

Sheet מור כללי
A1: נספח 1- סך ההוצאות הישירות ששולמו בעד כל סוג של הוצאה ישירה לתקופה המסתיימת ביום 31.12.2024
A3: שם חברת הביטוח: הכשרה חברה לביטוח - בסט אינווסט מור כללי | B3: אלפי ₪
A5: 31.12.2024 נספח 1- סך ההוצאות הישירות ששולמו בעד כל סוג של הוצאה ישירה לתקופה המסתיימת ביום
A7: הוצאות ישירות שאינן מסוג עמלת ניהול חיצוני
A8: 1. סך הכל עמלות קנייה ומכירה של ניירות ערך סחירים | B8: 761.06184
A9: א. סך עמלות קנייה ומכירה של ניירות ערך סחירים לצדדים קשורים
A10: ב. סך עמלות קנייה ומכירה של ניירות ערך סחירים לצדדים שאינם קשורים | B10: 761.06184
A12: 2. סך הכל דמי שמירה בשל ניירות ערך סחירים וכל עמלה שגובה מי שמבצע את משמרות ניירות הערך עמלות (קסטודיאן) | B12: 1.1590523
A13: א. סך עמלות קסטודיאן לצדדים קשורים
A14: ב. סך עמלות קסטודיאן לצדדים שאינם קשורים | B14: 1.1590523
A16: 3. סך הכל הוצאות הנובעות מהשקעות לא סחירות | B16: 0
A17: א. הוצאה הנובעת מהשקעה בניירות ערך לא סחירים או ממתן הלוואה למי שאינו עמית או מבוטח | B17: 0
A18: ב. הוצאה הנובעת מהשקעה בזכויות במקרקעין
A20: 4. מסים החלים על משקיע מוסדי, על נכסיו, על הכנסותיו ועל עסקאות שנעשו בנכסיו | B20: 309.64915
A22: 5. סך הוצאות בעד ניהול תביעות | B22: 0
A24: 6. סך הוצאות בעד מתן משכנתאות | B24: 0
A26: 7. סך הכל הוצאות ישירות שאינן מסוג עמלת ניהול חיצוני (סכום סעיפים 1 עד 6) | B26: 1071.87
A28: 8. שווי ממוצע של נכסי הקופה או המסלול (ממוצע פשוט של סעיפים8א ו- 8ב) | B28: 1684327.1
A29: א. השווי המשוערך של נכסי הקופה או המסלול נכון ליום 31 בדצמבר של שנת הכספים שהסתיימה 2024 | B29: 2103091.1
A30: ב. השווי המשוערך של נכסי הקופה או המסלול נכון ליום 31 בדצמבר של שנת הכספים שהסתיימה לפני 2023 או לתקופה אחרת לפי העניין | B30: 1265563.2
A32: 9. שיעור שנתי של הוצאות ישירות שאינן מסוג עמלת ניהול חיצוני (חלוקה של סעיף 7 בסעיף 8) | B32: 0.00063637878
A34: הוצאות ישירות מסוג עמלת ניהול חיצוני
A35: 10 . סך דמי ניהול משתנים – החלק מתשלום עמלת ניהול חיצוני שנגזר מתשואת הנכסים | B35: 0
A37: 11. סה"כ הוצאות ישירות מסוג "עמלת ניהול חיצוני" (סכום סעיפים 11.א עד11.ט) | B37: 380.66807
A38: א. סך תשלומים הנובעים מהשקעה בקרנות השקעה בישראל | B38: 141.6
A39: ב. סך תשלומים הנובעים מהשקעה בקרנות השקעה בחו"ל | B39: 114.42254
A40: ג. סך תשלומים למנהלי תיקים ישראלים בגין השקעה בחו"ל | B40: 0
A41: ד. סך תשלומים למנהלי תיקים זרים | B41: 0
A42: ה. סך תשלומים בגין השקעה בקרנות סל כאשר 75 אחוזים לפחות מנכסי הקרן הם נכסים שהונפקו במדינת ישראל לפי מדדים שעליהם הורה הממונה ובתנאים שהורה | B42: 0
A43: ו. סך תשלומים בגין השקעה בקרנות סל כאשר 75 אחוזים לפחות מנכסי הקרן הם נכסים שלא הונפקו במדינת ישראל ואינם נסחרים או מוחזקים בה | B43: 45.429038
A44: ז. סך תשלומים בגין השקעה בקרנות נאמנות ישראליות כאשר 75 אחוזים לפחות מנכסי הקרן מושקעים בנכסים שלא הונפקו במדינת ישראל ואינם נסחרים או מוחזקים בה | B44: 79.216495
A45: ח. סך תשלומים בגין השקעה בקרנות נאמנות זרות כאשר 75 אחוזים לפחות מנכסי הקרן מושקעים בנכסים שלא הונפקו במדינת ישראל ואינם נסחרים או מוחזקים בה | B45: 0
A46: ט. סך תשלומים בגין השקעה בקרן טכנולוגיה עילית | B46: 0
A48: 12. שיעור עמלת ניהול חיצוני בפועל לפני החזר, ככל שבוצע (חלוקה של סעיף 11 בסעיף 8.ב) | B48: 0.00030078947
... A55: 15.ב שיעור עמלת ניהול חיצוני בפועל לאחר החזר, (חלוקה של התוצאה של סעיף 11 בניכוי סעיף 15א, בסעיף 8.ב) | B55: 0.00030078947
A57: סך הכל הוצאות ישירות בפועל (למעט דמי ניהול משתנים כאמור בסעיף 10)
A59: 16. סך כל הוצאות ישירות (סכום של סעיף 7 וסעיף 11 בניכוי סעיף 15א) | B59: 1452.5381
A61: 17. שיעור סך ההוצאות הישירות מתוך יתרת נכסים ממוצעת (חלוקה של סעיף 16 בסעיף 8) | B61: 0.0008623848
A63: סך הכל הוצאות ישירות (לצורך חישוב שיעור עלות שנתית צפויה)
A64: 18. שיעור מגבלת עמלת ניהול חיצוני שהמשקיע המוסדי הצהיר עליה בהתאם לתקנה 2א לתקנות הוצאות ישירות עבור שנת הכספים הבאה | B64: 0.001
A65: 19. De: שיעור הוצאות ישירות (סכום של סעיף 9 וסעיף 18) | B65: 0.0016363788

Sheet מור מניות
A1: נספח 1- סך ההוצאות הישירות ששולמו בעד כל סוג של הוצאה ישירה לתקופה המסתיימת ביום 31.12.2024
A3: שם חברת הביטוח: הכשרה חברה לביטוח - בסט אינווסט מור מניות | B3: אלפי ₪
A5: 31.12.2024 נספח 1- סך ההוצאות הישירות ששולמו בעד כל סוג של הוצאה ישירה לתקופה המסתיימת ביום
A7: הוצאות ישירות שאינן מסוג עמלת ניהול חיצוני
A8: 1. סך הכל עמלות קנייה ומכירה של ניירות ערך סחירים | B8: 275.83207
A9: א. סך עמלות קנייה ומכירה של ניירות ערך סחירים לצדדים קשורים
A10: ב. סך עמלות קנייה ומכירה של ניירות ערך סחירים לצדדים שאינם קשורים | B10: 275.83207
A12: 2. סך הכל דמי שמירה בשל ניירות ערך סחירים וכל עמלה שגובה מי שמבצע את משמרות ניירות הערך עמלות (קסטודיאן) | B12: 0.6305
A13: א. סך עמלות קסטודיאן לצדדים קשורים
A14: ב. סך עמלות קסטודיאן לצדדים שאינם קשורים | B14: 0.6305
A16: 3. סך הכל הוצאות הנובעות מהשקעות לא סחירות | B16: 0
A17: א. הוצאה הנובעת מהשקעה בניירות ערך לא סחירים או ממתן הלוואה למי שאינו עמית או מבוטח | B17: 0
A18: ב. הוצאה הנובעת מהשקעה בזכויות במקרקעין
A20: 4. מסים החלים על משקיע מוסדי, על נכסיו, על הכנסותיו ועל עסקאות שנעשו בנכסיו | B20: 134.08837
A22: 5. סך הוצאות בעד ניהול תביעות | B22: 0
A24: 6. סך הוצאות בעד מתן משכנתאות | B24: 0
A26: 7. סך הכל הוצאות ישירות שאינן מסוג עמלת ניהול חיצוני (סכום סעיפים 1 עד 6) | B26: 410.55094
A28: 8. שווי ממוצע של נכסי הקופה או המסלול (ממוצע פשוט של סעיפים8א ו- 8ב) | B28: 445788.61
A29: א. השווי המשוערך של נכסי הקופה או המסלול נכון ליום 31 בדצמבר של שנת הכספים שהסתיימה 2024 | B29: 593589.28
A30: ב. השווי המשוערך של נכסי הקופה או המסלול נכון ליום 31 בדצמבר של שנת הכספים שהסתיימה לפני 2023 או לתקופה אחרת לפי העניין | B30: 297987.94
A32: 9. שיעור שנתי של הוצאות ישירות שאינן מסוג עמלת ניהול חיצוני (חלוקה של סעיף 7 בסעיף 8) | B32: 0.0009209543
A34: הוצאות ישירות מסוג עמלת ניהול חיצוני
A35: 10 . סך דמי ניהול משתנים – החלק מתשלום עמלת ניהול חיצוני שנגזר מתשואת הנכסים | B35: 0
A37: 11. סה"כ הוצאות ישירות מסוג "עמלת ניהול חיצוני" (סכום סעיפים 11.א עד11.ט) | B37: 155.46429
A38: א. סך תשלומים הנובעים מהשקעה בקרנות השקעה בישראל | B38: 13.846
A39: ב. סך תשלומים הנובעים מהשקעה בקרנות השקעה בחו"ל | B39: 45.400226
A40: ג. סך תשלומים למנהלי תיקים ישראלים בגין השקעה בחו"ל | B40: 0
A41: ד. סך תשלומים למנהלי תיקים זרים | B41: 0
A42: ה. סך תשלומים בגין השקעה בקרנות סל כאשר 75 אחוזים לפחות מנכסי הקרן הם נכסים שהונפקו במדינת ישראל לפי מדדים שעליהם הורה הממונה ובתנאים שהורה | B42: 0
A43: ו. סך תשלומים בגין השקעה בקרנות סל כאשר 75 אחוזים לפחות מנכסי הקרן הם נכסים שלא הונפקו במדינת ישראל ואינם נסחרים או מוחזקים בה | B43: 50.333524
A44: ז. סך תשלומים בגין השקעה בקרנות נאמנות ישראליות כאשר 75 אחוזים לפחות מנכסי הקרן מושקעים בנכסים שלא הונפקו במדינת ישראל ואינם נסחרים או מוחזקים בה | B44: 45.884537
A45: ח. סך תשלומים בגין השקעה בקרנות נאמנות זרות כאשר 75 אחוזים לפחות מנכסי הקרן מושקעים בנכסים שלא הונפקו במדינת ישראל ואינם נסחרים או מוחזקים בה | B45: 0
A46: ט. סך תשלומים בגין השקעה בקרן טכנולוגיה עילית | B46: 0
A48: 12. שיעור עמלת ניהול חיצוני בפועל לפני החזר, ככל שבוצע (חלוקה של סעיף 11 בסעיף 8.ב) | B48: 0.00052171335
... A55: 15.ב שיעור עמלת ניהול חיצוני בפועל לאחר החזר, (חלוקה של התוצאה של סעיף 11 בניכוי סעיף 15א, בסעיף 8.ב) | B55: 0.00052171335
A57: סך הכל הוצאות ישירות בפועל (למעט דמי ניהול משתנים כאמור בסעיף 10)
A59: 16. סך כל הוצאות ישירות (סכום של סעיף 7 וסעיף 11 בניכוי סעיף 15א) | B59: 566.01522
A61: 17. שיעור סך ההוצאות הישירות מתוך יתרת נכסים ממוצעת (חלוקה של סעיף 16 בסעיף 8) | B61: 0.0012696942
A63: סך הכל הוצאות ישירות (לצורך חישוב שיעור עלות שנתית צפויה)
A64: 18. שיעור מגבלת עמלת ניהול חיצוני שהמשקיע המוסדי הצהיר עליה בהתאם לתקנה 2א לתקנות הוצאות ישירות עבור שנת הכספים הבאה | B64: 0.0025
A65: 19. De: שיעור הוצאות ישירות (סכום של סעיף 9 וסעיף 18) | B65: 0.0034209543

Sheet מור אג"ח
A1: נספח 1- סך ההוצאות הישירות ששולמו בעד כל סוג של הוצאה ישירה לתקופה המסתיימת ביום 31.12.2024
A3: שם חברת הביטוח: הכשרה חברה לביטוח - בסט אינווסט מור אג"ח ממשלות | B3: אלפי ₪
A5: 31.12.2024 נספח 1- סך ההוצאות הישירות ששולמו בעד כל סוג של הוצאה ישירה לתקופה המסתיימת ביום
A7: הוצאות ישירות שאינן מסוג עמלת ניהול חיצוני
A8: 1. סך הכל עמלות קנייה ומכירה של ניירות ערך סחירים | B8: 29.492268
A9: א. סך עמלות קנייה ומכירה של ניירות ערך סחירים לצדדים קשורים
A10: ב. סך עמלות קנייה ומכירה של ניירות ערך סחירים לצדדים שאינם קשורים | B10: 29.492268
A12: 2. סך הכל דמי שמירה בשל ניירות ערך סחירים וכל עמלה שגובה מי שמבצע את משמרות ניירות הערך עמלות (קסטודיאן) | B12: 0.10737047
A13: א. סך עמלות קסטודיאן לצדדים קשורים
A14: ב. סך עמלות קסטודיאן לצדדים שאינם קשורים | B14: 0.10737047
A16: 3. סך הכל הוצאות הנובעות מהשקעות לא סחירות | B16: 0
A17: א. הוצאה הנובעת מהשקעה בניירות ערך לא סחירים או ממתן הלוואה למי שאינו עמית או מבוטח | B17: 0
A18: ב. הוצאה הנובעת מהשקעה בזכויות במקרקעין
A20: 4. מסים החלים על משקיע מוסדי, על נכסיו, על הכנסותיו ועל עסקאות שנעשו בנכסיו | B20: 0
A22: 5. סך הוצאות בעד ניהול תביעות | B22: 0
A24: 6. סך הוצאות בעד מתן משכנתאות | B24: 0
A26: 7. סך הכל הוצאות ישירות שאינן מסוג עמלת ניהול חיצוני (סכום סעיפים 1 עד 6) | B26: 29.599639
A28: 8. שווי ממוצע של נכסי הקופה או המסלול (ממוצע פשוט של סעיפים8א ו- 8ב) | B28: 120375.17
A29: א. השווי המשוערך של נכסי הקופה או המסלול נכון ליום 31 בדצמבר של שנת הכספים שהסתיימה 2024 | B29: 138569.62
A30: ב. השווי המשוערך של נכסי הקופה או המסלול נכון ליום 31 בדצמבר של שנת הכספים שהסתיימה לפני 2023 או לתקופה אחרת לפי העניין | B30: 102180.72
A32: 9. שיעור שנתי של הוצאות ישירות שאינן מסוג עמלת ניהול חיצוני (חלוקה של סעיף 7 בסעיף 8) | B32: 0.00024589488
A34: הוצאות ישירות מסוג עמלת ניהול חיצוני
A35: 10 . סך דמי ניהול משתנים – החלק מתשלום עמלת ניהול חיצוני שנגזר מתשואת הנכסים | B35: 0
A37: 11. סה"כ הוצאות ישירות מסוג "עמלת ניהול חיצוני" (סכום סעיפים 11.א עד11.ט) | B37: 32.02232
A38: א. סך תשלומים הנובעים מהשקעה בקרנות השקעה בישראל | B38: 28.95
A39: ב. סך תשלומים הנובעים מהשקעה בקרנות השקעה בחו"ל | B39: 0
A40: ג. סך תשלומים למנהלי תיקים ישראלים בגין השקעה בחו"ל | B40: 0
A41: ד. סך תשלומים למנהלי תיקים זרים | B41: 0
A42: ה. סך תשלומים בגין השקעה בקרנות סל כאשר 75 אחוזים לפחות מנכסי הקרן הם נכסים שהונפקו במדינת ישראל לפי מדדים שעליהם הורה הממונה ובתנאים שהורה | B42: 0
A43: ו. סך תשלומים בגין השקעה בקרנות סל כאשר 75 אחוזים לפחות מנכסי הקרן הם נכסים שלא הונפקו במדינת ישראל ואינם נסחרים או מוחזקים בה | B43: 0
A44: ז. סך תשלומים בגין השקעה בקרנות נאמנות ישראליות כאשר 75 אחוזים לפחות מנכסי הקרן מושקעים בנכסים שלא הונפקו במדינת ישראל ואינם נסחרים או מוחזקים בה | B44: 3.0723196
A45: ח. סך תשלומים בגין השקעה בקרנות נאמנות זרות כאשר 75 אחוזים לפחות מנכסי הקרן מושקעים בנכסים שלא הונפקו במדינת ישראל ואינם נסחרים או מוחזקים בה | B45: 0
A46: ט. סך תשלומים בגין השקעה בקרן טכנולוגיה עילית | B46: 0
A48: 12. שיעור עמלת ניהול חיצוני בפועל לפני החזר, ככל שבוצע (חלוקה של סעיף 11 בסעיף 8.ב) | B48: 0.00031338905
... A55: 15.ב שיעור עמלת ניהול חיצוני בפועל לאחר החזר, (חלוקה של התוצאה של סעיף 11 בניכוי סעיף 15א, בסעיף 8.ב) | B55: 0.00031338905
A57: סך הכל הוצאות ישירות בפועל (למעט דמי ניהול משתנים כאמור בסעיף 10)
A59: 16. סך כל הוצאות ישירות (סכום של סעיף 7 וסעיף 11 בניכוי סעיף 15א) | B59: 61.621958
A61: 17. שיעור סך ההוצאות הישירות מתוך יתרת נכסים ממוצעת (חלוקה של סעיף 16 בסעיף 8) | B61: 0.00051191584
A63: סך הכל הוצאות ישירות (לצורך חישוב שיעור עלות שנתית צפויה)
A64: 18. שיעור מגבלת עמלת ניהול חיצוני שהמשקיע המוסדי הצהיר עליה בהתאם לתקנה 2א לתקנות הוצאות ישירות עבור שנת הכספים הבאה | B64: 0.001
A65: 19. De: שיעור הוצאות ישירות (סכום של סעיף 9 וסעיף 18) | B65: 0.0012458949

Sheet אנליסט כללי
A1: נספח 1- סך ההוצאות הישירות ששולמו בעד כל סוג של הוצאה ישירה לתקופה המסתיימת ביום 31.12.2024
A3: שם חברת הביטוח: הכשרה חברה לביטוח - בסט אינווסט אנליסט כללי | B3: אלפי ₪
A5: 31.12.2024 נספח 1- סך ההוצאות הישירות ששולמו בעד כל סוג של הוצאה ישירה לתקופה המסתיימת ביום
A7: הוצאות ישירות שאינן מסוג עמלת ניהול חיצוני
A8: 1. סך הכל עמלות קנייה ומכירה של ניירות ערך סחירים | B8: 123.29172
A9: א. סך עמלות קנייה ומכירה של ניירות ערך סחירים לצדדים קשורים
A10: ב. סך עמלות קנייה ומכירה של ניירות ערך סחירים לצדדים שאינם קשורים | B10: 123.29172
A12: 2. סך הכל דמי שמירה בשל ניירות ערך סחירים וכל עמלה שגובה מי שמבצע את משמרות ניירות הערך עמלות (קסטודיאן) | B12: 0
A13: א. סך עמלות קסטודיאן לצדדים קשורים
A14: ב. סך עמלות קסטודיאן לצדדים שאינם קשורים | B14: 0
A16: 3. סך הכל הוצאות הנובעות מהשקעות לא סחירות | B16: 0
A17: א. הוצאה הנובעת מהשקעה בניירות ערך לא סחירים או ממתן הלוואה למי שאינו עמית או מבוטח | B17: 0
A18: ב. הוצאה הנובעת מהשקעה בזכויות במקרקעין
A20: 4. מסים החלים על משקיע מוסדי, על נכסיו, על הכנסותיו ועל עסקאות שנעשו בנכסיו | B20: 348.75104
A22: 5. סך הוצאות בעד ניהול תביעות | B22: 0
A24: 6. סך הוצאות בעד מתן משכנתאות | B24: 0
A26: 7. סך הכל הוצאות ישירות שאינן מסוג עמלת ניהול חיצוני (סכום סעיפים 1 עד 6) | B26: 472.04276
A28: 8. שווי ממוצע של נכסי הקופה או המסלול (ממוצע פשוט של סעיפים8א ו- 8ב) | B28: 1272713.8
A29: א. השווי המשוערך של נכסי הקופה או המסלול נכון ליום 31 בדצמבר של שנת הכספים שהסתיימה 2024 | B29: 1637717.2
A30: ב. השווי המשוערך של נכסי הקופה או המסלול נכון ליום 31 בדצמבר של שנת הכספים שהסתיימה לפני 2023 או לתקופה אחרת לפי העניין | B30: 907710.25
A32: 9. שיעור שנתי של הוצאות ישירות שאינן מסוג עמלת ניהול חיצוני (חלוקה של סעיף 7 בסעיף 8) | B32: 0.00037089468
A34: הוצאות ישירות מסוג עמלת ניהול חיצוני
A35: 10 . סך דמי ניהול משתנים – החלק מתשלום עמלת ניהול חיצוני שנגזר מתשואת הנכסים | B35: 0
A37: 11. סה"כ הוצאות ישירות מסוג "עמלת ניהול חיצוני" (סכום סעיפים 11.א עד11.ט) | B37: 257.87496
A38: א. סך תשלומים הנובעים מהשקעה בקרנות השקעה בישראל | B38: 0
A39: ב. סך תשלומים הנובעים מהשקעה בקרנות השקעה בחו"ל | B39: 0
A40: ג. סך תשלומים למנהלי תיקים ישראלים בגין השקעה בחו"ל | B40: 0
A41: ד. סך תשלומים למנהלי תיקים זרים | B41: 0
A42: ה. סך תשלומים בגין השקעה בקרנות סל כאשר 75 אחוזים לפחות מנכסי הקרן הם נכסים שהונפקו במדינת ישראל לפי מדדים שעליהם הורה הממונה ובתנאים שהורה | B42: 20.5752
A43: ו. סך תשלומים בגין השקעה בקרנות סל כאשר 75 אחוזים לפחות מנכסי הקרן הם נכסים שלא הונפקו במדינת ישראל ואינם נסחרים או מוחזקים בה | B43: 233.95571
A44: ז. סך תשלומים בגין השקעה בקרנות נאמנות ישראליות כאשר 75 אחוזים לפחות מנכסי הקרן מושקעים בנכסים שלא הונפקו במדינת ישראל ואינם נסחרים או מוחזקים בה | B44: 0
A45: ח. סך תשלומים בגין השקעה בקרנות נאמנות זרות כאשר 75 אחוזים לפחות מנכסי הקרן מושקעים בנכסים שלא הונפקו במדינת ישראל ואינם נסחרים או מוחזקים בה | B45: 3.3440524
A46: ט. סך תשלומים בגין השקעה בקרן טכנולוגיה עילית | B46: 0
A48: 12. שיעור עמלת ניהול חיצוני בפועל לפני החזר, ככל שבוצע (חלוקה של סעיף 11 בסעיף 8.ב) | B48: 0.00028409391
... A55: 15.ב שיעור עמלת ניהול חיצוני בפועל לאחר החזר, (חלוקה של התוצאה של סעיף 11 בניכוי סעיף 15א, בסעיף 8.ב) | B55: 0.00028409391
A57: סך הכל הוצאות ישירות בפועל (למעט דמי ניהול משתנים כאמור בסעיף 10)
A59: 16. סך כל הוצאות ישירות (סכום של סעיף 7 וסעיף 11 בניכוי סעיף 15א) | B59: 729.91772
A61: 17. שיעור סך ההוצאות הישירות מתוך יתרת נכסים ממוצעת (חלוקה של סעיף 16 בסעיף 8) | B61: 0.00057351287
A63: סך הכל הוצאות ישירות (לצורך חישוב שיעור עלות שנתית צפויה)
A64: 18. שיעור מגבלת עמלת ניהול חיצוני שהמשקיע המוסדי הצהיר עליה בהתאם לתקנה 2א לתקנות הוצאות ישירות עבור שנת הכספים הבאה | B64: 0.001
A65: 19. De: שיעור הוצאות ישירות (סכום של סעיף 9 וסעיף 18) | B65: 0.0013708947

Sheet אנליסט מניות
A1: נספח 1- סך ההוצאות הישירות ששולמו בעד כל סוג של הוצאה ישירה לתקופה המסתיימת ביום 31.12.2024
A3: שם חברת הביטוח: הכשרה חברה לביטוח - בסט אינווסט אנליסט מניות | B3: אלפי ₪
A5: 31.12.2024 נספח 1- סך ההוצאות הישירות ששולמו בעד כל סוג של הוצאה ישירה לתקופה המסתיימת ביום
A7: הוצאות ישירות שאינן מסוג עמלת ניהול חיצוני
A8: 1. סך הכל עמלות קנייה ומכירה של ניירות ערך סחירים | B8: 110.63699
A9: א. סך עמלות קנייה ומכירה של ניירות ערך סחירים לצדדים קשורים
A10: ב. סך עמלות קנייה ומכירה של ניירות ערך סחירים לצדדים שאינם קשורים | B10: 110.63699
A12: 2. סך הכל דמי שמירה בשל ניירות ערך סחירים וכל עמלה שגובה מי שמבצע את משמרות ניירות הערך עמלות (קסטודיאן) | B12: 2.8185374
A13: א. סך עמלות קסטודיאן לצדדים קשורים
A14: ב. סך עמלות קסטודיאן לצדדים שאינם קשורים | B14: 2.8185374
A16: 3. סך הכל הוצאות הנובעות מהשקעות לא סחירות | B16: 0
A17: א. הוצאה הנובעת מהשקעה בניירות ערך לא סחירים או ממתן הלוואה למי שאינו עמית או מבוטח | B17: 0
A18: ב. הוצאה הנובעת מהשקעה בזכויות במקרקעין
A20: 4. מסים החלים על משקיע מוסדי, על נכסיו, על הכנסותיו ועל עסקאות שנעשו בנכסיו | B20: 283.12666
A22: 5. סך הוצאות בעד ניהול תביעות | B22: 0
A24: 6. סך הוצאות בעד מתן משכנתאות | B24: 0
A26: 7. סך הכל הוצאות ישירות שאינן מסוג עמלת ניהול חיצוני (סכום סעיפים 1 עד 6) | B26: 396.58218
A28: 8. שווי ממוצע של נכסי הקופה או המסלול (ממוצע פשוט של סעיפים8א ו- 8ב) | B28: 593685.18
A29: א. השווי המשוערך של נכסי הקופה או המסלול נכון ליום 31 בדצמבר של שנת הכספים שהסתיימה 2024 | B29: 808596.47
A30: ב. השווי המשוערך של נכסי הקופה או המסלול נכון ליום 31 בדצמבר של שנת הכספים שהסתיימה לפני 2023 או לתקופה אחרת לפי העניין | B30: 378773.9
A32: 9. שיעור שנתי של הוצאות ישירות שאינן מסוג עמלת ניהול חיצוני (חלוקה של סעיף 7 בסעיף 8) | B32: 0.0006680008
A34: הוצאות ישירות מסוג עמלת ניהול חיצוני
A35: 10 . סך דמי ניהול משתנים – החלק מתשלום עמלת ניהול חיצוני שנגזר מתשואת הנכסים | B35: 0
A37: 11. סה"כ הוצאות ישירות מסוג "עמלת ניהול חיצוני" (סכום סעיפים 11.א עד11.ט) | B37: 276.29676
A38: א. סך תשלומים הנובעים מהשקעה בקרנות השקעה בישראל | B38: 0
A39: ב. סך תשלומים הנובעים מהשקעה בקרנות השקעה בחו"ל | B39: 0
A40: ג. סך תשלומים למנהלי תיקים ישראלים בגין השקעה בחו"ל | B40: 0
A41: ד. סך תשלומים למנהלי תיקים זרים | B41: 0
A42: ה. סך תשלומים בגין השקעה בקרנות סל כאשר 75 אחוזים לפחות מנכסי הקרן הם נכסים שהונפקו במדינת ישראל לפי מדדים שעליהם הורה הממונה ובתנאים שהורה | B42: 18.961713
A43: ו. סך תשלומים בגין השקעה בקרנות סל כאשר 75 אחוזים לפחות מנכסי הקרן הם נכסים שלא הונפקו במדינת ישראל ואינם נסחרים או מוחזקים בה | B43: 244.9913
A44: ז. סך תשלומים בגין השקעה בקרנות נאמנות ישראליות כאשר 75 אחוזים לפחות מנכסי הקרן מושקעים בנכסים שלא הונפקו במדינת ישראל ואינם נסחרים או מוחזקים בה | B44: 0
A45: ח. סך תשלומים בגין השקעה בקרנות נאמנות זרות כאשר 75 אחוזים לפחות מנכסי הקרן מושקעים בנכסים שלא הונפקו במדינת ישראל ואינם נסחרים או מוחזקים בה | B45: 12.343742
A46: ט. סך תשלומים בגין השקעה בקרן טכנולוגיה עילית | B46: 0
A48: 12. שיעור עמלת ניהול חיצוני בפועל לפני החזר, ככל שבוצע (חלוקה של סעיף 11 בסעיף 8.ב) | B48: 0.00072945038
... A55: 15.ב שיעור עמלת ניהול חיצוני בפועל לאחר החזר, (חלוקה של התוצאה של סעיף 11 בניכוי סעיף 15א, בסעיף 8.ב) | B55: 0.00072945038
A57: סך הכל הוצאות ישירות בפועל (למעט דמי ניהול משתנים כאמור בסעיף 10)
A59: 16. סך כל הוצאות ישירות (סכום של סעיף 7 וסעיף 11 בניכוי סעיף 15א) | B59: 672.87894
A61: 17. שיעור סך ההוצאות הישירות מתוך יתרת נכסים ממוצעת (חלוקה של סעיף 16 בסעיף 8) | B61: 0.0011333935
A63: סך הכל הוצאות ישירות (לצורך חישוב שיעור עלות שנתית צפויה)
A64: 18. שיעור מגבלת עמלת ניהול חיצוני שהמשקיע המוסדי הצהיר עליה בהתאם לתקנה 2א לתקנות הוצאות ישירות עבור שנת הכספים הבאה | B64: 0.0025
A65: 19. De: שיעור הוצאות ישירות (סכום של סעיף 9 וסעיף 18) | B65: 0.0031680008

Sheet אנליסט אג"ח
A1: נספח 1- סך ההוצאות הישירות ששולמו בעד כל סוג של הוצאה ישירה לתקופה המסתיימת ביום 31.12.2024
A3: שם חברת הביטוח: הכשרה חברה לביטוח - בסט אינווסט אנליסט אג"ח ממשלות | B3: אלפי ₪
A5: 31.12.2024 נספח 1- סך ההוצאות הישירות ששולמו בעד כל סוג של הוצאה ישירה לתקופה המסתיימת ביום
A7: הוצאות ישירות שאינן מסוג עמלת ניהול חיצוני
A8: 1. סך הכל עמלות קנייה ומכירה של ניירות ערך סחירים | B8: 8.4763341
A9: א. סך עמלות קנייה ומכירה של ניירות ערך סחירים לצדדים קשורים
A10: ב. סך עמלות קנייה ומכירה של ניירות ערך סחירים לצדדים שאינם קשורים | B10: 8.4763341
A12: 2. סך הכל דמי שמירה בשל ניירות ערך סחירים וכל עמלה שגובה מי שמבצע את משמרות ניירות הערך עמלות (קסטודיאן) | B12: 0
A13: א. סך עמלות קסטודיאן לצדדים קשורים
A14: ב. סך עמלות קסטודיאן לצדדים שאינם קשורים | B14: 0
A16: 3. סך הכל הוצאות הנובעות מהשקעות לא סחירות | B16: 0
A17: א. הוצאה הנובעת מהשקעה בניירות ערך לא סחירים או ממתן הלוואה למי שאינו עמית או מבוטח | B17: 0
A18: ב. הוצאה הנובעת מהשקעה בזכויות במקרקעין
A20: 4. מסים החלים על משקיע מוסדי, על נכסיו, על הכנסותיו ועל עסקאות שנעשו בנכסיו | B20: 0
A22: 5. סך הוצאות בעד ניהול תביעות | B22: 0
A24: 6. סך הוצאות בעד מתן משכנתאות | B24: 0
A26: 7. סך הכל הוצאות ישירות שאינן מסוג עמלת ניהול חיצוני (סכום סעיפים 1 עד 6) | B26: 8.4763341
A28: 8. שווי ממוצע של נכסי הקופה או המסלול (ממוצע פשוט של סעיפים8א ו- 8ב) | B28: 47045.156
A29: א. השווי המשוערך של נכסי הקופה או המסלול נכון ליום 31 בדצמבר של שנת הכספים שהסתיימה 2024 | B29: 62054.97
A30: ב. השווי המשוערך של נכסי הקופה או המסלול נכון ליום 31 בדצמבר של שנת הכספים שהסתיימה לפני 2023 או לתקופה אחרת לפי העניין | B30: 32035.342
A32: 9. שיעור שנתי של הוצאות ישירות שאינן מסוג עמלת ניהול חיצוני (חלוקה של סעיף 7 בסעיף 8) | B32: 0.00018017443
A34: הוצאות ישירות מסוג עמלת ניהול חיצוני
A35: 10 . סך דמי ניהול משתנים – החלק מתשלום עמלת ניהול חיצוני שנגזר מתשואת הנכסים | B35: 0
A37: 11. סה"כ הוצאות ישירות מסוג "עמלת ניהול חיצוני" (סכום סעיפים 11.א עד11.ט) | B37: 0.089116075
A38: א. סך תשלומים הנובעים מהשקעה בקרנות השקעה בישראל | B38: 0
A39: ב. סך תשלומים הנובעים מהשקעה בקרנות השקעה בחו"ל | B39: 0
A40: ג. סך תשלומים למנהלי תיקים ישראלים בגין השקעה בחו"ל | B40: 0
A41: ד. סך תשלומים למנהלי תיקים זרים | B41: 0
A42: ה. סך תשלומים בגין השקעה בקרנות סל כאשר 75 אחוזים לפחות מנכסי הקרן הם נכסים שהונפקו במדינת ישראל לפי מדדים שעליהם הורה הממונה ובתנאים שהורה | B42: 0
A43: ו. סך תשלומים בגין השקעה בקרנות סל כאשר 75 אחוזים לפחות מנכסי הקרן הם נכסים שלא הונפקו במדינת ישראל ואינם נסחרים או מוחזקים בה | B43: 0.089116075
A44: ז. סך תשלומים בגין השקעה בקרנות נאמנות ישראליות כאשר 75 אחוזים לפחות מנכסי הקרן מושקעים בנכסים שלא הונפקו במדינת ישראל ואינם נסחרים או מוחזקים בה | B44: 0
A45: ח. סך תשלומים בגין השקעה בקרנות נאמנות זרות כאשר 75 אחוזים לפחות מנכסי הקרן מושקעים בנכסים שלא הונפקו במדינת ישראל ואינם נסחרים או מוחזקים בה | B45: 0
A46: ט. סך תשלומים בגין השקעה בקרן טכנולוגיה עילית | B46: 0
A48: 12. שיעור עמלת ניהול חיצוני בפועל לפני החזר, ככל שבוצע (חלוקה של סעיף 11 בסעיף 8.ב) | B48: 2.781805e-06
... A55: 15.ב שיעור עמלת ניהול חיצוני בפועל לאחר החזר, (חלוקה של התוצאה של סעיף 11 בניכוי סעיף 15א, בסעיף 8.ב) | B55: 2.781805e-06
A57: סך הכל הוצאות ישירות בפועל (למעט דמי ניהול משתנים כאמור בסעיף 10)
A59: 16. סך כל הוצאות ישירות (סכום של סעיף 7 וסעיף 11 בניכוי סעיף 15א) | B59: 8.5654502
A61: 17. שיעור סך ההוצאות הישירות מתוך יתרת נכסים ממוצעת (חלוקה של סעיף 16 בסעיף 8) | B61: 0.00018206869
A63: סך הכל הוצאות ישירות (לצורך חישוב שיעור עלות שנתית צפויה)
A64: 18. שיעור מגבלת עמלת ניהול חיצוני שהמשקיע המוסדי הצהיר עליה בהתאם לתקנה 2א לתקנות הוצאות ישירות עבור שנת הכספים הבאה | B64: 0.001
A65: 19. De: שיעור הוצאות ישירות (סכום של סעיף 9 וסעיף 18) | B65: 0.0011801744

Sheet נספח 2
A1: נספח 2- סך ההוצאות הישירות ששולמו בעד כל סוג של הוצאה ישירה לתקופה המסתיימת ביום 31.12.2025
A3: שם חברת הביטוח: הכשרה חברה לביטוח - משתתפות ברווחים
B4: אלפי ₪
A5: ברוקארז'- עמלות קנייה ומכירה בגין ביצוע עסקאות בניירות ערך סחירים
A6: צדדים קשורים : | B6: 0
A9: צדדים שאינם קשורים : | B9: =SUM(B10:B13) -> 10231.248
A10: (1) בנק מזרחי | B10: 7619.2616
A11: (2) איביאי | B11: 1277.8504
A12: (3) מיטב דש | B12: 270.23964
A13: (4) אחרים | B13: 1063.8964
A14: סך עמלות ברוקראז' | B14: =B6+B9 -> 10231.248
A16: עמלות קסטודיאן
A17: צדדים קשורים | B17: 0
A19: צדדים שאינם קשורים : | B19: =SUM(B20:B22) -> 51.661083
A20: (1) בנק מזרחי | B20: 50.206483
A21: (2) בנק לאומי | B21: 1.32695
A22: (3) אחרים | B22: 0.12765
A23: סך עמלות קסטודיאן | B23: =B19+B17 -> 51.661083
A25: הוצאה הנובעת מהשקעה בניירות ערך לא סחירים או ממתן הלוואה
A26: (1) עו"ד ארנון שגב | B26: 100.515
A27: (2) עו"ד קוזיוף | B27: 98.737
A28: (3) MGI | B28: 33.143142
A29: (4) EKAVI | B29: 31.918019
A30: (5) זיו האפט ייעוץ וניהול | B30: 11.8
A32: סך הוצאות הנובעות מהשקעה בניירות ערך לא סחירים או ממתן הלוואה | B32: =SUM(B26:B31) -> 276.11316
A34: הוצאה הנובעת מהשקעה בזכויות מקרקעין
A36: סך הוצאות הנובעות מהשקעה בזכויות מקרקעין | B36: 0
A38: מסים החלים על הנכסים, ההכנסות והעסקאות | B38: 8536.7313
A40: הוצאה הנובעת בעד ניהול תביעה או תובענה | B40: 0
A42: סך הוצאות הנובעות בעד ניהול תביעה או תובענה | B42: 0
A44: הוצאה הנובעת ממתן משכנתא | B44: 0
A46: סך הוצאות בעד מתן משכנתאות | B46: 0
A48: סך הכל עמלות והוצאות שאינן עמלות ניהול חיצוני | B48: =B14+B23+B32+B36+B38+B42+B46 -> 19095.754

Sheet נספח 3
A1: נספח 3 - סך ההוצאות הישירות ששולמו בעד כל סוג של הוצאה ישירה לתקופה המסתיימת ביום 31.12.2025
A3: שם חברת הביטוח: הכשרה חברה לביטוח - משתתפות ברווחים
B4: אלפי ש"ח
A5: תשלום הנובע מהשקעה בקרנות השקעה בישראל
A6: (1) קרן ברוש | B6: 1240.338
A7: (2) אחרים | B7: 10093.364
A10: סך תשלומים הנובעים מהשקעה בקרנות השקעה בישראל | B10: =SUM(B6:B8) -> 11333.702
A12: תשלום הנובע מהשקעה בקרנות השקעה בחו"ל
A13: (1) קרן FUSE 11 | B13: 581.61495
A14: (2) אחרים | B14: 4960.6522
A16: סך תשלומים הנובעים מהשקעה בקרנות השקעה בחו"ל | B16: =SUM(B13:B15) -> 5542.2672
A18: תשלום למנהל תיקים ישראלי
A20: סך תשלומים למנהלי תיקים ישראליים | B20: 0
A22: תשלום למנהל תיקים זר
A24: סך תשלום למנהלי תיקים זרים | B24: 0
A26: סך תשלומים בגין השקעה בקרן סל כאשר 75% לפחות מנכסי הקרן הם נכסים שלא הונפקו במדינת ישראל ואינם נסחרים או מוחזקים בה
A27: (1) Invesco Capital Management LLC | B27: 1048.4897
A28: (2) ISHARES | B28: 954.34432
A29: (3) GLOBAL X | B29: 593.56772
A30: (4) אחרים | B30: 2711.861
A31: סך תשלום למנהלי קרנות סל | B31: =SUM(B27:B30) -> 5308.2628
A33: סך תשלומים בגין השקעה בקרן סל כאשר 75% לפחות מנכסי הקרן הם נכסים שהונפקו במדינת ישראל לפי מדדים שעליהם הורה הממונה ובתנאים שהורה
A34: (1) מיטב קרנות נאמנות | B34: 46.05229
A35: (2) קסם קרנות נאמנות | B35: 43.325237
A36: (3) הראל קרנות מדד | B36: 12.864324
A37: (4) הראל קרנות מדד | B37: 3.0557099
A38: סך תשלום למנהלי קרן סל | B38: =SUM(B34:B37) -> 105.29756
A40: תשלום בגין השקעה בקרנות נאמנות ישראליות כאשר 75% לפחות מנכסי הקרן מושקעים בנכסים שלא הונפקו במדינת ישראל ואינם נסחרים או מוחזקים בה
A42: קרן נאמנות ישראלית
A43: (1) מגדל קרנות נאמנות | B43: 170.99097
A44: (2) קסם קרנות נאמנות | B44: 58.570013
A45: (3) איביאי קרנות נאמנות | B45: 19.733417
A46: (4) הראל קרנות מדד | B46: 12.161137
A47: (5) מיטב קרנות נאמנות | B47: 10.615912
A48: (6) אחרים | B48: 5.140628
A49: סך תשלומים למנהלי קרנות נאמנות ישראליות | B49: =SUM(B43:B48) -> 277.21208
A51: תשלום בגין השקעה בקרנות נאמנות זרות כאשר 75% לפחות מנכסי הקרן מושקעים בנכסים שלא הונפקו במדינת ישראל ואינם נסחרים או מוחזקים בה
A53: (1) Invesco Management S.A | B53: 613.03367
A54: PIMCO (2) | B54: 317.30494
A55: (3) Nomura Asset Management | B55: 299.68246
A56: (4) אחרים | B56: 1352.5513
A60: סך תשלומים בגין השקעה בקרנות נאמנות זרות | B60: =SUM(B53:B59) -> 2582.5724
A62: תשלומים בגין השקעה בקרן טכנולוגיה עילית
A63: (1) איביאי טכנולוגיה עלית | B63: 11.026271
A65: סך תשלום בגין השקעה בקרן טכנולוגיה עילית | B65: =SUM(B63:B64) -> 11.026271
A67: סך הכל עמלות ניהול חיצוני | B67: =B10+B16+B20+B24+B31+B38+B49+B60+B63 -> 25160.34
A69: תשלום של דמי ניהול משתנים
A70: (1) קרן ברוש | B70: 1939.968
A71: (2) קרן ואר | B71: 1610.349
A72: (3) קרן טוטאל | B72: 1389.66
A73: (4) קרן מיילסטון MREI 4 | B73: 1339.4236
A74: (5) רידינג קפיטל | B74: 1120.2043
A75: (6) אחרים | B75: 3439.4289
A76: סך דמי ניהול משתנים | B76: =SUM(B70:B75) -> 10839.034
A78: סך הכל נכסים לסוף שנה קודמת | B78: 25796.471
