Workbook

Sheet נספח 1 - מצרפי
A1: נספח 1- סך ההוצאות הישירות ששולמו בעד כל סוג של הוצאה ישירה לתקופה המסתיימת ביום 31.12.2025
A3: שם חברת הביטוח: הכשרה חברה לביטוח - משתתפות ברווחים | B3: אלפי ₪
A5: 31.12.2025 נספח 1- סך ההוצאות הישירות ששולמו בעד כל סוג של הוצאה ישירה לתקופה המסתיימת ביום
A7: הוצאות ישירות שאינן מסוג עמלת ניהול חיצוני
A8: 1. סך הכל עמלות קנייה ומכירה של ניירות ערך סחירים | B8: =SUM(B9:B10) -> 10231.248
A9: א. סך עמלות קנייה ומכירה של ניירות ערך סחירים לצדדים קשורים
A10: ב. סך עמלות קנייה ומכירה של ניירות ערך סחירים לצדדים שאינם קשורים | B10: ='קרן ט'!B10+'קרן י'!B10+'הכשרה כללי'!B10+'הכשרה אגח ממשלות'!B10+'הכשרה מניות'!B10+'כספי שקלי'!B10+'הכשרה לבני 50 ומטה'!B10+'הכשרה לבני 50-60'!B10+'הכשרה לבני 60 ומעלה'!B10+'הכשרה מקבלי קצבה'!B10+'הכשרה אשראי ואג"ח'!B10+'הכשרה אשראי ואג"ח עד 25%'!B10+'הכשרה עוקב מדדים גמיש'!B10+'הכשרה משולב סחיר'!B10+'אלשטולר כללי'!B10+'אלשטושלר מניות'!B10+'אלטשולר אג"ח'!B10+'ילין כללי'!B10+'ילין מניות'!B10+'ילין אג"ח'!B10+'מיטב כללי'!B10+'מיטב מניות'!B10+'מיטב אג"ח'!B10+'הכשרה עוקב מדד SP500'!B10+'מור כללי'!B10+'מור מניות'!B10+'מור אג"ח'!B10+'אנליסט כללי'!B10+'אנליסט מניות'!B10+'אנליסט אג"ח'!B10 -> 10231.248
A12: 2. סך הכל דמי שמירה בשל ניירות ערך סחירים וכל עמלה שגובה מי שמבצע את משמרות ניירות הערך עמלות (קסטודיאן) | B12: =SUM(B13:B14) -> 51.661083
A13: א. סך עמלות קסטודיאן לצדדים קשורים
A14: ב. סך עמלות קסטודיאן לצדדים שאינם קשורים | B14: ='קרן ט'!B14+'קרן י'!B14+'הכשרה כללי'!B14+'הכשרה אגח ממשלות'!B14+'הכשרה מניות'!B14+'כספי שקלי'!B14+'הכשרה לבני 50 ומטה'!B14+'הכשרה לבני 50-60'!B14+'הכשרה לבני 60 ומעלה'!B14+'הכשרה מקבלי קצבה'!B14+'הכשרה אשראי ואג"ח'!B14+'הכשרה אשראי ואג"ח עד 25%'!B14+'הכשרה עוקב מדדים גמיש'!B14+'הכשרה משולב סחיר'!B14+'אלשטולר כללי'!B14+'אלשטושלר מניות'!B14+'אלטשולר אג"ח'!B14+'ילין כללי'!B14+'ילין מניות'!B14+'ילין אג"ח'!B14+'מיטב כללי'!B14+'מיטב מניות'!B14+'מיטב אג"ח'!B14+'הכשרה עוקב מדד SP500'!B14+'מור כללי'!B14+'מור מניות'!B14+'מור אג"ח'!B14+'אנליסט כללי'!B14+'אנליסט מניות'!B14+'אנליסט אג"ח'!B14 -> 51.661083
A16: 3. סך הכל הוצאות הנובעות מהשקעות לא סחירות | B16: =SUM(B17:B19) -> 276.11282
A17: א. הוצאה הנובעת מהשקעה בניירות ערך לא סחירים או ממתן הלוואה למי שאינו עמית או מבוטח | B17: ='קרן ט'!B17+'קרן י'!B17+'הכשרה כללי'!B17+'הכשרה אגח ממשלות'!B17+'הכשרה מניות'!B17+'כספי שקלי'!B17+'הכשרה לבני 50 ומטה'!B17+'הכשרה לבני 50-60'!B17+'הכשרה לבני 60 ומעלה'!B17+'הכשרה מקבלי קצבה'!B17+'הכשרה אשראי ואג"ח'!B17+'הכשרה אשראי ואג"ח עד 25%'!B17+'הכשרה עוקב מדדים גמיש'!B17+'הכשרה משולב סחיר'!B17+'אלשטולר כללי'!B17+'אלשטושלר מניות'!B17+'אלטשולר אג"ח'!B17+'ילין כללי'!B17+'ילין מניות'!B17+'ילין אג"ח'!B17+'מיטב כללי'!B17+'מיטב מניות'!B17+'מיטב אג"ח'!B17+'הכשרה עוקב מדד SP500'!B17+'מור כללי'!B17+'מור מניות'!B17+'מור אג"ח'!B17+'אנליסט כללי'!B17+'אנליסט מניות'!B17+'אנליסט אג"ח'!B17 -> 276.11282
A18: ב. הוצאה הנובעת מהשקעה בזכויות במקרקעין | B18: ='קרן ט'!B18+'קרן י'!B18+'הכשרה כללי'!B18+'הכשרה אגח ממשלות'!B18+'הכשרה מניות'!B18+'כספי שקלי'!B18+'הכשרה לבני 50 ומטה'!B18+'הכשרה לבני 50-60'!B18+'הכשרה לבני 60 ומעלה'!B18+'הכשרה מקבלי קצבה'!B18+'הכשרה אשראי ואג"ח'!B18+'הכשרה אשראי ואג"ח עד 25%'!B18+'הכשרה עוקב מדדים גמיש'!B18+'הכשרה משולב סחיר'!B18+'אלשטולר כללי'!B18+'אלשטושלר מניות'!B18+'אלטשולר אג"ח'!B18+'ילין כללי'!B18+'ילין מניות'!B18+'ילין אג"ח'!B18+'מיטב כללי'!B18+'מיטב מניות'!B18+'מיטב אג"ח'!B18+'הכשרה עוקב מדד SP500'!B18+'מור כללי'!B18+'מור מניות'!B18+'מור אג"ח'!B18+'אנליסט כללי'!B18+'אנליסט מניות'!B18+'אנליסט אג"ח'!B18 -> 0
A20: 4. מסים החלים על משקיע מוסדי, על נכסיו, על הכנסותיו ועל עסקאות שנעשו בנכסיו | B20: ='קרן ט'!B20+'קרן י'!B20+'הכשרה כללי'!B20+'הכשרה אגח ממשלות'!B20+'הכשרה מניות'!B20+'כספי שקלי'!B20+'הכשרה לבני 50 ומטה'!B20+'הכשרה לבני 50-60'!B20+'הכשרה לבני 60 ומעלה'!B20+'הכשרה מקבלי קצבה'!B20+'הכשרה אשראי ואג"ח'!B20+'הכשרה אשראי ואג"ח עד 25%'!B20+'הכשרה עוקב מדדים גמיש'!B20+'הכשרה משולב סחיר'!B20+'אלשטולר כללי'!B20+'אלשטושלר מניות'!B20+'אלטשולר אג"ח'!B20+'ילין כללי'!B20+'ילין מניות'!B20+'ילין אג"ח'!B20+'מיטב כללי'!B20+'מיטב מניות'!B20+'מיטב אג"ח'!B20+'הכשרה עוקב מדד SP500'!B20+'מור כללי'!B20+'מור מניות'!B20+'מור אג"ח'!B20+'אנליסט כללי'!B20+'אנליסט מניות'!B20+'אנליסט אג"ח'!B20 -> 8536.7313
A22: 5. סך הוצאות בעד ניהול תביעות | B22: ='קרן ט'!B22+'קרן י'!B22+'הכשרה כללי'!B22+'הכשרה אגח ממשלות'!B22+'הכשרה מניות'!B22+'כספי שקלי'!B22+'הכשרה לבני 50 ומטה'!B22+'הכשרה לבני 50-60'!B22+'הכשרה לבני 60 ומעלה'!B22+'הכשרה מקבלי קצבה'!B22+'הכשרה אשראי ואג"ח'!B22+'הכשרה עוקב מדדים גמיש'!B22+'הכשרה משולב סחיר'!B22+'אלשטולר כללי'!B22+'אלשטושלר מניות'!B22+'אלטשולר אג"ח'!B22+'ילין כללי'!B22+'ילין מניות'!B22+'ילין אג"ח'!B22+'מיטב כללי'!B22+'מיטב מניות'!B22+'מיטב אג"ח'!B22+'הכשרה עוקב מדד SP500'!B22+'מור כללי'!B22+'מור מניות'!B22+'מור אג"ח'!B22+'אנליסט כללי'!B22+'אנליסט מניות'!B22+'אנליסט אג"ח'!B22 -> 0
A24: 6. סך הוצאות בעד מתן משכנתאות | B24: ='קרן ט'!B24+'קרן י'!B24+'הכשרה כללי'!B24+'הכשרה אגח ממשלות'!B24+'הכשרה מניות'!B24+'כספי שקלי'!B24+'הכשרה לבני 50 ומטה'!B24+'הכשרה לבני 50-60'!B24+'הכשרה לבני 60 ומעלה'!B24+'הכשרה מקבלי קצבה'!B24+'הכשרה אשראי ואג"ח'!B24+'הכשרה עוקב מדדים גמיש'!B24+'הכשרה משולב סחיר'!B24+'אלשטולר כללי'!B24+'אלשטושלר מניות'!B24+'אלטשולר אג"ח'!B24+'ילין כללי'!B24+'ילין מניות'!B24+'ילין אג"ח'!B24+'מיטב כללי'!B24+'מיטב מניות'!B24+'מיטב אג"ח'!B24+'הכשרה עוקב מדד SP500'!B24+'מור כללי'!B24+'מור מניות'!B24+'מור אג"ח'!B24+'אנליסט כללי'!B24+'אנליסט מניות'!B24+'אנליסט אג"ח'!B24 -> 0
A26: 7. סך הכל הוצאות ישירות שאינן מסוג עמלת ניהול חיצוני (סכום סעיפים 1 עד 6) | B26: =B8+B12+B16+B20+B22+B24 -> 19095.753
A28: 8. שווי ממוצע של נכסי הקופה או המסלול (ממוצע פשוט של סעיפים8א ו- 8ב) | B28: =(B29+B30)/2 -> 28823303
A29: א. השווי המשוערך של נכסי הקופה או המסלול נכון ליום 31 בדצמבר של שנת הכספים שהסתיימה 2024 | B29: ='קרן ט'!B29+'קרן י'!B29+'הכשרה כללי'!B29+'הכשרה אגח ממשלות'!B29+'הכשרה מניות'!B29+'כספי שקלי'!B29+'הכשרה לבני 50 ומטה'!B29+'הכשרה לבני 50-60'!B29+'הכשרה לבני 60 ומעלה'!B29+'הכשרה מקבלי קצבה'!B29+'הכשרה אשראי ואג"ח'!B29+'הכשרה אשראי ואג"ח עד 25%'!B29+'הכשרה עוקב מדדים גמיש'!B29+'הכשרה משולב סחיר'!B29+'אלשטולר כללי'!B29+'אלשטושלר מניות'!B29+'אלטשולר אג"ח'!B29+'ילין כללי'!B29+'ילין מניות'!B29+'ילין אג"ח'!B29+'מיטב כללי'!B29+'מיטב מניות'!B29+'מיטב אג"ח'!B29+'הכשרה עוקב מדד SP500'!B29+'מור כללי'!B29+'מור מניות'!B29+'מור אג"ח'!B29+'אנליסט כללי'!B29+'אנליסט מניות'!B29+'אנליסט אג"ח'!B29 -> 31902151
A30: ב. השווי המשוערך של נכסי הקופה או המסלול נכון ליום 31 בדצמבר של שנת הכספים שהסתיימה לפני 2023 או לתקופה אחרת לפי העניין | B30: ='קרן ט'!B30+'קרן י'!B30+'הכשרה כללי'!B30+'הכשרה אגח ממשלות'!B30+'הכשרה מניות'!B30+'כספי שקלי'!B30+'הכשרה לבני 50 ומטה'!B30+'הכשרה לבני 50-60'!B30+'הכשרה לבני 60 ומעלה'!B30+'הכשרה מקבלי קצבה'!B30+'הכשרה אשראי ואג"ח'!B30+'הכשרה אשראי ואג"ח עד 25%'!B30+'הכשרה עוקב מדדים גמיש'!B30+'הכשרה משולב סחיר'!B30+'אלשטולר כללי'!B30+'אלשטושלר מניות'!B30+'אלטשולר אג"ח'!B30+'ילין כללי'!B30+'ילין מניות'!B30+'ילין אג"ח'!B30+'מיטב כללי'!B30+'מיטב מניות'!B30+'מיטב אג"ח'!B30+'הכשרה עוקב מדד SP500'!B30+'מור כללי'!B30+'מור מניות'!B30+'מור אג"ח'!B30+'אנליסט כללי'!B30+'אנליסט מניות'!B30+'אנליסט אג"ח'!B30 -> 25744454
A32: 9. שיעור שנתי של הוצאות ישירות שאינן מסוג עמלת ניהול חיצוני (חלוקה של סעיף 7 בסעיף 8) | B32: =B26/B28 -> 0.00066251094
A34: הוצאות ישירות מסוג עמלת ניהול חיצוני
A35: 10 . סך דמי ניהול משתנים – החלק מתשלום עמלת ניהול חיצוני שנגזר מתשואת הנכסים | B35: ='קרן ט'!B35+'קרן י'!B35+'הכשרה כללי'!B35+'הכשרה אגח ממשלות'!B35+'הכשרה מניות'!B35+'כספי שקלי'!B35+'הכשרה לבני 50 ומטה'!B35+'הכשרה לבני 50-60'!B35+'הכשרה לבני 60 ומעלה'!B35+'הכשרה מקבלי קצבה'!B35+'הכשרה אשראי ואג"ח'!B35+'הכשרה עוקב מדדים גמיש'!B35+'הכשרה משולב סחיר'!B35+'אלשטולר כללי'!B35+'אלשטושלר מניות'!B35+'אלטשולר אג"ח'!B35+'ילין כללי'!B35+'ילין מניות'!B35+'ילין אג"ח'!B35+'מיטב כללי'!B35+'מיטב מניות'!B35+'מיטב אג"ח'!B35+'הכשרה עוקב מדד SP500'!B35+'מור כללי'!B35+'מור מניות'!B35+'מור אג"ח'!B35+'אנליסט כללי'!B35+'אנליסט מניות'!B35+'אנליסט אג"ח'!B35 -> 10839.034
A37: 11. סה"כ הוצאות ישירות מסוג "עמלת ניהול חיצוני" (סכום סעיפים 11.א עד11.ט) | B37: =SUM(B38:B46) -> 25160.34
A38: א. סך תשלומים הנובעים מהשקעה בקרנות השקעה בישראל | B38: ='קרן ט'!B38+'קרן י'!B38+'הכשרה כללי'!B38+'הכשרה אגח ממשלות'!B38+'הכשרה מניות'!B38+'כספי שקלי'!B38+'הכשרה לבני 50 ומטה'!B38+'הכשרה לבני 50-60'!B38+'הכשרה לבני 60 ומעלה'!B38+'הכשרה מקבלי קצבה'!B38+'הכשרה אשראי ואג"ח'!B38+'הכשרה אשראי ואג"ח עד 25%'!B38+'הכשרה עוקב מדדים גמיש'!B38+'הכשרה משולב סחיר'!B38+'אלשטולר כללי'!B38+'אלשטושלר מניות'!B38+'אלטשולר אג"ח'!B38+'ילין כללי'!B38+'ילין מניות'!B38+'ילין אג"ח'!B38+'מיטב כללי'!B38+'מיטב מניות'!B38+'מיטב אג"ח'!B38+'הכשרה עוקב מדד SP500'!B38+'מור כללי'!B38+'מור מניות'!B38+'מור אג"ח'!B38+'אנליסט כללי'!B38+'אנליסט מניות'!B38+'אנליסט אג"ח'!B38 -> 11333.702
A39: ב. סך תשלומים הנובעים מהשקעה בקרנות השקעה בחו"ל | B39: ='קרן ט'!B39+'קרן י'!B39+'הכשרה כללי'!B39+'הכשרה אגח ממשלות'!B39+'הכשרה מניות'!B39+'כספי שקלי'!B39+'הכשרה לבני 50 ומטה'!B39+'הכשרה לבני 50-60'!B39+'הכשרה לבני 60 ומעלה'!B39+'הכשרה מקבלי קצבה'!B39+'הכשרה אשראי ואג"ח'!B39+'הכשרה אשראי ואג"ח עד 25%'!B39+'הכשרה עוקב מדדים גמיש'!B39+'הכשרה משולב סחיר'!B39+'אלשטולר כללי'!B39+'אלשטושלר מניות'!B39+'אלטשולר אג"ח'!B39+'ילין כללי'!B39+'ילין מניות'!B39+'ילין אג"ח'!B39+'מיטב כללי'!B39+'מיטב מניות'!B39+'מיטב אג"ח'!B39+'הכשרה עוקב מדד SP500'!B39+'מור כללי'!B39+'מור מניות'!B39+'מור אג"ח'!B39+'אנליסט כללי'!B39+'אנליסט מניות'!B39+'אנליסט אג"ח'!B39 -> 5542.2671
A40: ג. סך תשלומים למנהלי תיקים ישראלים בגין השקעה בחו"ל | B40: ='קרן ט'!B40+'קרן י'!B40+'הכשרה כללי'!B40+'הכשרה אגח ממשלות'!B40+'הכשרה מניות'!B40+'כספי שקלי'!B40+'הכשרה לבני 50 ומטה'!B40+'הכשרה לבני 50-60'!B40+'הכשרה לבני 60 ומעלה'!B40+'הכשרה מקבלי קצבה'!B40+'הכשרה אשראי ואג"ח'!B40+'הכשרה אשראי ואג"ח עד 25%'!B40+'הכשרה עוקב מדדים גמיש'!B40+'הכשרה משולב סחיר'!B40+'אלשטולר כללי'!B40+'אלשטושלר מניות'!B40+'אלטשולר אג"ח'!B40+'ילין כללי'!B40+'ילין מניות'!B40+'ילין אג"ח'!B40+'מיטב כללי'!B40+'מיטב מניות'!B40+'מיטב אג"ח'!B40+'הכשרה עוקב מדד SP500'!B40+'מור כללי'!B40+'מור מניות'!B40+'מור אג"ח'!B40+'אנליסט כללי'!B40+'אנליסט מניות'!B40+'אנליסט אג"ח'!B40 -> 0
A41: ד. סך תשלומים למנהלי תיקים זרים | B41: ='קרן ט'!B41+'קרן י'!B41+'הכשרה כללי'!B41+'הכשרה אגח ממשלות'!B41+'הכשרה מניות'!B41+'כספי שקלי'!B41+'הכשרה לבני 50 ומטה'!B41+'הכשרה לבני 50-60'!B41+'הכשרה לבני 60 ומעלה'!B41+'הכשרה מקבלי קצבה'!B41+'הכשרה אשראי ואג"ח'!B41+'הכשרה אשראי ואג"ח עד 25%'!B41+'הכשרה עוקב מדדים גמיש'!B41+'הכשרה משולב סחיר'!B41+'אלשטולר כללי'!B41+'אלשטושלר מניות'!B41+'אלטשולר אג"ח'!B41+'ילין כללי'!B41+'ילין מניות'!B41+'ילין אג"ח'!B41+'מיטב כללי'!B41+'מיטב מניות'!B41+'מיטב אג"ח'!B41+'הכשרה עוקב מדד SP500'!B41+'מור כללי'!B41+'מור מניות'!B41+'מור אג"ח'!B41+'אנליסט כללי'!B41+'אנליסט מניות'!B41+'אנליסט אג"ח'!B41 -> 0
A42: ה. סך תשלומים בגין השקעה בקרנות סל כאשר 75 אחוזים לפחות מנכסי הקרן הם נכסים שהונפקו במדינת ישראל לפי מדדים שעליהם הורה הממונה ובתנאים שהורה | B42: ='קרן ט'!B42+'קרן י'!B42+'הכשרה כללי'!B42+'הכשרה אגח ממשלות'!B42+'הכשרה מניות'!B42+'כספי שקלי'!B42+'הכשרה לבני 50 ומטה'!B42+'הכשרה לבני 50-60'!B42+'הכשרה לבני 60 ומעלה'!B42+'הכשרה מקבלי קצבה'!B42+'הכשרה אשראי ואג"ח'!B42+'הכשרה אשראי ואג"ח עד 25%'!B42+'הכשרה עוקב מדדים גמיש'!B42+'הכשרה משולב סחיר'!B42+'אלשטולר כללי'!B42+'אלשטושלר מניות'!B42+'אלטשולר אג"ח'!B42+'ילין כללי'!B42+'ילין מניות'!B42+'ילין אג"ח'!B42+'מיטב כללי'!B42+'מיטב מניות'!B42+'מיטב אג"ח'!B42+'הכשרה עוקב מדד SP500'!B42+'מור כללי'!B42+'מור מניות'!B42+'מור אג"ח'!B42+'אנליסט כללי'!B42+'אנליסט מניות'!B42+'אנליסט אג"ח'!B42 -> 105.29756
A43: ו. סך תשלומים בגין השקעה בקרנות סל כאשר 75 אחוזים לפחות מנכסי הקרן הם נכסים שלא הונפקו במדינת ישראל ואינם נסחרים או מוחזקים בה | B43: ='קרן ט'!B43+'קרן י'!B43+'הכשרה כללי'!B43+'הכשרה אגח ממשלות'!B43+'הכשרה מניות'!B43+'כספי שקלי'!B43+'הכשרה לבני 50 ומטה'!B43+'הכשרה לבני 50-60'!B43+'הכשרה לבני 60 ומעלה'!B43+'הכשרה מקבלי קצבה'!B43+'הכשרה אשראי ואג"ח'!B43+'הכשרה אשראי ואג"ח עד 25%'!B43+'הכשרה עוקב מדדים גמיש'!B43+'הכשרה משולב סחיר'!B43+'אלשטולר כללי'!B43+'אלשטושלר מניות'!B43+'אלטשולר אג"ח'!B43+'ילין כללי'!B43+'ילין מניות'!B43+'ילין אג"ח'!B43+'מיטב כללי'!B43+'מיטב מניות'!B43+'מיטב אג"ח'!B43+'הכשרה עוקב מדד SP500'!B43+'מור כללי'!B43+'מור מניות'!B43+'מור אג"ח'!B43+'אנליסט כללי'!B43+'אנליסט מניות'!B43+'אנליסט אג"ח'!B43 -> 5308.2628
A44: ז. סך תשלומים בגין השקעה בקרנות נאמנות ישראליות כאשר 75 אחוזים לפחות מנכסי הקרן מושקעים בנכסים שלא הונפקו במדינת ישראל ואינם נסחרים או מוחזקים בה | B44: ='קרן ט'!B44+'קרן י'!B44+'הכשרה כללי'!B44+'הכשרה אגח ממשלות'!B44+'הכשרה מניות'!B44+'כספי שקלי'!B44+'הכשרה לבני 50 ומטה'!B44+'הכשרה לבני 50-60'!B44+'הכשרה לבני 60 ומעלה'!B44+'הכשרה מקבלי קצבה'!B44+'הכשרה אשראי ואג"ח'!B44+'הכשרה אשראי ואג"ח עד 25%'!B44+'הכשרה עוקב מדדים גמיש'!B44+'הכשרה משולב סחיר'!B44+'אלשטולר כללי'!B44+'אלשטושלר מניות'!B44+'אלטשולר אג"ח'!B44+'ילין כללי'!B44+'ילין מניות'!B44+'ילין אג"ח'!B44+'מיטב כללי'!B44+'מיטב מניות'!B44+'מיטב אג"ח'!B44+'הכשרה עוקב מדד SP500'!B44+'מור כללי'!B44+'מור מניות'!B44+'מור אג"ח'!B44+'אנליסט כללי'!B44+'אנליסט מניות'!B44+'אנליסט אג"ח'!B44 -> 277.21208
A45: ח. סך תשלומים בגין השקעה בקרנות נאמנות זרות כאשר 75 אחוזים לפחות מנכסי הקרן מושקעים בנכסים שלא הונפקו במדינת ישראל ואינם נסחרים או מוחזקים בה | B45: ='קרן ט'!B45+'קרן י'!B45+'הכשרה כללי'!B45+'הכשרה אגח ממשלות'!B45+'הכשרה מניות'!B45+'כספי שקלי'!B45+'הכשרה לבני 50 ומטה'!B45+'הכשרה לבני 50-60'!B45+'הכשרה לבני 60 ומעלה'!B45+'הכשרה מקבלי קצבה'!B45+'הכשרה אשראי ואג"ח'!B45+'הכשרה אשראי ואג"ח עד 25%'!B45+'הכשרה עוקב מדדים גמיש'!B45+'הכשרה משולב סחיר'!B45+'אלשטולר כללי'!B45+'אלשטושלר מניות'!B45+'אלטשולר אג"ח'!B45+'ילין כללי'!B45+'ילין מניות'!B45+'ילין אג"ח'!B45+'מיטב כללי'!B45+'מיטב מניות'!B45+'מיטב אג"ח'!B45+'הכשרה עוקב מדד SP500'!B45+'מור כללי'!B45+'מור מניות'!B45+'מור אג"ח'!B45+'אנליסט כללי'!B45+'אנליסט מניות'!B45+'אנליסט אג"ח'!B45 -> 2582.5724
A46: ט. סך תשלומים בגין השקעה בקרן טכנולוגיה עילית | B46: ='קרן ט'!B46+'קרן י'!B46+'הכשרה כללי'!B46+'הכשרה אגח ממשלות'!B46+'הכשרה מניות'!B46+'כספי שקלי'!B46+'הכשרה לבני 50 ומטה'!B46+'הכשרה לבני 50-60'!B46+'הכשרה לבני 60 ומעלה'!B46+'הכשרה מקבלי קצבה'!B46+'הכשרה אשראי ואג"ח'!B46+'הכשרה אשראי ואג"ח עד 25%'!B46+'הכשרה עוקב מדדים גמיש'!B46+'הכשרה משולב סחיר'!B46+'אלשטולר כללי'!B46+'אלשטושלר מניות'!B46+'אלטשולר אג"ח'!B46+'ילין כללי'!B46+'ילין מניות'!B46+'ילין אג"ח'!B46+'מיטב כללי'!B46+'מיטב מניות'!B46+'מיטב אג"ח'!B46+'הכשרה עוקב מדד SP500'!B46+'מור כללי'!B46+'מור מניות'!B46+'מור אג"ח'!B46+'אנליסט כללי'!B46+'אנליסט מניות'!B46+'אנליסט אג"ח'!B46 -> 11.026271
A48: 12. שיעור עמלת ניהול חיצוני בפועל לפני החזר, ככל שבוצע (חלוקה של סעיף 11 בסעיף 8.ב) | B48: =B37/B30 -> 0.00097731106
A50: 13. שיעור מגבלת עמלת ניהול חיצוני שהמשקיע המוסדי הצהיר עליה עבור שנת הכספים שהסתיימה
A52: 14. ההפרש בין שיעור מגבלת עמלת ניהול חיצוני מוצהרת לבין שיעור עמלת ניהול חיצוני בפועל (סעיף 13 פחות סעיף 12)
A54: 15.א סכום שהוחזר לחוסכים (אם הוחזר) | B54: ='קרן ט'!B54+'קרן י'!B54+'הכשרה כללי'!B54+'הכשרה אגח ממשלות'!B54+'הכשרה מניות'!B54+'כספי שקלי'!B54+'הכשרה לבני 50 ומטה'!B54+'הכשרה לבני 50-60'!B54+'הכשרה לבני 60 ומעלה'!B54+'הכשרה מקבלי קצבה'!B54+'הכשרה אשראי ואג"ח'!B54+'הכשרה עוקב מדדים גמיש'!B54+'הכשרה משולב סחיר'!B54+'אלשטולר כללי'!B54+'אלשטושלר מניות'!B54+'אלטשולר אג"ח'!B54+'ילין כללי'!B54+'ילין מניות'!B54+'ילין אג"ח'!B54+'מיטב כללי'!B54+'מיטב מניות'!B54+'מיטב אג"ח'!B54+'הכשרה עוקב מדד SP500'!B54+'מור כללי'!B54+'מור מניות'!B54+'מור אג"ח'!B54+'אנליסט כללי'!B54+'אנליסט מניות'!B54+'אנליסט אג"ח'!B54 -> 0
A55: 15.ב שיעור עמלת ניהול חיצוני בפועל לאחר החזר, (חלוקה של התוצאה של סעיף 11 בניכוי סעיף 15א, בסעיף 8.ב)
A57: סך הכל הוצאות ישירות בפועל (למעט דמי ניהול משתנים כאמור בסעיף 10)
A59: 16. סך כל הוצאות ישירות (סכום של סעיף 7 וסעיף 1 1בניכוי סעיף 15א) | B59: =B26+B37-B54 -> 44256.093
...

Sheet קרן ט
A1: נספח 1- סך ההוצאות הישירות ששולמו בעד כל סוג של הוצאה ישירה לתקופה המסתיימת ביום 31.12.2024
A3: שם חברת הביטוח: הכשרה חברה לביטוח - קרן ט | B3: אלפי ₪
A5: 31.12.2024 נספח 1- סך ההוצאות הישירות ששולמו בעד כל סוג של הוצאה ישירה לתקופה המסתיימת ביום
A7: הוצאות ישירות שאינן מסוג עמלת ניהול חיצוני
A8: 1. סך הכל עמלות קנייה ומכירה של ניירות ערך סחירים | B8: 18.392749
A9: א. סך עמלות קנייה ומכירה של ניירות ערך סחירים לצדדים קשורים
A10: ב. סך עמלות קנייה ומכירה של ניירות ערך סחירים לצדדים שאינם קשורים | B10: 18.392749
A12: 2. סך הכל דמי שמירה בשל ניירות ערך סחירים וכל עמלה שגובה מי שמבצע את משמרות ניירות הערך עמלות (קסטודיאן) | B12: 1.726741
A13: א. סך עמלות קסטודיאן לצדדים קשורים
A14: ב. סך עמלות קסטודיאן לצדדים שאינם קשורים | B14: 1.726741
A16: 3. סך הכל הוצאות הנובעות מהשקעות לא סחירות | B16: 3.9601488
A17: א. הוצאה הנובעת מהשקעה בניירות ערך לא סחירים או ממתן הלוואה למי שאינו עמית או מבוטח | B17: 3.9601488
A18: ב. הוצאה הנובעת מהשקעה בזכויות במקרקעין
A20: 4. מסים החלים על משקיע מוסדי, על נכסיו, על הכנסותיו ועל עסקאות שנעשו בנכסיו | B20: 30.31854
A22: 5. סך הוצאות בעד ניהול תביעות | B22: 0
A24: 6. סך הוצאות בעד מתן משכנתאות | B24: 0
A26: 7. סך הכל הוצאות ישירות שאינן מסוג עמלת ניהול חיצוני (סכום סעיפים 1 עד 6) | B26: 54.398178
A28: 8. שווי ממוצע של נכסי הקופה או המסלול (ממוצע פשוט של סעיפים8א ו- 8ב) | B28: 71737.03
A29: א. השווי המשוערך של נכסי הקופה או המסלול נכון ליום 31 בדצמבר של שנת הכספים שהסתיימה 2024 | B29: 76138.7
A30: ב. השווי המשוערך של נכסי הקופה או המסלול נכון ליום 31 בדצמבר של שנת הכספים שהסתיימה לפני 2023 או לתקופה אחרת לפי העניין | B30: 67335.36
A32: 9. שיעור שנתי של הוצאות ישירות שאינן מסוג עמלת ניהול חיצוני (חלוקה של סעיף 7 בסעיף 8) | B32: 0.00075829984
A34: הוצאות ישירות מסוג עמלת ניהול חיצוני
A35: 10 . סך דמי ניהול משתנים – החלק מתשלום עמלת ניהול חיצוני שנגזר מתשואת הנכסים | B35: 86.173822
A37: 11. סה"כ הוצאות ישירות מסוג "עמלת ניהול חיצוני" (סכום סעיפים 11.א עד11.ט) | B37: 96.838979
A38: א. סך תשלומים הנובעים מהשקעה בקרנות השקעה בישראל | B38: 54.670883
A39: ב. סך תשלומים הנובעים מהשקעה בקרנות השקעה בחו"ל | B39: 14.738862
A40: ג. סך תשלומים למנהלי תיקים ישראלים בגין השקעה בחו"ל | B40: 0
A41: ד. סך תשלומים למנהלי תיקים זרים | B41: 0
A42: ה. סך תשלומים בגין השקעה בקרנות סל כאשר 75 אחוזים לפחות מנכסי הקרן הם נכסים שהונפקו במדינת ישראל לפי מדדים שעליהם הורה הממונה ובתנאים שהורה | B42: 0.067618897
A43: ו. סך תשלומים בגין השקעה בקרנות סל כאשר 75 אחוזים לפחות מנכסי הקרן הם נכסים שלא הונפקו במדינת ישראל ואינם נסחרים או מוחזקים בה | B43: 17.363403
A44: ז. סך תשלומים בגין השקעה בקרנות נאמנות ישראליות כאשר 75 אחוזים לפחות מנכסי הקרן מושקעים בנכסים שלא הונפקו במדינת ישראל ואינם נסחרים או מוחזקים בה | B44: 1.219821
A45: ח. סך תשלומים בגין השקעה בקרנות נאמנות זרות כאשר 75 אחוזים לפחות מנכסי הקרן מושקעים בנכסים שלא הונפקו במדינת ישראל ואינם נסחרים או מוחזקים בה | B45: 8.5928725
A46: ט. סך תשלומים בגין השקעה בקרן טכנולוגיה עילית | B46: 0.18551928
A48: 12. שיעור עמלת ניהול חיצוני בפועל לפני החזר, ככל שבוצע (חלוקה של סעיף 11 בסעיף 8.ב) | B48: 0.0014381594
... A55: 15.ב שיעור עמלת ניהול חיצוני בפועל לאחר החזר, (חלוקה של התוצאה של סעיף 11 בניכוי סעיף 15א, בסעיף 8.ב) | B55: 0.0014381594
A57: סך הכל הוצאות ישירות בפועל (למעט דמי ניהול משתנים כאמור בסעיף 10)
A59: 16. סך כל הוצאות ישירות (סכום של סעיף 7 וסעיף 11 בניכוי סעיף 15א) | B59: 151.23716
A61: 17. שיעור סך ההוצאות הישירות מתוך יתרת נכסים ממוצעת (חלוקה של סעיף 16 בסעיף 8) | B61: 0.002108216
A63: סך הכל הוצאות ישירות (לצורך חישוב שיעור עלות שנתית צפויה)
A64: 18. שיעור מגבלת עמלת ניהול חיצוני שהמשקיע המוסדי הצהיר עליה בהתאם לתקנה 2א לתקנות הוצאות ישירות עבור שנת הכספים הבאה | B64: 0.0025
...

Sheet קרן י
A1: נספח 1- סך ההוצאות הישירות ששולמו בעד כל סוג של הוצאה ישירה לתקופה המסתיימת ביום 31.12.2024
A3: שם חברת הביטוח: הכשרה חברה לביטוח - קרן י | B3: אלפי ₪
A5: 31.12.2024 נספח 1- סך ההוצאות הישירות ששולמו בעד כל סוג של הוצאה ישירה לתקופה המסתיימת ביום
A7: הוצאות ישירות שאינן מסוג עמלת ניהול חיצוני
A8: 1. סך הכל עמלות קנייה ומכירה של ניירות ערך סחירים | B8: 471.23027
A9: א. סך עמלות קנייה ומכירה של ניירות ערך סחירים לצדדים קשורים
A10: ב. סך עמלות קנייה ומכירה של ניירות ערך סחירים לצדדים שאינם קשורים | B10: 471.23027
A12: 2. סך הכל דמי שמירה בשל ניירות ערך סחירים וכל עמלה שגובה מי שמבצע את משמרות ניירות הערך עמלות (קסטודיאן) | B12: 5.0956263
A13: א. סך עמלות קסטודיאן לצדדים קשורים
A14: ב. סך עמלות קסטודיאן לצדדים שאינם קשורים | B14: 5.0956263
A16: 3. סך הכל הוצאות הנובעות מהשקעות לא סחירות | B16: 98.448794
A17: א. הוצאה הנובעת מהשקעה בניירות ערך לא סחירים או ממתן הלוואה למי שאינו עמית או מבוטח | B17: 98.448794
A18: ב. הוצאה הנובעת מהשקעה בזכויות במקרקעין | B18: 0
A20: 4. מסים החלים על משקיע מוסדי, על נכסיו, על הכנסותיו ועל עסקאות שנעשו בנכסיו | B20: 573.94359
A22: 5. סך הוצאות בעד ניהול תביעות | B22: 0
A24: 6. סך הוצאות בעד מתן משכנתאות | B24: 0
A26: 7. סך הכל הוצאות ישירות שאינן מסוג עמלת ניהול חיצוני (סכום סעיפים 1 עד 6) | B26: 1148.7183
A28: 8. שווי ממוצע של נכסי הקופה או המסלול (ממוצע פשוט של סעיפים8א ו- 8ב) | B28: 1872315.6
A29: א. השווי המשוערך של נכסי הקופה או המסלול נכון ליום 31 בדצמבר של שנת הכספים שהסתיימה 2024 | B29: 1898178.5
A30: ב. השווי המשוערך של נכסי הקופה או המסלול נכון ליום 31 בדצמבר של שנת הכספים שהסתיימה לפני 2023 או לתקופה אחרת לפי העניין | B30: 1846452.8
A32: 9. שיעור שנתי של הוצאות ישירות שאינן מסוג עמלת ניהול חיצוני (חלוקה של סעיף 7 בסעיף 8) | B32: 0.00061352811
A34: הוצאות ישירות מסוג עמלת ניהול חיצוני
A35: 10 . סך דמי ניהול משתנים – החלק מתשלום עמלת ניהול חיצוני שנגזר מתשואת הנכסים | B35: 3339.864
A37: 11. סה"כ הוצאות ישירות מסוג "עמלת ניהול חיצוני" (סכום סעיפים 11.א עד11.ט) | B37: 4960.5972
A38: א. סך תשלומים הנובעים מהשקעה בקרנות השקעה בישראל | B38: 3134.6181
A39: ב. סך תשלומים הנובעים מהשקעה בקרנות השקעה בחו"ל | B39: 1206.9476
A40: ג. סך תשלומים למנהלי תיקים ישראלים בגין השקעה בחו"ל | B40: 0
A41: ד. סך תשלומים למנהלי תיקים זרים | B41: 0
A42: ה. סך תשלומים בגין השקעה בקרנות סל כאשר 75 אחוזים לפחות מנכסי הקרן הם נכסים שהונפקו במדינת ישראל לפי מדדים שעליהם הורה הממונה ובתנאים שהורה | B42: 1.5018606
A43: ו. סך תשלומים בגין השקעה בקרנות סל כאשר 75 אחוזים לפחות מנכסי הקרן הם נכסים שלא הונפקו במדינת ישראל ואינם נסחרים או מוחזקים בה | B43: 298.89798
A44: ז. סך תשלומים בגין השקעה בקרנות נאמנות ישראליות כאשר 75 אחוזים לפחות מנכסי הקרן מושקעים בנכסים שלא הונפקו במדינת ישראל ואינם נסחרים או מוחזקים בה | B44: 31.546485
A45: ח. סך תשלומים בגין השקעה בקרנות נאמנות זרות כאשר 75 אחוזים לפחות מנכסי הקרן מושקעים בנכסים שלא הונפקו במדינת ישראל ואינם נסחרים או מוחזקים בה | B45: 282.6735
A46: ט. סך תשלומים בגין השקעה בקרן טכנולוגיה עילית | B46: 4.4116814
A48: 12. שיעור עמלת ניהול חיצוני בפועל לפני החזר, ככל שבוצע (חלוקה של סעיף 11 בסעיף 8.ב) | B48: 0.0026865551
... A55: 15.ב שיעור עמלת ניהול חיצוני בפועל לאחר החזר, (חלוקה של התוצאה של סעיף 11 בניכוי סעיף 15א, בסעיף 8.ב) | B55: 0.0026865551
A57: סך הכל הוצאות ישירות בפועל (למעט דמי ניהול משתנים כאמור בסעיף 10)
A59: 16. סך כל הוצאות ישירות (סכום של סעיף 7 וסעיף 11 בניכוי סעיף 15א) | B59: 6109.3155
A61: 17. שיעור סך ההוצאות הישירות מתוך יתרת נכסים ממוצעת (חלוקה של סעיף 16 בסעיף 8) | B61: 0.003262973
A63: סך הכל הוצאות ישירות (לצורך חישוב שיעור עלות שנתית צפויה)
A64: 18. שיעור מגבלת עמלת ניהול חיצוני שהמשקיע המוסדי הצהיר עליה בהתאם לתקנה 2א לתקנות הוצאות ישירות עבור שנת הכספים הבאה | B64: 0.0035
...

Sheet הכשרה כללי
A1: נספח 1- סך ההוצאות הישירות ששולמו בעד כל סוג של הוצאה ישירה לתקופה המסתיימת ביום 31.12.2024
A3: שם חברת הביטוח: הכשרה חברה לביטוח - מסלולית כללית | B3: אלפי ₪
A5: 31.12.2024 נספח 1- סך ההוצאות הישירות ששולמו בעד כל סוג של הוצאה ישירה לתקופה המסתיימת ביום
A7: הוצאות ישירות שאינן מסוג עמלת ניהול חיצוני
A8: 1. סך הכל עמלות קנייה ומכירה של ניירות ערך סחירים | B8: 1285.978
A9: א. סך עמלות קנייה ומכירה של ניירות ערך סחירים לצדדים קשורים
A10: ב. סך עמלות קנייה ומכירה של ניירות ערך סחירים לצדדים שאינם קשורים | B10: 1285.978
A12: 2. סך הכל דמי שמירה בשל ניירות ערך סחירים וכל עמלה שגובה מי שמבצע את משמרות ניירות הערך עמלות (קסטודיאן) | B12: 5.6393451
A13: א. סך עמלות קסטודיאן לצדדים קשורים
A14: ב. סך עמלות קסטודיאן לצדדים שאינם קשורים | B14: 5.6393451
A16: 3. סך הכל הוצאות הנובעות מהשקעות לא סחירות | B16: 127.90305
A17: א. הוצאה הנובעת מהשקעה בניירות ערך לא סחירים או ממתן הלוואה למי שאינו עמית או מבוטח | B17: 127.90305
A18: ב. הוצאה הנובעת מהשקעה בזכויות במקרקעין
A20: 4. מסים החלים על משקיע מוסדי, על נכסיו, על הכנסותיו ועל עסקאות שנעשו בנכסיו | B20: 1447.6994
A22: 5. סך הוצאות בעד ניהול תביעות | B22: 0
A24: 6. סך הוצאות בעד מתן משכנתאות | B24: 0
A26: 7. סך הכל הוצאות ישירות שאינן מסוג עמלת ניהול חיצוני (סכום סעיפים 1 עד 6) | B26: 2867.2198
A28: 8. שווי ממוצע של נכסי הקופה או המסלול (ממוצע פשוט של סעיפים8א ו- 8ב) | B28: 4743508.2
A29: א. השווי המשוערך של נכסי הקופה או המסלול נכון ליום 31 בדצמבר של שנת הכספים שהסתיימה 2024 | B29: 4906460.3
A30: ב. השווי המשוערך של נכסי הקופה או המסלול נכון ליום 31 בדצמבר של שנת הכספים שהסתיימה לפני 2023 או לתקופה אחרת לפי העניין | B30: 4580556.2
A32: 9. שיעור שנתי של הוצאות ישירות שאינן מסוג עמלת ניהול חיצוני (חלוקה של סעיף 7 בסעיף 8) | B32: 0.00060445132
A34: הוצאות ישירות מסוג עמלת ניהול חיצוני
A35: 10 . סך דמי ניהול משתנים – החלק מתשלום עמלת ניהול חיצוני שנגזר מתשואת הנכסים | B35: 5023.1801
A37: 11. סה"כ הוצאות ישירות מסוג "עמלת ניהול חיצוני" (סכום סעיפים 11.א עד11.ט) | B37: 10343.129
A38: א. סך תשלומים הנובעים מהשקעה בקרנות השקעה בישראל | B38: 5895.7281
A39: ב. סך תשלומים הנובעים מהשקעה בקרנות השקעה בחו"ל | B39: 2804.0364
A40: ג. סך תשלומים למנהלי תיקים ישראלים בגין השקעה בחו"ל | B40: 0
A41: ד. סך תשלומים למנהלי תיקים זרים | B41: 0
A42: ה. סך תשלומים בגין השקעה בקרנות סל כאשר 75 אחוזים לפחות מנכסי הקרן הם נכסים שהונפקו במדינת ישראל לפי מדדים שעליהם הורה הממונה ובתנאים שהורה | B42: 50.747327
A43: ו. סך תשלומים בגין השקעה בקרנות סל כאשר 75 אחוזים לפחות מנכסי הקרן הם נכסים שלא הונפקו במדינת ישראל ואינם נסחרים או מוחזקים בה | B43: 870.62024
A44: ז. סך תשלומים בגין השקעה בקרנות נאמנות ישראליות כאשר 75 אחוזים לפחות מנכסי הקרן מושקעים בנכסים שלא הונפקו במדינת ישראל ואינם נסחרים או מוחזקים בה | B44: 77.5107
A45: ח. סך תשלומים בגין השקעה בקרנות נאמנות זרות כאשר 75 אחוזים לפחות מנכסי הקרן מושקעים בנכסים שלא הונפקו במדינת ישראל ואינם נסחרים או מוחזקים בה | B45: 639.42928
A46: ט. סך תשלומים בגין השקעה בקרן טכנולוגיה עילית | B46: 5.056667
A48: 12. שיעור עמלת ניהול חיצוני בפועל לפני החזר, ככל שבוצע (חלוקה של סעיף 11 בסעיף 8.ב) | B48: 0.0022580509
... A52: 14. ההפרש בין שיעור מגבלת עמלת ניהול חיצוני מוצהרת לבין שיעור עמלת ניהול חיצוני בפועל (סעיף 13 פחות סעיף 12) | B52: 0.00024194914
A54: 15.א סכום שהוחזר לחוסכים (אם הוחזר)
A55: 15.ב שיעור עמלת ניהול חיצוני בפועל לאחר החזר, (חלוקה של התוצאה של סעיף 11 בניכוי סעיף 15א, בסעיף 8.ב) | B55: 0.0022580509
A57: סך הכל הוצאות ישירות בפועל (למעט דמי ניהול משתנים כאמור בסעיף 10)
A59: 16. סך כל הוצאות ישירות (סכום של סעיף 7 וסעיף 11 בניכוי סעיף 15א) | B59: 13210.349
A61: 17. שיעור סך ההוצאות הישירות מתוך יתרת נכסים ממוצעת (חלוקה של סעיף 16 בסעיף 8) | B61: 0.0027849322
...

Sheet הכשרה אגח ממשלות
A1: נספח 1- סך ההוצאות הישירות ששולמו בעד כל סוג של הוצאה ישירה לתקופה המסתיימת ביום 31.12.2024
A3: שם חברת הביטוח: הכשרה חברה לביטוח - מסלולית אג"ח ממשלות | B3: אלפי ₪
A5: 31.12.2024 נספח 1- סך ההוצאות הישירות ששולמו בעד כל סוג של הוצאה ישירה לתקופה המסתיימת ביום
A7: הוצאות ישירות שאינן מסוג עמלת ניהול חיצוני
A8: 1. סך הכל עמלות קנייה ומכירה של ניירות ערך סחירים | B8: 83.235652
A9: א. סך עמלות קנייה ומכירה של ניירות ערך סחירים לצדדים קשורים
A10: ב. סך עמלות קנייה ומכירה של ניירות ערך סחירים לצדדים שאינם קשורים | B10: 83.235652
A12: 2. סך הכל דמי שמירה בשל ניירות ערך סחירים וכל עמלה שגובה מי שמבצע את משמרות ניירות הערך עמלות (קסטודיאן) | B12: 1.6649945
A13: א. סך עמלות קסטודיאן לצדדים קשורים
A14: ב. סך עמלות קסטודיאן לצדדים שאינם קשורים | B14: 1.6649945
A16: 3. סך הכל הוצאות הנובעות מהשקעות לא סחירות | B16: 13.846984
A17: א. הוצאה הנובעת מהשקעה בניירות ערך לא סחירים או ממתן הלוואה למי שאינו עמית או מבוטח | B17: 13.846984
A18: ב. הוצאה הנובעת מהשקעה בזכויות במקרקעין
A20: 4. מסים החלים על משקיע מוסדי, על נכסיו, על הכנסותיו ועל עסקאות שנעשו בנכסיו | B20: 6.6362579
A22: 5. סך הוצאות בעד ניהול תביעות | B22: 0
A24: 6. סך הוצאות בעד מתן משכנתאות | B24: 0
A26: 7. סך הכל הוצאות ישירות שאינן מסוג עמלת ניהול חיצוני (סכום סעיפים 1 עד 6) | B26: 105.38389
A28: 8. שווי ממוצע של נכסי הקופה או המסלול (ממוצע פשוט של סעיפים8א ו- 8ב) | B28: 351191.43
A29: א. השווי המשוערך של נכסי הקופה או המסלול נכון ליום 31 בדצמבר של שנת הכספים שהסתיימה 2024 | B29: 339396.29
A30: ב. השווי המשוערך של נכסי הקופה או המסלול נכון ליום 31 בדצמבר של שנת הכספים שהסתיימה לפני 2023 או לתקופה אחרת לפי העניין | B30: 362986.56
A32: 9. שיעור שנתי של הוצאות ישירות שאינן מסוג עמלת ניהול חיצוני (חלוקה של סעיף 7 בסעיף 8) | B32: 0.00030007534
A34: הוצאות ישירות מסוג עמלת ניהול חיצוני
A35: 10 . סך דמי ניהול משתנים – החלק מתשלום עמלת ניהול חיצוני שנגזר מתשואת הנכסים | B35: 107.71058
A37: 11. סה"כ הוצאות ישירות מסוג "עמלת ניהול חיצוני" (סכום סעיפים 11.א עד11.ט) | B37: 431.01312
A38: א. סך תשלומים הנובעים מהשקעה בקרנות השקעה בישראל | B38: 314.03473
A39: ב. סך תשלומים הנובעים מהשקעה בקרנות השקעה בחו"ל | B39: 76.392918
A40: ג. סך תשלומים למנהלי תיקים ישראלים בגין השקעה בחו"ל | B40: 0
A41: ד. סך תשלומים למנהלי תיקים זרים | B41: 0
A42: ה. סך תשלומים בגין השקעה בקרנות סל כאשר 75 אחוזים לפחות מנכסי הקרן הם נכסים שהונפקו במדינת ישראל לפי מדדים שעליהם הורה הממונה ובתנאים שהורה | B42: 0
A43: ו. סך תשלומים בגין השקעה בקרנות סל כאשר 75 אחוזים לפחות מנכסי הקרן הם נכסים שלא הונפקו במדינת ישראל ואינם נסחרים או מוחזקים בה | B43: 8.5467152
A44: ז. סך תשלומים בגין השקעה בקרנות נאמנות ישראליות כאשר 75 אחוזים לפחות מנכסי הקרן מושקעים בנכסים שלא הונפקו במדינת ישראל ואינם נסחרים או מוחזקים בה | B44: 0
A45: ח. סך תשלומים בגין השקעה בקרנות נאמנות זרות כאשר 75 אחוזים לפחות מנכסי הקרן מושקעים בנכסים שלא הונפקו במדינת ישראל ואינם נסחרים או מוחזקים בה | B45: 31.849859
A46: ט. סך תשלומים בגין השקעה בקרן טכנולוגיה עילית | B46: 0.18889343
A48: 12. שיעור עמלת ניהול חיצוני בפועל לפני החזר, ככל שבוצע (חלוקה של סעיף 11 בסעיף 8.ב) | B48: 0.0011874079
... A55: 15.ב שיעור עמלת ניהול חיצוני בפועל לאחר החזר, (חלוקה של התוצאה של סעיף 11 בניכוי סעיף 15א, בסעיף 8.ב) | B55: 0.0011874079
A57: סך הכל הוצאות ישירות בפועל (למעט דמי ניהול משתנים כאמור בסעיף 10)
A59: 16. סך כל הוצאות ישירות (סכום של סעיף 7 וסעיף 11 בניכוי סעיף 15א) | B59: 536.397
A61: 17. שיעור סך ההוצאות הישירות מתוך יתרת נכסים ממוצעת (חלוקה של סעיף 16 בסעיף 8) | B61: 0.0015273636
A63: סך הכל הוצאות ישירות (לצורך חישוב שיעור עלות שנתית צפויה)
A64: 18. שיעור מגבלת עמלת ניהול חיצוני שהמשקיע המוסדי הצהיר עליה בהתאם לתקנה 2א לתקנות הוצאות ישירות עבור שנת הכספים הבאה | B64: 0.0015
...

Sheet הכשרה מניות
A1: נספח 1- סך ההוצאות הישירות ששולמו בעד כל סוג של הוצאה ישירה לתקופה המסתיימת ביום 31.12.2024
A3: שם חברת הביטוח: הכשרה חברה לביטוח - מסלולית מניות | B3: אלפי ₪
A5: 31.12.2024 נספח 1- סך ההוצאות הישירות ששולמו בעד כל סוג של הוצאה ישירה לתקופה המסתיימת ביום
A7: הוצאות ישירות שאינן מסוג עמלת ניהול חיצוני
A8: 1. סך הכל עמלות קנייה ומכירה של ניירות ערך סחירים | B8: 230.149
A9: א. סך עמלות קנייה ומכירה של ניירות ערך סחירים לצדדים קשורים
A10: ב. סך עמלות קנייה ומכירה של ניירות ערך סחירים לצדדים שאינם קשורים | B10: 230.149
A12: 2. סך הכל דמי שמירה בשל ניירות ערך סחירים וכל עמלה שגובה מי שמבצע את משמרות ניירות הערך עמלות (קסטודיאן) | B12: 3.402676
A13: א. סך עמלות קסטודיאן לצדדים קשורים
A14: ב. סך עמלות קסטודיאן לצדדים שאינם קשורים | B14: 3.402676
A16: 3. סך הכל הוצאות הנובעות מהשקעות לא סחירות | B16: 4.7030668
A17: א. הוצאה הנובעת מהשקעה בניירות ערך לא סחירים או ממתן הלוואה למי שאינו עמית או מבוטח | B17: 4.7030668
A18: ב. הוצאה הנובעת מהשקעה בזכויות במקרקעין
A20: 4. מסים החלים על משקיע מוסדי, על נכסיו, על הכנסותיו ועל עסקאות שנעשו בנכסיו | B20: 374.88327
A22: 5. סך הוצאות בעד ניהול תביעות | B22: 0
A24: 6. סך הוצאות בעד מתן משכנתאות | B24: 0
A26: 7. סך הכל הוצאות ישירות שאינן מסוג עמלת ניהול חיצוני (סכום סעיפים 1 עד 6) | B26: 613.13802
A28: 8. שווי ממוצע של נכסי הקופה או המסלול (ממוצע פשוט של סעיפים8א ו- 8ב) | B28: 592589.92
A29: א. השווי המשוערך של נכסי הקופה או המסלול נכון ליום 31 בדצמבר של שנת הכספים שהסתיימה 2024 | B29: 768480.31
A30: ב. השווי המשוערך של נכסי הקופה או המסלול נכון ליום 31 בדצמבר של שנת הכספים שהסתיימה לפני 2023 או לתקופה אחרת לפי העניין | B30: 416699.53
A32: 9. שיעור שנתי של הוצאות ישירות שאינן מסוג עמלת ניהול חיצוני (חלוקה של סעיף 7 בסעיף 8) | B32: 0.0010346751
A34: הוצאות ישירות מסוג עמלת ניהול חיצוני
A35: 10 . סך דמי ניהול משתנים – החלק מתשלום עמלת ניהול חיצוני שנגזר מתשואת הנכסים | B35: 180.6048
A37: 11. סה"כ הוצאות ישירות מסוג "עמלת ניהול חיצוני" (סכום סעיפים 11.א עד11.ט) | B37: 715.71367
A38: א. סך תשלומים הנובעים מהשקעה בקרנות השקעה בישראל | B38: 289.79102
A39: ב. סך תשלומים הנובעים מהשקעה בקרנות השקעה בחו"ל | B39: 120.78728
A40: ג. סך תשלומים למנהלי תיקים ישראלים בגין השקעה בחו"ל | B40: 0
A41: ד. סך תשלומים למנהלי תיקים זרים | B41: 0
A42: ה. סך תשלומים בגין השקעה בקרנות סל כאשר 75 אחוזים לפחות מנכסי הקרן הם נכסים שהונפקו במדינת ישראל לפי מדדים שעליהם הורה הממונה ובתנאים שהורה | B42: 7.0601717
A43: ו. סך תשלומים בגין השקעה בקרנות סל כאשר 75 אחוזים לפחות מנכסי הקרן הם נכסים שלא הונפקו במדינת ישראל ואינם נסחרים או מוחזקים בה | B43: 222.63236
A44: ז. סך תשלומים בגין השקעה בקרנות נאמנות ישראליות כאשר 75 אחוזים לפחות מנכסי הקרן מושקעים בנכסים שלא הונפקו במדינת ישראל ואינם נסחרים או מוחזקים בה | B44: 8.8518323
A45: ח. סך תשלומים בגין השקעה בקרנות נאמנות זרות כאשר 75 אחוזים לפחות מנכסי הקרן מושקעים בנכסים שלא הונפקו במדינת ישראל ואינם נסחרים או מוחזקים בה | B45: 66.334068
A46: ט. סך תשלומים בגין השקעה בקרן טכנולוגיה עילית | B46: 0.25693562
A48: 12. שיעור עמלת ניהול חיצוני בפועל לפני החזר, ככל שבוצע (חלוקה של סעיף 11 בסעיף 8.ב) | B48: 0.0017175773
... A55: 15.ב שיעור עמלת ניהול חיצוני בפועל לאחר החזר, (חלוקה של התוצאה של סעיף 11 בניכוי סעיף 15א, בסעיף 8.ב) | B55: 0.0017175773
A57: סך הכל הוצאות ישירות בפועל (למעט דמי ניהול משתנים כאמור בסעיף 10)
A59: 16. סך כל הוצאות ישירות (סכום של סעיף 7 וסעיף 11 בניכוי סעיף 15א) | B59: 1328.8517
A61: 17. שיעור סך ההוצאות הישירות מתוך יתרת נכסים ממוצעת (חלוקה של סעיף 16 בסעיף 8) | B61: 0.0022424473
A63: סך הכל הוצאות ישירות (לצורך חישוב שיעור עלות שנתית צפויה)
A64: 18. שיעור מגבלת עמלת ניהול חיצוני שהמשקיע המוסדי הצהיר עליה בהתאם לתקנה 2א לתקנות הוצאות ישירות עבור שנת הכספים הבאה | B64: 0.0025
...

Sheet כספי שקלי
A1: נספח 1- סך ההוצאות הישירות ששולמו בעד כל סוג של הוצאה ישירה לתקופה המסתיימת ביום 31.12.2024
A3: שם חברת הביטוח: הכשרה חברה לביטוח - הכשרה כספי שקלי | B3: אלפי ₪
A5: 31.12.2024 נספח 1- סך ההוצאות הישירות ששולמו בעד כל סוג של הוצאה ישירה לתקופה המסתיימת ביום
A7: הוצאות ישירות שאינן מסוג עמלת ניהול חיצוני
A8: 1. סך הכל עמלות קנייה ומכירה של ניירות ערך סחירים | B8: 35.640959
A9: א. סך עמלות קנייה ומכירה של ניירות ערך סחירים לצדדים קשורים
A10: ב. סך עמלות קנייה ומכירה של ניירות ערך סחירים לצדדים שאינם קשורים | B10: 35.640959
A12: 2. סך הכל דמי שמירה בשל ניירות ערך סחירים וכל עמלה שגובה מי שמבצע את משמרות ניירות הערך עמלות (קסטודיאן) | B12: 0.1915
A13: א. סך עמלות קסטודיאן לצדדים קשורים
A14: ב. סך עמלות קסטודיאן לצדדים שאינם קשורים | B14: 0.1915
A16: 3. סך הכל הוצאות הנובעות מהשקעות לא סחירות | B16: 0
A17: א. הוצאה הנובעת מהשקעה בניירות ערך לא סחירים או ממתן הלוואה למי שאינו עמית או מבוטח | B17: 0
A18: ב. הוצאה הנובעת מהשקעה בזכויות במקרקעין
A20: 4. מסים החלים על משקיע מוסדי, על נכסיו, על הכנסותיו ועל עסקאות שנעשו בנכסיו | B20: 0
A22: 5. סך הוצאות בעד ניהול תביעות | B22: 0
A24: 6. סך הוצאות בעד מתן משכנתאות | B24: 0
A26: 7. סך הכל הוצאות ישירות שאינן מסוג עמלת ניהול חיצוני (סכום סעיפים 1 עד 6) | B26: 35.832459
A28: 8. שווי ממוצע של נכסי הקופה או המסלול (ממוצע פשוט של סעיפים8א ו- 8ב) | B28: 252739.49
A29: א. השווי המשוערך של נכסי הקופה או המסלול נכון ליום 31 בדצמבר של שנת הכספים שהסתיימה 2024 | B29: 239870.16
A30: ב. השווי המשוערך של נכסי הקופה או המסלול נכון ליום 31 בדצמבר של שנת הכספים שהסתיימה לפני 2023 או לתקופה אחרת לפי העניין | B30: 265608.82
A32: 9. שיעור שנתי של הוצאות ישירות שאינן מסוג עמלת ניהול חיצוני (חלוקה של סעיף 7 בסעיף 8) | B32: 0.00014177626
A34: הוצאות ישירות מסוג עמלת ניהול חיצוני
A35: 10 . סך דמי ניהול משתנים – החלק מתשלום עמלת ניהול חיצוני שנגזר מתשואת הנכסים | B35: 0
A37: 11. סה"כ הוצאות ישירות מסוג "עמלת ניהול חיצוני" (סכום סעיפים 11.א עד11.ט) | B37: 0
A38: א. סך תשלומים הנובעים מהשקעה בקרנות השקעה בישראל | B38: 0
A39: ב. סך תשלומים הנובעים מהשקעה בקרנות השקעה בחו"ל | B39: 0
A40: ג. סך תשלומים למנהלי תיקים ישראלים בגין השקעה בחו"ל | B40: 0
A41: ד. סך תשלומים למנהלי תיקים זרים | B41: 0
A42: ה. סך תשלומים בגין השקעה בקרנות סל כאשר 75 אחוזים לפחות מנכסי הקרן הם נכסים שהונפקו במדינת ישראל לפי מדדים שעליהם הורה הממונה ובתנאים שהורה | B42: 0
A43: ו. סך תשלומים בגין השקעה בקרנות סל כאשר 75 אחוזים לפחות מנכסי הקרן הם נכסים שלא הונפקו במדינת ישראל ואינם נסחרים או מוחזקים בה | B43: 0
A44: ז. סך תשלומים בגין השקעה בקרנות נאמנות ישראליות כאשר 75 אחוזים לפחות מנכסי הקרן מושקעים בנכסים שלא הונפקו במדינת ישראל ואינם נסחרים או מוחזקים בה | B44: 0
A45: ח. סך תשלומים בגין השקעה בקרנות נאמנות זרות כאשר 75 אחוזים לפחות מנכסי הקרן מושקעים בנכסים שלא הונפקו במדינת ישראל ואינם נסחרים או מוחזקים בה | B45: 0
A46: ט. סך תשלומים בגין השקעה בקרן טכנולוגיה עילית | B46: 0
A48: 12. שיעור עמלת ניהול חיצוני בפועל לפני החזר, ככל שבוצע (חלוקה של סעיף 11 בסעיף 8.ב) | B48: 0
... A55: 15.ב שיעור עמלת ניהול חיצוני בפועל לאחר החזר, (חלוקה של התוצאה של סעיף 11 בניכוי סעיף 15א, בסעיף 8.ב) | B55: 0
A57: סך הכל הוצאות ישירות בפועל (למעט דמי ניהול משתנים כאמור בסעיף 10)
A59: 16. סך כל הוצאות ישירות (סכום של סעיף 7 וסעיף 11 בניכוי סעיף 15א) | B59: 35.832459
A61: 17. שיעור סך ההוצאות הישירות מתוך יתרת נכסים ממוצעת (חלוקה של סעיף 16 בסעיף 8) | B61: 0.00014177626
A63: סך הכל הוצאות ישירות (לצורך חישוב שיעור עלות שנתית צפויה)
A64: 18. שיעור מגבלת עמלת ניהול חיצוני שהמשקיע המוסדי הצהיר עליה בהתאם לתקנה 2א לתקנות הוצאות ישירות עבור שנת הכספים הבאה | B64: 0.0005
...

Sheet הכשרה לבני 50 ומטה
A1: נספח 1- סך ההוצאות הישירות ששולמו בעד כל סוג של הוצאה ישירה לתקופה המסתיימת ביום 31.12.2024
A3: שם חברת הביטוח: הכשרה חברה לביטוח - הכשרה לבני 50 ומטה | B3: אלפי ₪
A5: 31.12.2024 נספח 1- סך ההוצאות הישירות ששולמו בעד כל סוג של הוצאה ישירה לתקופה המסתיימת ביום
A7: הוצאות ישירות שאינן מסוג עמלת ניהול חיצוני
A8: 1. סך הכל עמלות קנייה ומכירה של ניירות ערך סחירים | B8: 95.22894
A9: א. סך עמלות קנייה ומכירה של ניירות ערך סחירים לצדדים קשורים
A10: ב. סך עמלות קנייה ומכירה של ניירות ערך סחירים לצדדים שאינם קשורים | B10: 95.22894
A12: 2. סך הכל דמי שמירה בשל ניירות ערך סחירים וכל עמלה שגובה מי שמבצע את משמרות ניירות הערך עמלות (קסטודיאן) | B12: 4.6355291
A13: א. סך עמלות קסטודיאן לצדדים קשורים
A14: ב. סך עמלות קסטודיאן לצדדים שאינם קשורים | B14: 4.6355291
A16: 3. סך הכל הוצאות הנובעות מהשקעות לא סחירות | B16: 14.445763
A17: א. הוצאה הנובעת מהשקעה בניירות ערך לא סחירים או ממתן הלוואה למי שאינו עמית או מבוטח | B17: 14.445763
A18: ב. הוצאה הנובעת מהשקעה בזכויות במקרקעין
A20: 4. מסים החלים על משקיע מוסדי, על נכסיו, על הכנסותיו ועל עסקאות שנעשו בנכסיו | B20: 121.7022
A22: 5. סך הוצאות בעד ניהול תביעות | B22: 0
A24: 6. סך הוצאות בעד מתן משכנתאות | B24: 0
A26: 7. סך הכל הוצאות ישירות שאינן מסוג עמלת ניהול חיצוני (סכום סעיפים 1 עד 6) | B26: 236.01244
A28: 8. שווי ממוצע של נכסי הקופה או המסלול (ממוצע פשוט של סעיפים8א ו- 8ב) | B28: 280283.73
A29: א. השווי המשוערך של נכסי הקופה או המסלול נכון ליום 31 בדצמבר של שנת הכספים שהסתיימה 2024 | B29: 256525.06
A30: ב. השווי המשוערך של נכסי הקופה או המסלול נכון ליום 31 בדצמבר של שנת הכספים שהסתיימה לפני 2023 או לתקופה אחרת לפי העניין | B30: 304042.4
A32: 9. שיעור שנתי של הוצאות ישירות שאינן מסוג עמלת ניהול חיצוני (חלוקה של סעיף 7 בסעיף 8) | B32: 0.00084204829
A34: הוצאות ישירות מסוג עמלת ניהול חיצוני
A35: 10 . סך דמי ניהול משתנים – החלק מתשלום עמלת ניהול חיצוני שנגזר מתשואת הנכסים | B35: 411.01523
A37: 11. סה"כ הוצאות ישירות מסוג "עמלת ניהול חיצוני" (סכום סעיפים 11.א עד11.ט) | B37: 776.34723
A38: א. סך תשלומים הנובעים מהשקעה בקרנות השקעה בישראל | B38: 450.13433
A39: ב. סך תשלומים הנובעים מהשקעה בקרנות השקעה בחו"ל | B39: 201.91529
A40: ג. סך תשלומים למנהלי תיקים ישראלים בגין השקעה בחו"ל | B40: 0
A41: ד. סך תשלומים למנהלי תיקים זרים | B41: 0
A42: ה. סך תשלומים בגין השקעה בקרנות סל כאשר 75 אחוזים לפחות מנכסי הקרן הם נכסים שהונפקו במדינת ישראל לפי מדדים שעליהם הורה הממונה ובתנאים שהורה | B42: 1.504912
A43: ו. סך תשלומים בגין השקעה בקרנות סל כאשר 75 אחוזים לפחות מנכסי הקרן הם נכסים שלא הונפקו במדינת ישראל ואינם נסחרים או מוחזקים בה | B43: 74.438717
A44: ז. סך תשלומים בגין השקעה בקרנות נאמנות ישראליות כאשר 75 אחוזים לפחות מנכסי הקרן מושקעים בנכסים שלא הונפקו במדינת ישראל ואינם נסחרים או מוחזקים בה | B44: 5.0523689
A45: ח. סך תשלומים בגין השקעה בקרנות נאמנות זרות כאשר 75 אחוזים לפחות מנכסי הקרן מושקעים בנכסים שלא הונפקו במדינת ישראל ואינם נסחרים או מוחזקים בה | B45: 42.650439
A46: ט. סך תשלומים בגין השקעה בקרן טכנולוגיה עילית | B46: 0.65117051
A48: 12. שיעור עמלת ניהול חיצוני בפועל לפני החזר, ככל שבוצע (חלוקה של סעיף 11 בסעיף 8.ב) | B48: 0.0025534176
... A52: 14. ההפרש בין שיעור מגבלת עמלת ניהול חיצוני מוצהרת לבין שיעור עמלת ניהול חיצוני בפועל (סעיף 13 פחות סעיף 12) | B52: 0.00044658239
A54: 15.א סכום שהוחזר לחוסכים (אם הוחזר)
A55: 15.ב שיעור עמלת ניהול חיצוני בפועל לאחר החזר, (חלוקה של התוצאה של סעיף 11 בניכוי סעיף 15א, בסעיף 8.ב) | B55: 0.0025534176
A57: סך הכל הוצאות ישירות בפועל (למעט דמי ניהול משתנים כאמור בסעיף 10)
A59: 16. סך כל הוצאות ישירות (סכום של סעיף 7 וסעיף 11 בניכוי סעיף 15א) | B59: 1012.3597
A61: 17. שיעור סך ההוצאות הישירות מתוך יתרת נכסים ממוצעת (חלוקה של סעיף 16 בסעיף 8) | B61: 0.0036119102
...

Sheet הכשרה לבני 50-60
A1: נספח 1- סך ההוצאות הישירות ששולמו בעד כל סוג של הוצאה ישירה לתקופה המסתיימת ביום 31.12.2024
A3: שם חברת הביטוח: הכשרה חברה לביטוח - הכשרה לבני 50-60 | B3: אלפי ₪
A5: 31.12.2024 נספח 1- סך ההוצאות הישירות ששולמו בעד כל סוג של הוצאה ישירה לתקופה המסתיימת ביום
A7: הוצאות ישירות שאינן מסוג עמלת ניהול חיצוני
A8: 1. סך הכל עמלות קנייה ומכירה של ניירות ערך סחירים | B8: 57.183867
A9: א. סך עמלות קנייה ומכירה של ניירות ערך סחירים לצדדים קשורים
A10: ב. סך עמלות קנייה ומכירה של ניירות ערך סחירים לצדדים שאינם קשורים | B10: 57.183867
A12: 2. סך הכל דמי שמירה בשל ניירות ערך סחירים וכל עמלה שגובה מי שמבצע את משמרות ניירות הערך עמלות (קסטודיאן) | B12: 5.7542437
A13: א. סך עמלות קסטודיאן לצדדים קשורים
A14: ב. סך עמלות קסטודיאן לצדדים שאינם קשורים | B14: 5.7542437
A16: 3. סך הכל הוצאות הנובעות מהשקעות לא סחירות | B16: 4.8959952
A17: א. הוצאה הנובעת מהשקעה בניירות ערך לא סחירים או ממתן הלוואה למי שאינו עמית או מבוטח | B17: 4.8959952
A18: ב. הוצאה הנובעת מהשקעה בזכויות במקרקעין
A20: 4. מסים החלים על משקיע מוסדי, על נכסיו, על הכנסותיו ועל עסקאות שנעשו בנכסיו | B20: 111.42752
A22: 5. סך הוצאות בעד ניהול תביעות | B22: 0
A24: 6. סך הוצאות בעד מתן משכנתאות | B24: 0
A26: 7. סך הכל הוצאות ישירות שאינן מסוג עמלת ניהול חיצוני (סכום סעיפים 1 עד 6) | B26: 179.26163
A28: 8. שווי ממוצע של נכסי הקופה או המסלול (ממוצע פשוט של סעיפים8א ו- 8ב) | B28: 229622.74
A29: א. השווי המשוערך של נכסי הקופה או המסלול נכון ליום 31 בדצמבר של שנת הכספים שהסתיימה 2024 | B29: 226609.11
A30: ב. השווי המשוערך של נכסי הקופה או המסלול נכון ליום 31 בדצמבר של שנת הכספים שהסתיימה לפני 2023 או לתקופה אחרת לפי העניין | B30: 232636.38
A32: 9. שיעור שנתי של הוצאות ישירות שאינן מסוג עמלת ניהול חיצוני (חלוקה של סעיף 7 בסעיף 8) | B32: 0.0007806789
A34: הוצאות ישירות מסוג עמלת ניהול חיצוני
A35: 10 . סך דמי ניהול משתנים – החלק מתשלום עמלת ניהול חיצוני שנגזר מתשואת הנכסים | B35: 155.63201
A37: 11. סה"כ הוצאות ישירות מסוג "עמלת ניהול חיצוני" (סכום סעיפים 11.א עד11.ט) | B37: 360.90603
A38: א. סך תשלומים הנובעים מהשקעה בקרנות השקעה בישראל | B38: 175.63247
A39: ב. סך תשלומים הנובעים מהשקעה בקרנות השקעה בחו"ל | B39: 91.343339
A40: ג. סך תשלומים למנהלי תיקים ישראלים בגין השקעה בחו"ל | B40: 0
A41: ד. סך תשלומים למנהלי תיקים זרים | B41: 0
A42: ה. סך תשלומים בגין השקעה בקרנות סל כאשר 75 אחוזים לפחות מנכסי הקרן הם נכסים שהונפקו במדינת ישראל לפי מדדים שעליהם הורה הממונה ובתנאים שהורה | B42: 1.6985019
A43: ו. סך תשלומים בגין השקעה בקרנות סל כאשר 75 אחוזים לפחות מנכסי הקרן הם נכסים שלא הונפקו במדינת ישראל ואינם נסחרים או מוחזקים בה | B43: 59.691203
A44: ז. סך תשלומים בגין השקעה בקרנות נאמנות ישראליות כאשר 75 אחוזים לפחות מנכסי הקרן מושקעים בנכסים שלא הונפקו במדינת ישראל ואינם נסחרים או מוחזקים בה | B44: 2.9718517
A45: ח. סך תשלומים בגין השקעה בקרנות נאמנות זרות כאשר 75 אחוזים לפחות מנכסי הקרן מושקעים בנכסים שלא הונפקו במדינת ישראל ואינם נסחרים או מוחזקים בה | B45: 29.384611
A46: ט. סך תשלומים בגין השקעה בקרן טכנולוגיה עילית | B46: 0.18404744
A48: 12. שיעור עמלת ניהול חיצוני בפועל לפני החזר, ככל שבוצע (חלוקה של סעיף 11 בסעיף 8.ב) | B48: 0.001551374
... A52: 14. ההפרש בין שיעור מגבלת עמלת ניהול חיצוני מוצהרת לבין שיעור עמלת ניהול חיצוני בפועל (סעיף 13 פחות סעיף 12) | B52: 0.00094862599
A54: 15.א סכום שהוחזר לחוסכים (אם הוחזר)
A55: 15.ב שיעור עמלת ניהול חיצוני בפועל לאחר החזר, (חלוקה של התוצאה של סעיף 11 בניכוי סעיף 15א, בסעיף 8.ב) | B55: 0.001551374
A57: סך הכל הוצאות ישירות בפועל (למעט דמי ניהול משתנים כאמור בסעיף 10)
A59: 16. סך כל הוצאות ישירות (סכום של סעיף 7 וסעיף 11 בניכוי סעיף 15א) | B59: 540.16765
A61: 17. שיעור סך ההוצאות הישירות מתוך יתרת נכסים ממוצעת (חלוקה של סעיף 16 בסעיף 8) | B61: 0.0023524136
...

Sheet הכשרה לבני 60 ומעלה
A1: נספח 1- סך ההוצאות הישירות ששולמו בעד כל סוג של הוצאה ישירה לתקופה המסתיימת ביום 31.12.2024
A3: שם חברת הביטוח: הכשרה חברה לביטוח - הכשרה לבני 60 ומעלה | B3: אלפי ₪
A5: 31.12.2024 נספח 1- סך ההוצאות הישירות ששולמו בעד כל סוג של הוצאה ישירה לתקופה המסתיימת ביום
A7: הוצאות ישירות שאינן מסוג עמלת ניהול חיצוני
A8: 1. סך הכל עמלות קנייה ומכירה של ניירות ערך סחירים | B8: 39.351783
A9: א. סך עמלות קנייה ומכירה של ניירות ערך סחירים לצדדים קשורים
A10: ב. סך עמלות קנייה ומכירה של ניירות ערך סחירים לצדדים שאינם קשורים | B10: 39.351783
A12: 2. סך הכל דמי שמירה בשל ניירות ערך סחירים וכל עמלה שגובה מי שמבצע את משמרות ניירות הערך עמלות (קסטודיאן) | B12: 4.6428563
A13: א. סך עמלות קסטודיאן לצדדים קשורים
A14: ב. סך עמלות קסטודיאן לצדדים שאינם קשורים | B14: 4.6428563
A16: 3. סך הכל הוצאות הנובעות מהשקעות לא סחירות | B16: 3.9829878
A17: א. הוצאה הנובעת מהשקעה בניירות ערך לא סחירים או ממתן הלוואה למי שאינו עמית או מבוטח | B17: 3.9829878
A18: ב. הוצאה הנובעת מהשקעה בזכויות במקרקעין
A20: 4. מסים החלים על משקיע מוסדי, על נכסיו, על הכנסותיו ועל עסקאות שנעשו בנכסיו | B20: 81.074949
A22: 5. סך הוצאות בעד ניהול תביעות | B22: 0
A24: 6. סך הוצאות בעד מתן משכנתאות | B24: 0
A26: 7. סך הכל הוצאות ישירות שאינן מסוג עמלת ניהול חיצוני (סכום סעיפים 1 עד 6) | B26: 129.05258
A28: 8. שווי ממוצע של נכסי הקופה או המסלול (ממוצע פשוט של סעיפים8א ו- 8ב) | B28: 192774.58
A29: א. השווי המשוערך של נכסי הקופה או המסלול נכון ליום 31 בדצמבר של שנת הכספים שהסתיימה 2024 | B29: 195930.35
A30: ב. השווי המשוערך של נכסי הקופה או המסלול נכון ליום 31 בדצמבר של שנת הכספים שהסתיימה לפני 2023 או לתקופה אחרת לפי העניין | B30: 189618.82
A32: 9. שיעור שנתי של הוצאות ישירות שאינן מסוג עמלת ניהול חיצוני (חלוקה של סעיף 7 בסעיף 8) | B32: 0.00066944808
A34: הוצאות ישירות מסוג עמלת ניהול חיצוני
A35: 10 . סך דמי ניהול משתנים – החלק מתשלום עמלת ניהול חיצוני שנגזר מתשואת הנכסים | B35: 122.33785
A37: 11. סה"כ הוצאות ישירות מסוג "עמלת ניהול חיצוני" (סכום סעיפים 11.א עד11.ט) | B37: 252.14407
A38: א. סך תשלומים הנובעים מהשקעה בקרנות השקעה בישראל | B38: 127.82364
A39: ב. סך תשלומים הנובעים מהשקעה בקרנות השקעה בחו"ל | B39: 67.947532
A40: ג. סך תשלומים למנהלי תיקים ישראלים בגין השקעה בחו"ל | B40: 0
A41: ד. סך תשלומים למנהלי תיקים זרים | B41: 0
A42: ה. סך תשלומים בגין השקעה בקרנות סל כאשר 75 אחוזים לפחות מנכסי הקרן הם נכסים שהונפקו במדינת ישראל לפי מדדים שעליהם הורה הממונה ובתנאים שהורה | B42: 0.14988413
A43: ו. סך תשלומים בגין השקעה בקרנות סל כאשר 75 אחוזים לפחות מנכסי הקרן הם נכסים שלא הונפקו במדינת ישראל ואינם נסחרים או מוחזקים בה | B43: 35.039004
A44: ז. סך תשלומים בגין השקעה בקרנות נאמנות ישראליות כאשר 75 אחוזים לפחות מנכסי הקרן מושקעים בנכסים שלא הונפקו במדינת ישראל ואינם נסחרים או מוחזקים בה | B44: 1.8403145
A45: ח. סך תשלומים בגין השקעה בקרנות נאמנות זרות כאשר 75 אחוזים לפחות מנכסי הקרן מושקעים בנכסים שלא הונפקו במדינת ישראל ואינם נסחרים או מוחזקים בה | B45: 19.264491
A46: ט. סך תשלומים בגין השקעה בקרן טכנולוגיה עילית | B46: 0.079202388
A48: 12. שיעור עמלת ניהול חיצוני בפועל לפני החזר, ככל שבוצע (חלוקה של סעיף 11 בסעיף 8.ב) | B48: 0.0013297418
... A55: 15.ב שיעור עמלת ניהול חיצוני בפועל לאחר החזר, (חלוקה של התוצאה של סעיף 11 בניכוי סעיף 15א, בסעיף 8.ב) | B55: 0.0013297418
A57: סך הכל הוצאות ישירות בפועל (למעט דמי ניהול משתנים כאמור בסעיף 10)
A59: 16. סך כל הוצאות ישירות (סכום של סעיף 7 וסעיף 11 בניכוי סעיף 15א) | B59: 381.19665
A61: 17. שיעור סך ההוצאות הישירות מתוך יתרת נכסים ממוצעת (חלוקה של סעיף 16 בסעיף 8) | B61: 0.0019774217
A63: סך הכל הוצאות ישירות (לצורך חישוב שיעור עלות שנתית צפויה)
A64: 18. שיעור מגבלת עמלת ניהול חיצוני שהמשקיע המוסדי הצהיר עליה בהתאם לתקנה 2א לתקנות הוצאות ישירות עבור שנת הכספים הבאה | B64: 0.0025
...

Sheet הכשרה מקבלי קצבה
A1: נספח 1- סך ההוצאות הישירות ששולמו בעד כל סוג של הוצאה ישירה לתקופה המסתיימת ביום 31.12.2024
A3: שם חברת הביטוח: הכשרה חברה לביטוח - הכשרה מקבלי קצבה | B3: אלפי ₪
A5: 31.12.2024 נספח 1- סך ההוצאות הישירות ששולמו בעד כל סוג של הוצאה ישירה לתקופה המסתיימת ביום
A7: הוצאות ישירות שאינן מסוג עמלת ניהול חיצוני
A8: 1. סך הכל עמלות קנייה ומכירה של ניירות ערך סחירים | B8: 80.523723
A9: א. סך עמלות קנייה ומכירה של ניירות ערך סחירים לצדדים קשורים
A10: ב. סך עמלות קנייה ומכירה של ניירות ערך סחירים לצדדים שאינם קשורים | B10: 80.523723
A12: 2. סך הכל דמי שמירה בשל ניירות ערך סחירים וכל עמלה שגובה מי שמבצע את משמרות ניירות הערך עמלות (קסטודיאן) | B12: 4.5896291
A13: א. סך עמלות קסטודיאן לצדדים קשורים
A14: ב. סך עמלות קסטודיאן לצדדים שאינם קשורים | B14: 4.5896291
A16: 3. סך הכל הוצאות הנובעות מהשקעות לא סחירות | B16: 2.537032
A17: א. הוצאה הנובעת מהשקעה בניירות ערך לא סחירים או ממתן הלוואה למי שאינו עמית או מבוטח | B17: 2.537032
A18: ב. הוצאה הנובעת מהשקעה בזכויות במקרקעין
A20: 4. מסים החלים על משקיע מוסדי, על נכסיו, על הכנסותיו ועל עסקאות שנעשו בנכסיו | B20: 71.049965
A22: 5. סך הוצאות בעד ניהול תביעות | B22: 0
A24: 6. סך הוצאות בעד מתן משכנתאות | B24: 0
A26: 7. סך הכל הוצאות ישירות שאינן מסוג עמלת ניהול חיצוני (סכום סעיפים 1 עד 6) | B26: 158.70035
A28: 8. שווי ממוצע של נכסי הקופה או המסלול (ממוצע פשוט של סעיפים8א ו- 8ב) | B28: 317328.32
A29: א. השווי המשוערך של נכסי הקופה או המסלול נכון ליום 31 בדצמבר של שנת הכספים שהסתיימה 2024 | B29: 348795.78
A30: ב. השווי המשוערך של נכסי הקופה או המסלול נכון ליום 31 בדצמבר של שנת הכספים שהסתיימה לפני 2023 או לתקופה אחרת לפי העניין | B30: 285860.85
A32: 9. שיעור שנתי של הוצאות ישירות שאינן מסוג עמלת ניהול חיצוני (חלוקה של סעיף 7 בסעיף 8) | B32: 0.00050011405
A34: הוצאות ישירות מסוג עמלת ניהול חיצוני
A35: 10 . סך דמי ניהול משתנים – החלק מתשלום עמלת ניהול חיצוני שנגזר מתשואת הנכסים | B35: 139.07824
A37: 11. סה"כ הוצאות ישירות מסוג "עמלת ניהול חיצוני" (סכום סעיפים 11.א עד11.ט) | B37: 459.02595
A38: א. סך תשלומים הנובעים מהשקעה בקרנות השקעה בישראל | B38: 234.31889
A39: ב. סך תשלומים הנובעים מהשקעה בקרנות השקעה בחו"ל | B39: 133.19236
A40: ג. סך תשלומים למנהלי תיקים ישראלים בגין השקעה בחו"ל | B40: 0
A41: ד. סך תשלומים למנהלי תיקים זרים | B41: 0
A42: ה. סך תשלומים בגין השקעה בקרנות סל כאשר 75 אחוזים לפחות מנכסי הקרן הם נכסים שהונפקו במדינת ישראל לפי מדדים שעליהם הורה הממונה ובתנאים שהורה | B42: 2.8419176
A43: ו. סך תשלומים בגין השקעה בקרנות סל כאשר 75 אחוזים לפחות מנכסי הקרן הם נכסים שלא הונפקו במדינת ישראל ואינם נסחרים או מוחזקים בה | B43: 50.60813
A44: ז. סך תשלומים בגין השקעה בקרנות נאמנות ישראליות כאשר 75 אחוזים לפחות מנכסי הקרן מושקעים בנכסים שלא הונפקו במדינת ישראל ואינם נסחרים או מוחזקים בה | B44: 3.9670634
A45: ח. סך תשלומים בגין השקעה בקרנות נאמנות זרות כאשר 75 אחוזים לפחות מנכסי הקרן מושקעים בנכסים שלא הונפקו במדינת ישראל ואינם נסחרים או מוחזקים בה | B45: 34.085443
A46: ט. סך תשלומים בגין השקעה בקרן טכנולוגיה עילית | B46: 0.012154226
A48: 12. שיעור עמלת ניהול חיצוני בפועל לפני החזר, ככל שבוצע (חלוקה של סעיף 11 בסעיף 8.ב) | B48: 0.0016057671
... A55: 15.ב שיעור עמלת ניהול חיצוני בפועל לאחר החזר, (חלוקה של התוצאה של סעיף 11 בניכוי סעיף 15א, בסעיף 8.ב) | B55: 0.0016057671
A57: סך הכל הוצאות ישירות בפועל (למעט דמי ניהול משתנים כאמור בסעיף 10)
A59: 16. סך כל הוצאות ישירות (סכום של סעיף 7 וסעיף 11 בניכוי סעיף 15א) | B59: 617.7263
A61: 17. שיעור סך ההוצאות הישירות מתוך יתרת נכסים ממוצעת (חלוקה של סעיף 16 בסעיף 8) | B61: 0.0019466473
A63: סך הכל הוצאות ישירות (לצורך חישוב שיעור עלות שנתית צפויה)
A64: 18. שיעור מגבלת עמלת ניהול חיצוני שהמשקיע המוסדי הצהיר עליה בהתאם לתקנה 2א לתקנות הוצאות ישירות עבור שנת הכספים הבאה | B64: 0.0025
...

Sheet הכשרה אשראי ואג"ח
A1: נספח 1- סך ההוצאות הישירות ששולמו בעד כל סוג של הוצאה ישירה לתקופה המסתיימת ביום 31.12.2024
A3: שם חברת הביטוח: הכשרה חברה לביטוח - הכשרה אג"ח | B3: אלפי ₪
A5: 31.12.2024 נספח 1- סך ההוצאות הישירות ששולמו בעד כל סוג של הוצאה ישירה לתקופה המסתיימת ביום
A7: הוצאות ישירות שאינן מסוג עמלת ניהול חיצוני
A8: 1. סך הכל עמלות קנייה ומכירה של ניירות ערך סחירים | B8: 127.80061
A9: א. סך עמלות קנייה ומכירה של ניירות ערך סחירים לצדדים קשורים
A10: ב. סך עמלות קנייה ומכירה של ניירות ערך סחירים לצדדים שאינם קשורים | B10: 127.80061
A12: 2. סך הכל דמי שמירה בשל ניירות ערך סחירים וכל עמלה שגובה מי שמבצע את משמרות ניירות הערך עמלות (קסטודיאן) | B12: 1.4482946
A13: א. סך עמלות קסטודיאן לצדדים קשורים
A14: ב. סך עמלות קסטודיאן לצדדים שאינם קשורים | B14: 1.4482946
A16: 3. סך הכל הוצאות הנובעות מהשקעות לא סחירות | B16: 1.157
A17: א. הוצאה הנובעת מהשקעה בניירות ערך לא סחירים או ממתן הלוואה למי שאינו עמית או מבוטח | B17: 1.157
A18: ב. הוצאה הנובעת מהשקעה בזכויות במקרקעין
A20: 4. מסים החלים על משקיע מוסדי, על נכסיו, על הכנסותיו ועל עסקאות שנעשו בנכסיו | B20: 14.093804
A22: 5. סך הוצאות בעד ניהול תביעות | B22: 0
A24: 6. סך הוצאות בעד מתן משכנתאות | B24: 0
A26: 7. סך הכל הוצאות ישירות שאינן מסוג עמלת ניהול חיצוני (סכום סעיפים 1 עד 6) | B26: 144.49971
A28: 8. שווי ממוצע של נכסי הקופה או המסלול (ממוצע פשוט של סעיפים8א ו- 8ב) | B28: 458302.61
A29: א. השווי המשוערך של נכסי הקופה או המסלול נכון ליום 31 בדצמבר של שנת הכספים שהסתיימה 2024 | B29: 508641.7
A30: ב. השווי המשוערך של נכסי הקופה או המסלול נכון ליום 31 בדצמבר של שנת הכספים שהסתיימה לפני 2023 או לתקופה אחרת לפי העניין | B30: 407963.52
A32: 9. שיעור שנתי של הוצאות ישירות שאינן מסוג עמלת ניהול חיצוני (חלוקה של סעיף 7 בסעיף 8) | B32: 0.00031529322
A34: הוצאות ישירות מסוג עמלת ניהול חיצוני
A35: 10 . סך דמי ניהול משתנים – החלק מתשלום עמלת ניהול חיצוני שנגזר מתשואת הנכסים | B35: 1273.4371
A37: 11. סה"כ הוצאות ישירות מסוג "עמלת ניהול חיצוני" (סכום סעיפים 11.א עד11.ט) | B37: 1755.107
A38: א. סך תשלומים הנובעים מהשקעה בקרנות השקעה בישראל | B38: 275.66147
A39: ב. סך תשלומים הנובעים מהשקעה בקרנות השקעה בחו"ל | B39: 664.41971
A40: ג. סך תשלומים למנהלי תיקים ישראלים בגין השקעה בחו"ל | B40: 0
A41: ד. סך תשלומים למנהלי תיקים זרים | B41: 0
A42: ה. סך תשלומים בגין השקעה בקרנות סל כאשר 75 אחוזים לפחות מנכסי הקרן הם נכסים שהונפקו במדינת ישראל לפי מדדים שעליהם הורה הממונה ובתנאים שהורה | B42: 0
A43: ו. סך תשלומים בגין השקעה בקרנות סל כאשר 75 אחוזים לפחות מנכסי הקרן הם נכסים שלא הונפקו במדינת ישראל ואינם נסחרים או מוחזקים בה | B43: 10.890327
A44: ז. סך תשלומים בגין השקעה בקרנות נאמנות ישראליות כאשר 75 אחוזים לפחות מנכסי הקרן מושקעים בנכסים שלא הונפקו במדינת ישראל ואינם נסחרים או מוחזקים בה | B44: 0
A45: ח. סך תשלומים בגין השקעה בקרנות נאמנות זרות כאשר 75 אחוזים לפחות מנכסי הקרן מושקעים בנכסים שלא הונפקו במדינת ישראל ואינם נסחרים או מוחזקים בה | B45: 804.1355
A46: ט. סך תשלומים בגין השקעה בקרן טכנולוגיה עילית | B46: 0
A48: 12. שיעור עמלת ניהול חיצוני בפועל לפני החזר, ככל שבוצע (חלוקה של סעיף 11 בסעיף 8.ב) | B48: 0.0043021175
... A55: 15.ב שיעור עמלת ניהול חיצוני בפועל לאחר החזר, (חלוקה של התוצאה של סעיף 11 בניכוי סעיף 15א, בסעיף 8.ב) | B55: 0.0043021175
A57: סך הכל הוצאות ישירות בפועל (למעט דמי ניהול משתנים כאמור בסעיף 10)
A59: 16. סך כל הוצאות ישירות (סכום של סעיף 7 וסעיף 11 בניכוי סעיף 15א) | B59: 1899.6067
A61: 17. שיעור סך ההוצאות הישירות מתוך יתרת נכסים ממוצעת (חלוקה של סעיף 16 בסעיף 8) | B61: 0.0041448743
A63: סך הכל הוצאות ישירות (לצורך חישוב שיעור עלות שנתית צפויה)
A64: 18. שיעור מגבלת עמלת ניהול חיצוני שהמשקיע המוסדי הצהיר עליה בהתאם לתקנה 2א לתקנות הוצאות ישירות עבור שנת הכספים הבאה | B64: 0.005
...

Sheet הכשרה אשראי ואג"ח עד 25%
A1: נספח 1- סך ההוצאות הישירות ששולמו בעד כל סוג של הוצאה ישירה לתקופה המסתיימת ביום 31.12.2024
A3: שם חברת הביטוח: הכשרה חברה לביטוח - הכשרה אשראי ואג"ח עד 25% | B3: אלפי ₪
A5: 31.12.2024 נספח 1- סך ההוצאות הישירות ששולמו בעד כל סוג של הוצאה ישירה לתקופה המסתיימת ביום
A7: הוצאות ישירות שאינן מסוג עמלת ניהול חיצוני
A8: 1. סך הכל עמלות קנייה ומכירה של ניירות ערך סחירים | B8: 35.836753
A9: א. סך עמלות קנייה ומכירה של ניירות ערך סחירים לצדדים קשורים
A10: ב. סך עמלות קנייה ומכירה של ניירות ערך סחירים לצדדים שאינם קשורים | B10: 35.836753
A12: 2. סך הכל דמי שמירה בשל ניירות ערך סחירים וכל עמלה שגובה מי שמבצע את משמרות ניירות הערך עמלות (קסטודיאן) | B12: 0.14089592
A13: א. סך עמלות קסטודיאן לצדדים קשורים
A14: ב. סך עמלות קסטודיאן לצדדים שאינם קשורים | B14: 0.14089592
A16: 3. סך הכל הוצאות הנובעות מהשקעות לא סחירות | B16: 0.232
A17: א. הוצאה הנובעת מהשקעה בניירות ערך לא סחירים או ממתן הלוואה למי שאינו עמית או מבוטח | B17: 0.232
A18: ב. הוצאה הנובעת מהשקעה בזכויות במקרקעין
A20: 4. מסים החלים על משקיע מוסדי, על נכסיו, על הכנסותיו ועל עסקאות שנעשו בנכסיו | B20: 3.3446895
A22: 5. סך הוצאות בעד ניהול תביעות | B22: 0
A24: 6. סך הוצאות בעד מתן משכנתאות | B24: 0
A26: 7. סך הכל הוצאות ישירות שאינן מסוג עמלת ניהול חיצוני (סכום סעיפים 1 עד 6) | B26: 39.554339
A28: 8. שווי ממוצע של נכסי הקופה או המסלול (ממוצע פשוט של סעיפים8א ו- 8ב) | B28: 100886.07
A29: א. השווי המשוערך של נכסי הקופה או המסלול נכון ליום 31 בדצמבר של שנת הכספים שהסתיימה 2024 | B29: 123465.26
A30: ב. השווי המשוערך של נכסי הקופה או המסלול נכון ליום 31 בדצמבר של שנת הכספים שהסתיימה לפני 2023 או לתקופה אחרת לפי העניין | B30: 78306.884
A32: 9. שיעור שנתי של הוצאות ישירות שאינן מסוג עמלת ניהול חיצוני (חלוקה של סעיף 7 בסעיף 8) | B32: 0.00039206937
A34: הוצאות ישירות מסוג עמלת ניהול חיצוני
A35: 10 . סך דמי ניהול משתנים – החלק מתשלום עמלת ניהול חיצוני שנגזר מתשואת הנכסים | B35: 0
A37: 11. סה"כ הוצאות ישירות מסוג "עמלת ניהול חיצוני" (סכום סעיפים 11.א עד11.ט) | B37: 36.596709
A38: א. סך תשלומים הנובעים מהשקעה בקרנות השקעה בישראל | B38: 0
A39: ב. סך תשלומים הנובעים מהשקעה בקרנות השקעה בחו"ל | B39: 0.723
A40: ג. סך תשלומים למנהלי תיקים ישראלים בגין השקעה בחו"ל | B40: 0
A41: ד. סך תשלומים למנהלי תיקים זרים | B41: 0
A42: ה. סך תשלומים בגין השקעה בקרנות סל כאשר 75 אחוזים לפחות מנכסי הקרן הם נכסים שהונפקו במדינת ישראל לפי מדדים שעליהם הורה הממונה ובתנאים שהורה | B42: 0.037279169
A43: ו. סך תשלומים בגין השקעה בקרנות סל כאשר 75 אחוזים לפחות מנכסי הקרן הם נכסים שלא הונפקו במדינת ישראל ואינם נסחרים או מוחזקים בה | B43: 3.1083427
A44: ז. סך תשלומים בגין השקעה בקרנות נאמנות ישראליות כאשר 75 אחוזים לפחות מנכסי הקרן מושקעים בנכסים שלא הונפקו במדינת ישראל ואינם נסחרים או מוחזקים בה | B44: 0
A45: ח. סך תשלומים בגין השקעה בקרנות נאמנות זרות כאשר 75 אחוזים לפחות מנכסי הקרן מושקעים בנכסים שלא הונפקו במדינת ישראל ואינם נסחרים או מוחזקים בה | B45: 32.728087
A46: ט. סך תשלומים בגין השקעה בקרן טכנולוגיה עילית | B46: 0
A48: 12. שיעור עמלת ניהול חיצוני בפועל לפני החזר, ככל שבוצע (חלוקה של סעיף 11 בסעיף 8.ב) | B48: 0.00046734983
... A55: 15.ב שיעור עמלת ניהול חיצוני בפועל לאחר החזר, (חלוקה של התוצאה של סעיף 11 בניכוי סעיף 15א, בסעיף 8.ב) | B55: 0.00046734983
A57: סך הכל הוצאות ישירות בפועל (למעט דמי ניהול משתנים כאמור בסעיף 10)
A59: 16. סך כל הוצאות ישירות (סכום של סעיף 7 וסעיף 11 בניכוי סעיף 15א) | B59: 76.151048
A61: 17. שיעור סך ההוצאות הישירות מתוך יתרת נכסים ממוצעת (חלוקה של סעיף 16 בסעיף 8) | B61: 0.00075482221
A63: סך הכל הוצאות ישירות (לצורך חישוב שיעור עלות שנתית צפויה)
A64: 18. שיעור מגבלת עמלת ניהול חיצוני שהמשקיע המוסדי הצהיר עליה בהתאם לתקנה 2א לתקנות הוצאות ישירות עבור שנת הכספים הבאה | B64: 0.0015
...

Sheet הכשרה עוקב מדדים גמיש
A1: נספח 1- סך ההוצאות הישירות ששולמו בעד כל סוג של הוצאה ישירה לתקופה המסתיימת ביום 31.12.2024
A3: שם חברת הביטוח: הכשרה חברה לביטוח - הכשרה עוקב מדדים גמיש | B3: אלפי ₪
A5: 31.12.2024 נספח 1- סך ההוצאות הישירות ששולמו בעד כל סוג של הוצאה ישירה לתקופה המסתיימת ביום
A7: הוצאות ישירות שאינן מסוג עמלת ניהול חיצוני
A8: 1. סך הכל עמלות קנייה ומכירה של ניירות ערך סחירים | B8: 6.2779132
A9: א. סך עמלות קנייה ומכירה של ניירות ערך סחירים לצדדים קשורים
A10: ב. סך עמלות קנייה ומכירה של ניירות ערך סחירים לצדדים שאינם קשורים | B10: 6.2779132
A12: 2. סך הכל דמי שמירה בשל ניירות ערך סחירים וכל עמלה שגובה מי שמבצע את משמרות ניירות הערך עמלות (קסטודיאן) | B12: 0
A13: א. סך עמלות קסטודיאן לצדדים קשורים
A14: ב. סך עמלות קסטודיאן לצדדים שאינם קשורים | B14: 0
A16: 3. סך הכל הוצאות הנובעות מהשקעות לא סחירות | B16: 0
A17: א. הוצאה הנובעת מהשקעה בניירות ערך לא סחירים או ממתן הלוואה למי שאינו עמית או מבוטח | B17: 0
A18: ב. הוצאה הנובעת מהשקעה בזכויות במקרקעין
A20: 4. מסים החלים על משקיע מוסדי, על נכסיו, על הכנסותיו ועל עסקאות שנעשו בנכסיו | B20: 10.028616
A22: 5. סך הוצאות בעד ניהול תביעות | B22: 0
A24: 6. סך הוצאות בעד מתן משכנתאות | B24: 0
